| Back to Multiple platform build/check report for BioC 3.13 |
|
This page was generated on 2021-10-15 15:05:48 -0400 (Fri, 15 Oct 2021).
|
To the developers/maintainers of the PharmacoGx package: - Please allow up to 24 hours (and sometimes 48 hours) for your latest push to git@git.bioconductor.org:packages/PharmacoGx.git to reflect on this report. See How and When does the builder pull? When will my changes propagate? here for more information. - Make sure to use the following settings in order to reproduce any error or warning you see on this page. |
| Package 1378/2041 | Hostname | OS / Arch | INSTALL | BUILD | CHECK | BUILD BIN | ||||||||
| PharmacoGx 2.4.0 (landing page) Benjamin Haibe-Kains
| nebbiolo1 | Linux (Ubuntu 20.04.2 LTS) / x86_64 | OK | OK | OK | |||||||||
| tokay2 | Windows Server 2012 R2 Standard / x64 | OK | OK | OK | OK | |||||||||
| machv2 | macOS 10.14.6 Mojave / x86_64 | OK | OK | OK | OK | |||||||||
| Package: PharmacoGx |
| Version: 2.4.0 |
| Command: /home/biocbuild/bbs-3.13-bioc/R/bin/R CMD check --install=check:PharmacoGx.install-out.txt --library=/home/biocbuild/bbs-3.13-bioc/R/library --no-vignettes --timings PharmacoGx_2.4.0.tar.gz |
| StartedAt: 2021-10-14 11:00:37 -0400 (Thu, 14 Oct 2021) |
| EndedAt: 2021-10-14 11:05:34 -0400 (Thu, 14 Oct 2021) |
| EllapsedTime: 296.9 seconds |
| RetCode: 0 |
| Status: OK |
| CheckDir: PharmacoGx.Rcheck |
| Warnings: 0 |
##############################################################################
##############################################################################
###
### Running command:
###
### /home/biocbuild/bbs-3.13-bioc/R/bin/R CMD check --install=check:PharmacoGx.install-out.txt --library=/home/biocbuild/bbs-3.13-bioc/R/library --no-vignettes --timings PharmacoGx_2.4.0.tar.gz
###
##############################################################################
##############################################################################
* using log directory ‘/home/biocbuild/bbs-3.13-bioc/meat/PharmacoGx.Rcheck’
* using R version 4.1.1 (2021-08-10)
* using platform: x86_64-pc-linux-gnu (64-bit)
* using session charset: UTF-8
* using option ‘--no-vignettes’
* checking for file ‘PharmacoGx/DESCRIPTION’ ... OK
* checking extension type ... Package
* this is package ‘PharmacoGx’ version ‘2.4.0’
* package encoding: UTF-8
* checking package namespace information ... OK
* checking package dependencies ... OK
* checking if this is a source package ... OK
* checking if there is a namespace ... OK
* checking for hidden files and directories ... OK
* checking for portable file names ... OK
* checking for sufficient/correct file permissions ... OK
* checking whether package ‘PharmacoGx’ can be installed ... OK
* checking installed package size ... OK
* checking package directory ... OK
* checking ‘build’ directory ... OK
* checking DESCRIPTION meta-information ... OK
* checking top-level files ... OK
* checking for left-over files ... OK
* checking index information ... OK
* checking package subdirectories ... OK
* checking R files for non-ASCII characters ... OK
* checking R files for syntax errors ... OK
* checking whether the package can be loaded ... OK
* checking whether the package can be loaded with stated dependencies ... OK
* checking whether the package can be unloaded cleanly ... OK
* checking whether the namespace can be loaded with stated dependencies ... OK
* checking whether the namespace can be unloaded cleanly ... OK
* checking dependencies in R code ... OK
* checking S3 generic/method consistency ... OK
* checking replacement functions ... OK
* checking foreign function calls ... OK
* checking R code for possible problems ... OK
* checking Rd files ... OK
* checking Rd metadata ... OK
* checking Rd cross-references ... OK
* checking for missing documentation entries ... OK
* checking for code/documentation mismatches ... OK
* checking Rd \usage sections ... OK
* checking Rd contents ... OK
* checking for unstated dependencies in examples ... OK
* checking contents of ‘data’ directory ... OK
* checking data for non-ASCII characters ... NOTE
Note: found 2251 marked UTF-8 strings
* checking data for ASCII and uncompressed saves ... OK
* checking files in ‘vignettes’ ... OK
* checking examples ... OK
Examples with CPU (user + system) or elapsed time > 5s
user system elapsed
PharmacoSet-accessors 3.343 4.533 7.879
* checking for unstated dependencies in ‘tests’ ... OK
* checking tests ...
Running ‘testthat.R’
OK
* checking for unstated dependencies in vignettes ... OK
* checking package vignettes in ‘inst/doc’ ... OK
* checking running R code from vignettes ... SKIPPED
* checking re-building of vignette outputs ... SKIPPED
* checking PDF version of manual ... OK
* DONE
Status: 1 NOTE
See
‘/home/biocbuild/bbs-3.13-bioc/meat/PharmacoGx.Rcheck/00check.log’
for details.
PharmacoGx.Rcheck/00install.out
############################################################################## ############################################################################## ### ### Running command: ### ### /home/biocbuild/bbs-3.13-bioc/R/bin/R CMD INSTALL PharmacoGx ### ############################################################################## ############################################################################## * installing to library ‘/home/biocbuild/bbs-3.13-bioc/R/library’ * installing *source* package ‘PharmacoGx’ ... ** using staged installation ** R ** data ** inst ** byte-compile and prepare package for lazy loading ** help *** installing help indices ** building package indices ** installing vignettes ** testing if installed package can be loaded from temporary location ** testing if installed package can be loaded from final location ** testing if installed package keeps a record of temporary installation path * DONE (PharmacoGx)
PharmacoGx.Rcheck/tests/testthat.Rout
R version 4.1.1 (2021-08-10) -- "Kick Things"
Copyright (C) 2021 The R Foundation for Statistical Computing
Platform: x86_64-pc-linux-gnu (64-bit)
R is free software and comes with ABSOLUTELY NO WARRANTY.
You are welcome to redistribute it under certain conditions.
Type 'license()' or 'licence()' for distribution details.
R is a collaborative project with many contributors.
Type 'contributors()' for more information and
'citation()' on how to cite R or R packages in publications.
Type 'demo()' for some demos, 'help()' for on-line help, or
'help.start()' for an HTML browser interface to help.
Type 'q()' to quit R.
> Sys.unsetenv("R_TESTS")
>
> library(testthat)
> library(PharmacoGx)
Loading required package: CoreGx
Loading required package: BiocGenerics
Loading required package: parallel
Attaching package: ‘BiocGenerics’
The following objects are masked from ‘package:parallel’:
clusterApply, clusterApplyLB, clusterCall, clusterEvalQ,
clusterExport, clusterMap, parApply, parCapply, parLapply,
parLapplyLB, parRapply, parSapply, parSapplyLB
The following objects are masked from ‘package:stats’:
IQR, mad, sd, var, xtabs
The following objects are masked from ‘package:base’:
Filter, Find, Map, Position, Reduce, anyDuplicated, append,
as.data.frame, basename, cbind, colnames, dirname, do.call,
duplicated, eval, evalq, get, grep, grepl, intersect, is.unsorted,
lapply, mapply, match, mget, order, paste, pmax, pmax.int, pmin,
pmin.int, rank, rbind, rownames, sapply, setdiff, sort, table,
tapply, union, unique, unsplit, which.max, which.min
Loading required package: SummarizedExperiment
Loading required package: MatrixGenerics
Loading required package: matrixStats
Attaching package: ‘MatrixGenerics’
The following objects are masked from ‘package:matrixStats’:
colAlls, colAnyNAs, colAnys, colAvgsPerRowSet, colCollapse,
colCounts, colCummaxs, colCummins, colCumprods, colCumsums,
colDiffs, colIQRDiffs, colIQRs, colLogSumExps, colMadDiffs,
colMads, colMaxs, colMeans2, colMedians, colMins, colOrderStats,
colProds, colQuantiles, colRanges, colRanks, colSdDiffs, colSds,
colSums2, colTabulates, colVarDiffs, colVars, colWeightedMads,
colWeightedMeans, colWeightedMedians, colWeightedSds,
colWeightedVars, rowAlls, rowAnyNAs, rowAnys, rowAvgsPerColSet,
rowCollapse, rowCounts, rowCummaxs, rowCummins, rowCumprods,
rowCumsums, rowDiffs, rowIQRDiffs, rowIQRs, rowLogSumExps,
rowMadDiffs, rowMads, rowMaxs, rowMeans2, rowMedians, rowMins,
rowOrderStats, rowProds, rowQuantiles, rowRanges, rowRanks,
rowSdDiffs, rowSds, rowSums2, rowTabulates, rowVarDiffs, rowVars,
rowWeightedMads, rowWeightedMeans, rowWeightedMedians,
rowWeightedSds, rowWeightedVars
Loading required package: GenomicRanges
Loading required package: stats4
Loading required package: S4Vectors
Attaching package: ‘S4Vectors’
The following objects are masked from ‘package:base’:
I, expand.grid, unname
Loading required package: IRanges
Loading required package: GenomeInfoDb
Loading required package: Biobase
Welcome to Bioconductor
Vignettes contain introductory material; view with
'browseVignettes()'. To cite Bioconductor, see
'citation("Biobase")', and for packages 'citation("pkgname")'.
Attaching package: ‘Biobase’
The following object is masked from ‘package:MatrixGenerics’:
rowMedians
The following objects are masked from ‘package:matrixStats’:
anyMissing, rowMedians
Attaching package: ‘PharmacoGx’
The following objects are masked from ‘package:CoreGx’:
.parseToRoxygen, amcc, connectivityScore, cosinePerm, gwc, mcc
>
> test_check("PharmacoGx")
[1] NA 3
[1] 1 2 Inf
[1] NA 3
[1] 1 2 Inf
|
| | 0%
|
|======================================================================| 100%
|
| | 0%
|
|======================================================================| 100%
[1] 1 1 -1
[1] 0
[1] 0
[,1] [,2] [,3]
lower_bounds 0 0 0
upper_bounds 1 1 -1
|
| | 0%
|
|======================================================================| 100%
|
| | 0%
|
|======================================================================| 100%
|
| | 0%
|
|======================================================================| 100%
|
| | 0%
|
|======================================================================| 100%
|
| | 0%
|
|======================================================================| 100%
|
| | 0%
|
|======================================================================| 100%
|
| | 0%
|
|======================================================================| 100%
[ FAIL 0 | WARN 0 | SKIP 0 | PASS 127 ]
>
> proc.time()
user system elapsed
65.672 1.482 67.160
PharmacoGx.Rcheck/PharmacoGx-Ex.timings
| name | user | system | elapsed | |
| PharmacoSet-accessors | 3.343 | 4.533 | 7.879 | |
| PharmacoSet | 0.002 | 0.000 | 0.002 | |
| amcc | 2.234 | 0.078 | 2.308 | |
| availablePSets | 0 | 0 | 0 | |
| callingWaterfall | 0 | 0 | 0 | |
| checkPsetStructure | 1.259 | 0.035 | 1.294 | |
| computeABC | 0.642 | 0.012 | 0.654 | |
| computeAUC | 0.504 | 0.004 | 0.508 | |
| computeAmax | 0.418 | 0.008 | 0.426 | |
| computeICn | 0.848 | 0.000 | 0.849 | |
| computeSlope | 0.001 | 0.000 | 0.001 | |
| connectivityScore | 0.048 | 0.008 | 0.055 | |
| cosinePerm | 0.031 | 0.000 | 0.031 | |
| downloadPSet | 0 | 0 | 0 | |
| downloadPertSig | 0 | 0 | 0 | |
| drugDoseResponseCurve | 0.001 | 0.000 | 0.001 | |
| drugNames-set | 1.027 | 0.028 | 1.056 | |
| drugNames | 0.940 | 0.027 | 0.971 | |
| drugPerturbationSig | 2.159 | 0.030 | 2.188 | |
| drugSensitivitySig-PharmacoSet-method | 1.147 | 0.005 | 1.150 | |
| filterNoisyCurves | 0.668 | 0.028 | 0.696 | |
| gwc | 0.967 | 0.032 | 1.000 | |
| intersectPSet | 1.084 | 0.060 | 1.144 | |
| logLogisticRegression | 0.41 | 0.00 | 0.41 | |
| mcc | 1.488 | 0.044 | 1.532 | |
| plot.PharmacoSig | 1.396 | 0.023 | 1.438 | |
| show-PharmacoSet-method | 0.937 | 0.040 | 0.976 | |
| show-PharmacoSig-method | 1.056 | 0.009 | 1.069 | |
| showSigAnnot-PharmacoSig-method | 1.056 | 0.006 | 1.080 | |
| sub-PharmacoSet-ANY-ANY-ANY-method | 1.037 | 0.025 | 1.062 | |
| subsetTo-PharmacoSet-method | 1.144 | 0.040 | 1.185 | |
| summarizeMolecularProfiles-PharmacoSet-method | 0.191 | 0.000 | 0.192 | |
| summarizeSensitivityProfiles-PharmacoSet-method | 0.055 | 0.000 | 0.056 | |