| Back to Multiple platform build/check report for BioC 3.13 |
|
This page was generated on 2021-10-15 15:05:48 -0400 (Fri, 15 Oct 2021).
|
To the developers/maintainers of the PepsNMR package: - Please allow up to 24 hours (and sometimes 48 hours) for your latest push to git@git.bioconductor.org:packages/PepsNMR.git to reflect on this report. See How and When does the builder pull? When will my changes propagate? here for more information. - Make sure to use the following settings in order to reproduce any error or warning you see on this page. |
| Package 1369/2041 | Hostname | OS / Arch | INSTALL | BUILD | CHECK | BUILD BIN | ||||||||
| PepsNMR 1.10.1 (landing page) Manon Martin
| nebbiolo1 | Linux (Ubuntu 20.04.2 LTS) / x86_64 | OK | OK | OK | |||||||||
| tokay2 | Windows Server 2012 R2 Standard / x64 | OK | OK | OK | OK | |||||||||
| machv2 | macOS 10.14.6 Mojave / x86_64 | OK | OK | OK | OK | |||||||||
| Package: PepsNMR |
| Version: 1.10.1 |
| Command: /home/biocbuild/bbs-3.13-bioc/R/bin/R CMD check --install=check:PepsNMR.install-out.txt --library=/home/biocbuild/bbs-3.13-bioc/R/library --no-vignettes --timings PepsNMR_1.10.1.tar.gz |
| StartedAt: 2021-10-14 10:59:26 -0400 (Thu, 14 Oct 2021) |
| EndedAt: 2021-10-14 11:08:32 -0400 (Thu, 14 Oct 2021) |
| EllapsedTime: 546.1 seconds |
| RetCode: 0 |
| Status: OK |
| CheckDir: PepsNMR.Rcheck |
| Warnings: 0 |
##############################################################################
##############################################################################
###
### Running command:
###
### /home/biocbuild/bbs-3.13-bioc/R/bin/R CMD check --install=check:PepsNMR.install-out.txt --library=/home/biocbuild/bbs-3.13-bioc/R/library --no-vignettes --timings PepsNMR_1.10.1.tar.gz
###
##############################################################################
##############################################################################
* using log directory ‘/home/biocbuild/bbs-3.13-bioc/meat/PepsNMR.Rcheck’
* using R version 4.1.1 (2021-08-10)
* using platform: x86_64-pc-linux-gnu (64-bit)
* using session charset: UTF-8
* using option ‘--no-vignettes’
* checking for file ‘PepsNMR/DESCRIPTION’ ... OK
* checking extension type ... Package
* this is package ‘PepsNMR’ version ‘1.10.1’
* package encoding: UTF-8
* checking package namespace information ... OK
* checking package dependencies ... OK
* checking if this is a source package ... OK
* checking if there is a namespace ... OK
* checking for hidden files and directories ... OK
* checking for portable file names ... OK
* checking for sufficient/correct file permissions ... OK
* checking whether package ‘PepsNMR’ can be installed ... OK
* checking installed package size ... OK
* checking package directory ... OK
* checking ‘build’ directory ... OK
* checking DESCRIPTION meta-information ... OK
* checking top-level files ... OK
* checking for left-over files ... OK
* checking index information ... OK
* checking package subdirectories ... OK
* checking R files for non-ASCII characters ... OK
* checking R files for syntax errors ... OK
* checking whether the package can be loaded ... OK
* checking whether the package can be loaded with stated dependencies ... OK
* checking whether the package can be unloaded cleanly ... OK
* checking whether the namespace can be loaded with stated dependencies ... OK
* checking whether the namespace can be unloaded cleanly ... OK
* checking dependencies in R code ... OK
* checking S3 generic/method consistency ... OK
* checking replacement functions ... OK
* checking foreign function calls ... OK
* checking R code for possible problems ... OK
* checking Rd files ... OK
* checking Rd metadata ... OK
* checking Rd cross-references ... OK
* checking for missing documentation entries ... OK
* checking for code/documentation mismatches ... OK
* checking Rd \usage sections ... OK
* checking Rd contents ... OK
* checking for unstated dependencies in examples ... OK
* checking files in ‘vignettes’ ... OK
* checking examples ... OK
Examples with CPU (user + system) or elapsed time > 5s
user system elapsed
PEPSNMR-package 240.166 3.155 243.418
PreprocessingChain 233.829 2.008 235.859
Warping 9.654 0.016 9.671
* checking for unstated dependencies in vignettes ... OK
* checking package vignettes in ‘inst/doc’ ... OK
* checking running R code from vignettes ... SKIPPED
* checking re-building of vignette outputs ... SKIPPED
* checking PDF version of manual ... OK
* DONE
Status: OK
PepsNMR.Rcheck/00install.out
############################################################################## ############################################################################## ### ### Running command: ### ### /home/biocbuild/bbs-3.13-bioc/R/bin/R CMD INSTALL PepsNMR ### ############################################################################## ############################################################################## * installing to library ‘/home/biocbuild/bbs-3.13-bioc/R/library’ * installing *source* package ‘PepsNMR’ ... ** using staged installation ** R ** inst ** byte-compile and prepare package for lazy loading ** help *** installing help indices ** building package indices ** installing vignettes ** testing if installed package can be loaded from temporary location ** testing if installed package can be loaded from final location ** testing if installed package keeps a record of temporary installation path * DONE (PepsNMR)
PepsNMR.Rcheck/PepsNMR-Ex.timings
| name | user | system | elapsed | |
| Apodization | 0.573 | 0.073 | 0.654 | |
| BaselineCorrection | 0.501 | 0.028 | 0.529 | |
| Bucketing | 0.048 | 0.000 | 0.048 | |
| Draw | 0.948 | 0.008 | 0.957 | |
| DrawPCA | 0.456 | 0.016 | 0.473 | |
| DrawSignal | 0.441 | 0.032 | 0.474 | |
| FirstOrderPhaseCorrection | 0.025 | 0.011 | 0.035 | |
| FourierTransform | 0.026 | 0.008 | 0.034 | |
| GroupDelayCorrection | 0.043 | 0.003 | 0.046 | |
| InternalReferencing | 0.023 | 0.004 | 0.026 | |
| NegativeValuesZeroing | 0.024 | 0.000 | 0.024 | |
| Normalization | 0.012 | 0.000 | 0.012 | |
| PEPSNMR-package | 240.166 | 3.155 | 243.418 | |
| PreprocessingChain | 233.829 | 2.008 | 235.859 | |
| ReadFids | 0.233 | 0.012 | 0.245 | |
| RegionRemoval | 0.006 | 0.003 | 0.009 | |
| SolventSuppression | 0.126 | 0.000 | 0.126 | |
| Warping | 9.654 | 0.016 | 9.671 | |
| WindowSelection | 0.021 | 0.004 | 0.025 | |
| ZeroFilling | 0.073 | 0.004 | 0.077 | |
| ZeroOrderPhaseCorrection | 0.090 | 0.004 | 0.094 | |
| ZoneAggregation | 0.268 | 0.020 | 0.290 | |