| Back to Multiple platform build/check report for BioC 3.13 |
|
This page was generated on 2021-10-15 15:06:16 -0400 (Fri, 15 Oct 2021).
|
To the developers/maintainers of the PREDA package: - Please allow up to 24 hours (and sometimes 48 hours) for your latest push to git@git.bioconductor.org:packages/PREDA.git to reflect on this report. See How and When does the builder pull? When will my changes propagate? here for more information. - Make sure to use the following settings in order to reproduce any error or warning you see on this page. |
| Package 1427/2041 | Hostname | OS / Arch | INSTALL | BUILD | CHECK | BUILD BIN | ||||||||
| PREDA 1.38.0 (landing page) Francesco Ferrari
| nebbiolo1 | Linux (Ubuntu 20.04.2 LTS) / x86_64 | OK | OK | WARNINGS | |||||||||
| tokay2 | Windows Server 2012 R2 Standard / x64 | OK | OK | WARNINGS | OK | |||||||||
| machv2 | macOS 10.14.6 Mojave / x86_64 | OK | OK | WARNINGS | OK | |||||||||
| Package: PREDA |
| Version: 1.38.0 |
| Command: C:\Users\biocbuild\bbs-3.13-bioc\R\bin\R.exe --arch x64 CMD INSTALL --no-multiarch PREDA |
| StartedAt: 2021-10-14 09:11:02 -0400 (Thu, 14 Oct 2021) |
| EndedAt: 2021-10-14 09:12:44 -0400 (Thu, 14 Oct 2021) |
| EllapsedTime: 102.3 seconds |
| RetCode: 0 |
| Status: OK |
##############################################################################
##############################################################################
###
### Running command:
###
### C:\Users\biocbuild\bbs-3.13-bioc\R\bin\R.exe --arch x64 CMD INSTALL --no-multiarch PREDA
###
##############################################################################
##############################################################################
* installing to library 'C:/Users/biocbuild/bbs-3.13-bioc/R/library'
* installing *source* package 'PREDA' ...
** using staged installation
** R
** inst
** byte-compile and prepare package for lazy loading
** help
*** installing help indices
converting help for package 'PREDA'
finding HTML links ... done
DataForPREDA-class html
DataForPREDA2GenomicAnnotationsForPREDA
html
DataForPREDA2StatisticsForPREDA html
DataForPREDA2dataframe html
DataForPREDAMedianCenter html
GenomicAnnotations-class html
GenomicAnnotations2GenomicAnnotationsForPREDA
html
GenomicAnnotations2dataframe html
GenomicAnnotations2reference_positions
html
GenomicAnnotationsExtract html
GenomicAnnotationsFilter_neg html
GenomicAnnotationsFilter_pos html
GenomicAnnotationsForPREDA-class html
GenomicAnnotationsForPREDA2GenomicAnnotations
html
GenomicAnnotationsForPREDA2PREDAResults
html
GenomicAnnotationsForPREDA2dataframe html
GenomicAnnotationsForPREDAFromfile html
GenomicAnnotationsFromLibrary html
GenomicAnnotationsFromdataframe html
GenomicAnnotationsFromfile html
GenomicAnnotationsSortAndCleanNA html
GenomicRegions-class html
GenomicRegions2dataframe html
GenomicRegionsAnnotate html
GenomicRegionsChrNumber html
GenomicRegionsComparison html
GenomicRegionsCreateRegionsIds html
GenomicRegionsFilter_neg html
GenomicRegionsFilter_pos html
GenomicRegionsFindOverlap html
GenomicRegionsFromdataframe html
GenomicRegionsFromfile html
GenomicRegionsNumber html
GenomicRegionsSpan html
GenomicRegionsTotalSpan html
MergeStatisticAnnotations2DataForPREDA
html
PREDADataAndResults-class html
PREDADataAndResults2dataframe html
PREDAResults-class html
PREDAResults2GenomicRegions html
PREDAResults2GenomicRegionsSingle html
PREDAResults2PREDADataAndResults html
PREDAResults2dataframe html
PREDAResultsGetObservedFlags html
PREDA_main html
SODEGIR_GEstatistics html
finding level-2 HTML links ... done
SODEGIRpreprocessingGE html
StatisticsForPREDA-class html
StatisticsForPREDA2dataframe html
StatisticsForPREDAFilterColumns_neg html
StatisticsForPREDAFilterColumns_pos html
StatisticsForPREDAFromdataframe html
StatisticsForPREDAFromfile html
analysesNames html
computeDatasetSignature html
eset2GenomicAnnotations html
genomePlot html
getStatisticByName html
preprocessingGE html
statisticsForPREDAfromEset html
** building package indices
** installing vignettes
'PREDAclasses.Rnw' using 'latin1'
'PREDAtutorial.Rnw' using 'latin1'
** testing if installed package can be loaded from temporary location
** testing if installed package can be loaded from final location
** testing if installed package keeps a record of temporary installation path
* DONE (PREDA)
Making 'packages.html' ... done