| Back to Multiple platform build/check report for BioC 3.13 |
|
This page was generated on 2021-10-15 15:06:16 -0400 (Fri, 15 Oct 2021).
|
To the developers/maintainers of the PLPE package: - Please allow up to 24 hours (and sometimes 48 hours) for your latest push to git@git.bioconductor.org:packages/PLPE.git to reflect on this report. See How and When does the builder pull? When will my changes propagate? here for more information. - Make sure to use the following settings in order to reproduce any error or warning you see on this page. |
| Package 1405/2041 | Hostname | OS / Arch | INSTALL | BUILD | CHECK | BUILD BIN | ||||||||
| PLPE 1.52.0 (landing page) Soo-heang Eo
| nebbiolo1 | Linux (Ubuntu 20.04.2 LTS) / x86_64 | OK | OK | OK | |||||||||
| tokay2 | Windows Server 2012 R2 Standard / x64 | OK | OK | OK | OK | |||||||||
| machv2 | macOS 10.14.6 Mojave / x86_64 | OK | OK | OK | OK | |||||||||
| Package: PLPE |
| Version: 1.52.0 |
| Command: rm -rf PLPE.buildbin-libdir && mkdir PLPE.buildbin-libdir && C:\Users\biocbuild\bbs-3.13-bioc\R\bin\R.exe CMD INSTALL --merge-multiarch --build --library=PLPE.buildbin-libdir PLPE_1.52.0.tar.gz |
| StartedAt: 2021-10-15 11:00:40 -0400 (Fri, 15 Oct 2021) |
| EndedAt: 2021-10-15 11:02:11 -0400 (Fri, 15 Oct 2021) |
| EllapsedTime: 91.7 seconds |
| RetCode: 0 |
| Status: OK |
| PackageFile: PLPE_1.52.0.zip |
| PackageFileSize: 215.9 KiB |
##############################################################################
##############################################################################
###
### Running command:
###
### rm -rf PLPE.buildbin-libdir && mkdir PLPE.buildbin-libdir && C:\Users\biocbuild\bbs-3.13-bioc\R\bin\R.exe CMD INSTALL --merge-multiarch --build --library=PLPE.buildbin-libdir PLPE_1.52.0.tar.gz
###
##############################################################################
##############################################################################
install for i386
* installing *source* package 'PLPE' ...
** using staged installation
** R
** data
*** moving datasets to lazyload DB
** inst
** byte-compile and prepare package for lazy loading
** help
*** installing help indices
converting help for package 'PLPE'
finding HTML links ... done
am.trans.paired html
base.error.paired html
generate.null html
lpe.paired html
lpe.paired.default html
lpe.paired.fdr html
lpe.paired.fdr.default html
plateletSet html
print.lpe.paired html
print.lpe.paired.fdr html
summary.lpe.paired html
summary.lpe.paired.fdr html
** building package indices
** installing vignettes
** testing if installed package can be loaded from temporary location
** testing if installed package can be loaded from final location
** testing if installed package keeps a record of temporary installation path
install for x64
* installing *source* package 'PLPE' ...
** testing if installed package can be loaded
* MD5 sums
packaged installation of 'PLPE' as PLPE_1.52.0.zip
* DONE (PLPE)