| Back to Multiple platform build/check report for BioC 3.13 | 
 | 
This page was generated on 2021-10-15 15:06:15 -0400 (Fri, 15 Oct 2021).
| To the developers/maintainers of the OutlierD package: - Please allow up to 24 hours (and sometimes 48 hours) for your latest push to git@git.bioconductor.org:packages/OutlierD.git to reflect on this report. See How and When does the builder pull? When will my changes propagate? here for more information. - Make sure to use the following settings in order to reproduce any error or warning you see on this page. | 
| Package 1329/2041 | Hostname | OS / Arch | INSTALL | BUILD | CHECK | BUILD BIN | ||||||||
| Sukwoo Kim 
 | nebbiolo1 | Linux (Ubuntu 20.04.2 LTS) / x86_64 | OK | ERROR | skipped | |||||||||
| tokay2 | Windows Server 2012 R2 Standard / x64 | OK | ERROR | skipped | skipped | |||||||||
| machv2 | macOS 10.14.6 Mojave / x86_64 | OK | ERROR | skipped | skipped | |||||||||
| Package: OutlierD | 
| Version: 1.56.0 | 
| Command: C:\cygwin\bin\curl.exe -O http://155.52.207.165/BBS/3.13/bioc/src/contrib/OutlierD_1.56.0.tar.gz && rm -rf OutlierD.buildbin-libdir && mkdir OutlierD.buildbin-libdir && C:\Users\biocbuild\bbs-3.13-bioc\R\bin\R.exe CMD INSTALL --merge-multiarch --build --library=OutlierD.buildbin-libdir OutlierD_1.56.0.tar.gz && C:\Users\biocbuild\bbs-3.13-bioc\R\bin\R.exe CMD INSTALL OutlierD_1.56.0.zip && rm OutlierD_1.56.0.tar.gz OutlierD_1.56.0.zip | 
| StartedAt: 2021-10-14 07:43:21 -0400 (Thu, 14 Oct 2021) | 
| EndedAt: 2021-10-14 07:44:31 -0400 (Thu, 14 Oct 2021) | 
| EllapsedTime: 69.5 seconds | 
| RetCode: 0 | 
| Status: OK | 
##############################################################################
##############################################################################
###
### Running command:
###
###   C:\cygwin\bin\curl.exe -O http://155.52.207.165/BBS/3.13/bioc/src/contrib/OutlierD_1.56.0.tar.gz && rm -rf OutlierD.buildbin-libdir && mkdir OutlierD.buildbin-libdir && C:\Users\biocbuild\bbs-3.13-bioc\R\bin\R.exe CMD INSTALL --merge-multiarch --build --library=OutlierD.buildbin-libdir OutlierD_1.56.0.tar.gz && C:\Users\biocbuild\bbs-3.13-bioc\R\bin\R.exe CMD INSTALL OutlierD_1.56.0.zip && rm OutlierD_1.56.0.tar.gz OutlierD_1.56.0.zip
###
##############################################################################
##############################################################################
  % Total    % Received % Xferd  Average Speed   Time    Time     Time  Current
                                 Dload  Upload   Total   Spent    Left  Speed
  0     0    0     0    0     0      0      0 --:--:-- --:--:-- --:--:--     0
100 16317  100 16317    0     0   137k      0 --:--:-- --:--:-- --:--:--  138k
install for i386
* installing *source* package 'OutlierD' ...
** using staged installation
** R
** data
** byte-compile and prepare package for lazy loading
** help
*** installing help indices
  converting help for package 'OutlierD'
    finding HTML links ... done
    OutlierD                                html  
    lcms                                    html  
** building package indices
** installing vignettes
** testing if installed package can be loaded from temporary location
Warning: Package 'OutlierD' is deprecated and will be removed from Bioconductor
  version 3.14
** testing if installed package can be loaded from final location
Warning: Package 'OutlierD' is deprecated and will be removed from Bioconductor
  version 3.14
** testing if installed package keeps a record of temporary installation path
install for x64
* installing *source* package 'OutlierD' ...
** testing if installed package can be loaded
Warning: Package 'OutlierD' is deprecated and will be removed from Bioconductor
  version 3.14
* MD5 sums
packaged installation of 'OutlierD' as OutlierD_1.56.0.zip
* DONE (OutlierD)
* installing to library 'C:/Users/biocbuild/bbs-3.13-bioc/R/library'
package 'OutlierD' successfully unpacked and MD5 sums checked