| Back to Multiple platform build/check report for BioC 3.13 |
|
This page was generated on 2021-10-15 15:06:14 -0400 (Fri, 15 Oct 2021).
|
To the developers/maintainers of the OrderedList package: - Please allow up to 24 hours (and sometimes 48 hours) for your latest push to git@git.bioconductor.org:packages/OrderedList.git to reflect on this report. See How and When does the builder pull? When will my changes propagate? here for more information. - Make sure to use the following settings in order to reproduce any error or warning you see on this page. |
| Package 1321/2041 | Hostname | OS / Arch | INSTALL | BUILD | CHECK | BUILD BIN | ||||||||
| OrderedList 1.64.0 (landing page) Claudio Lottaz
| nebbiolo1 | Linux (Ubuntu 20.04.2 LTS) / x86_64 | OK | OK | OK | |||||||||
| tokay2 | Windows Server 2012 R2 Standard / x64 | OK | OK | OK | OK | |||||||||
| machv2 | macOS 10.14.6 Mojave / x86_64 | OK | OK | OK | OK | |||||||||
| Package: OrderedList |
| Version: 1.64.0 |
| Command: C:\cygwin\bin\curl.exe -O http://155.52.207.165/BBS/3.13/bioc/src/contrib/OrderedList_1.64.0.tar.gz && rm -rf OrderedList.buildbin-libdir && mkdir OrderedList.buildbin-libdir && C:\Users\biocbuild\bbs-3.13-bioc\R\bin\R.exe CMD INSTALL --merge-multiarch --build --library=OrderedList.buildbin-libdir OrderedList_1.64.0.tar.gz && C:\Users\biocbuild\bbs-3.13-bioc\R\bin\R.exe CMD INSTALL OrderedList_1.64.0.zip && rm OrderedList_1.64.0.tar.gz OrderedList_1.64.0.zip |
| StartedAt: 2021-10-14 07:33:35 -0400 (Thu, 14 Oct 2021) |
| EndedAt: 2021-10-14 07:34:31 -0400 (Thu, 14 Oct 2021) |
| EllapsedTime: 56.4 seconds |
| RetCode: 0 |
| Status: OK |
##############################################################################
##############################################################################
###
### Running command:
###
### C:\cygwin\bin\curl.exe -O http://155.52.207.165/BBS/3.13/bioc/src/contrib/OrderedList_1.64.0.tar.gz && rm -rf OrderedList.buildbin-libdir && mkdir OrderedList.buildbin-libdir && C:\Users\biocbuild\bbs-3.13-bioc\R\bin\R.exe CMD INSTALL --merge-multiarch --build --library=OrderedList.buildbin-libdir OrderedList_1.64.0.tar.gz && C:\Users\biocbuild\bbs-3.13-bioc\R\bin\R.exe CMD INSTALL OrderedList_1.64.0.zip && rm OrderedList_1.64.0.tar.gz OrderedList_1.64.0.zip
###
##############################################################################
##############################################################################
% Total % Received % Xferd Average Speed Time Time Time Current
Dload Upload Total Spent Left Speed
0 0 0 0 0 0 0 0 --:--:-- --:--:-- --:--:-- 0
33 491k 33 166k 0 0 735k 0 --:--:-- --:--:-- --:--:-- 734k
100 491k 100 491k 0 0 1848k 0 --:--:-- --:--:-- --:--:-- 1846k
install for i386
* installing *source* package 'OrderedList' ...
** using staged installation
** R
** data
** inst
** byte-compile and prepare package for lazy loading
** help
*** installing help indices
converting help for package 'OrderedList'
finding HTML links ... done
OL.data html
OL.result html
OrderedList html
check.test.args html
compareLists html
getOverlap html
overlap html
plot.OrderedList html
prepareData html
preparePermutations html
print.OrderedList html
scoreOrderComparison html
scoreRankings html
shuffledRandomScores html
** building package indices
** installing vignettes
** testing if installed package can be loaded from temporary location
** testing if installed package can be loaded from final location
** testing if installed package keeps a record of temporary installation path
install for x64
* installing *source* package 'OrderedList' ...
** testing if installed package can be loaded
* MD5 sums
packaged installation of 'OrderedList' as OrderedList_1.64.0.zip
* DONE (OrderedList)
* installing to library 'C:/Users/biocbuild/bbs-3.13-bioc/R/library'
package 'OrderedList' successfully unpacked and MD5 sums checked