| Back to Multiple platform build/check report for BioC 3.13 |
|
This page was generated on 2021-10-15 15:06:44 -0400 (Fri, 15 Oct 2021).
|
To the developers/maintainers of the NanoStringQCPro package: - Please allow up to 24 hours (and sometimes 48 hours) for your latest push to git@git.bioconductor.org:packages/NanoStringQCPro.git to reflect on this report. See How and When does the builder pull? When will my changes propagate? here for more information. - Make sure to use the following settings in order to reproduce any error or warning you see on this page. |
| Package 1247/2041 | Hostname | OS / Arch | INSTALL | BUILD | CHECK | BUILD BIN | ||||||||
| NanoStringQCPro 1.24.0 (landing page) Robert Ziman
| nebbiolo1 | Linux (Ubuntu 20.04.2 LTS) / x86_64 | OK | OK | OK | |||||||||
| tokay2 | Windows Server 2012 R2 Standard / x64 | OK | OK | OK | OK | |||||||||
| machv2 | macOS 10.14.6 Mojave / x86_64 | OK | OK | OK | OK | |||||||||
| Package: NanoStringQCPro |
| Version: 1.24.0 |
| Command: /Library/Frameworks/R.framework/Versions/Current/Resources/bin/R CMD check --install=check:NanoStringQCPro.install-out.txt --library=/Library/Frameworks/R.framework/Versions/Current/Resources/library --no-vignettes --timings NanoStringQCPro_1.24.0.tar.gz |
| StartedAt: 2021-10-14 21:40:31 -0400 (Thu, 14 Oct 2021) |
| EndedAt: 2021-10-14 21:43:36 -0400 (Thu, 14 Oct 2021) |
| EllapsedTime: 184.8 seconds |
| RetCode: 0 |
| Status: OK |
| CheckDir: NanoStringQCPro.Rcheck |
| Warnings: 0 |
##############################################################################
##############################################################################
###
### Running command:
###
### /Library/Frameworks/R.framework/Versions/Current/Resources/bin/R CMD check --install=check:NanoStringQCPro.install-out.txt --library=/Library/Frameworks/R.framework/Versions/Current/Resources/library --no-vignettes --timings NanoStringQCPro_1.24.0.tar.gz
###
##############################################################################
##############################################################################
* using log directory ‘/Users/biocbuild/bbs-3.13-bioc/meat/NanoStringQCPro.Rcheck’
* using R version 4.1.1 (2021-08-10)
* using platform: x86_64-apple-darwin17.0 (64-bit)
* using session charset: UTF-8
* using option ‘--no-vignettes’
* checking for file ‘NanoStringQCPro/DESCRIPTION’ ... OK
* this is package ‘NanoStringQCPro’ version ‘1.24.0’
* checking package namespace information ... OK
* checking package dependencies ... OK
* checking if this is a source package ... OK
* checking if there is a namespace ... OK
* checking for hidden files and directories ... NOTE
Found the following hidden files and directories:
.git_fetch_output.txt
.git_merge_output.txt
These were most likely included in error. See section ‘Package
structure’ in the ‘Writing R Extensions’ manual.
* checking for portable file names ... OK
* checking for sufficient/correct file permissions ... OK
* checking whether package ‘NanoStringQCPro’ can be installed ... OK
* checking installed package size ... OK
* checking package directory ... OK
* checking DESCRIPTION meta-information ... NOTE
Package listed in more than one of Depends, Imports, Suggests, Enhances:
‘knitr’
A package should be listed in only one of these fields.
* checking top-level files ... OK
* checking for left-over files ... OK
* checking index information ... OK
* checking package subdirectories ... OK
* checking R files for non-ASCII characters ... OK
* checking R files for syntax errors ... OK
* checking whether the package can be loaded ... OK
* checking whether the package can be loaded with stated dependencies ... OK
* checking whether the package can be unloaded cleanly ... OK
* checking whether the namespace can be loaded with stated dependencies ... OK
* checking whether the namespace can be unloaded cleanly ... OK
* checking dependencies in R code ... OK
* checking S3 generic/method consistency ... OK
* checking replacement functions ... OK
* checking foreign function calls ... OK
* checking R code for possible problems ... NOTE
centeredSampleClustering: no visible global function definition for
‘png’
centeredSampleClustering: no visible global function definition for
‘dev.off’
countsInBlankSamples_verticalPlot: no visible global function
definition for ‘png’
countsInBlankSamples_verticalPlot: no visible global function
definition for ‘dev.off’
geneClustering: no visible global function definition for ‘png’
geneClustering: no visible global function definition for ‘dev.off’
negCtrlsByLane_verticalPlot: no visible global function definition for
‘png’
negCtrlsByLane_verticalPlot: no visible global function definition for
‘dev.off’
previewPNG: no visible global function definition for ‘png’
previewPNG: no visible global function definition for ‘dev.off’
sampleClustering,RccSet: no visible global function definition for
‘png’
sampleClustering,RccSet: no visible global function definition for
‘dev.off’
Undefined global functions or variables:
dev.off png
Consider adding
importFrom("grDevices", "dev.off", "png")
to your NAMESPACE file.
* checking Rd files ... OK
* checking Rd metadata ... OK
* checking Rd cross-references ... OK
* checking for missing documentation entries ... OK
* checking for code/documentation mismatches ... OK
* checking Rd \usage sections ... OK
* checking Rd contents ... OK
* checking for unstated dependencies in examples ... OK
* checking contents of ‘data’ directory ... OK
* checking data for non-ASCII characters ... OK
* checking LazyData ... OK
* checking data for ASCII and uncompressed saves ... OK
* checking sizes of PDF files under ‘inst/doc’ ... OK
* checking installed files from ‘inst/doc’ ... OK
* checking examples ... OK
Examples with CPU (user + system) or elapsed time > 5s
user system elapsed
makeQCReport 14.078 0.405 14.5
* checking PDF version of manual ... OK
* DONE
Status: 3 NOTEs
See
‘/Users/biocbuild/bbs-3.13-bioc/meat/NanoStringQCPro.Rcheck/00check.log’
for details.
NanoStringQCPro.Rcheck/00install.out
############################################################################## ############################################################################## ### ### Running command: ### ### /Library/Frameworks/R.framework/Versions/Current/Resources/bin/R CMD INSTALL NanoStringQCPro ### ############################################################################## ############################################################################## * installing to library ‘/Library/Frameworks/R.framework/Versions/4.1/Resources/library’ * installing *source* package ‘NanoStringQCPro’ ... ** using staged installation ** R ** data *** moving datasets to lazyload DB ** inst ** byte-compile and prepare package for lazy loading ** help *** installing help indices ** building package indices ** testing if installed package can be loaded from temporary location ** testing if installed package can be loaded from final location ** testing if installed package keeps a record of temporary installation path * DONE (NanoStringQCPro)
NanoStringQCPro.Rcheck/NanoStringQCPro-Ex.timings
| name | user | system | elapsed | |
| RccSet-class | 0.615 | 0.007 | 0.624 | |
| addCodesetAnnotation | 0.291 | 0.008 | 0.301 | |
| buildCodesetAnnotation | 0.009 | 0.001 | 0.010 | |
| checkRccSet | 0.059 | 0.002 | 0.062 | |
| contentNorm | 0.151 | 0.002 | 0.153 | |
| copyRccSet | 0.022 | 0.002 | 0.023 | |
| getBackground | 0.119 | 0.002 | 0.121 | |
| getBlankLabel | 0.002 | 0.001 | 0.003 | |
| makeQCReport | 14.078 | 0.405 | 14.500 | |
| newRccSet | 0.370 | 0.042 | 0.413 | |
| posCtrlNorm | 0.021 | 0.004 | 0.025 | |
| preprocRccSet | 0.216 | 0.017 | 0.232 | |
| presAbsCall | 0.055 | 0.002 | 0.057 | |
| readCdrDesignData | 0.003 | 0.000 | 0.003 | |
| readRcc | 0.004 | 0.000 | 0.004 | |
| readRlf | 0.005 | 0.000 | 0.005 | |
| subtractBackground | 0.077 | 0.002 | 0.078 | |