| Back to Multiple platform build/check report for BioC 3.13 |
|
This page was generated on 2021-10-15 15:06:14 -0400 (Fri, 15 Oct 2021).
|
To the developers/maintainers of the NPARC package: - Please allow up to 24 hours (and sometimes 48 hours) for your latest push to git@git.bioconductor.org:packages/NPARC.git to reflect on this report. See How and When does the builder pull? When will my changes propagate? here for more information. - Make sure to use the following settings in order to reproduce any error or warning you see on this page. |
| Package 1281/2041 | Hostname | OS / Arch | INSTALL | BUILD | CHECK | BUILD BIN | ||||||||
| NPARC 1.4.0 (landing page) Nils Kurzawa
| nebbiolo1 | Linux (Ubuntu 20.04.2 LTS) / x86_64 | OK | OK | OK | |||||||||
| tokay2 | Windows Server 2012 R2 Standard / x64 | OK | OK | OK | OK | |||||||||
| machv2 | macOS 10.14.6 Mojave / x86_64 | OK | OK | OK | OK | |||||||||
| Package: NPARC |
| Version: 1.4.0 |
| Command: rm -rf NPARC.buildbin-libdir && mkdir NPARC.buildbin-libdir && C:\Users\biocbuild\bbs-3.13-bioc\R\bin\R.exe CMD INSTALL --merge-multiarch --build --library=NPARC.buildbin-libdir NPARC_1.4.0.tar.gz |
| StartedAt: 2021-10-15 10:43:57 -0400 (Fri, 15 Oct 2021) |
| EndedAt: 2021-10-15 10:45:12 -0400 (Fri, 15 Oct 2021) |
| EllapsedTime: 74.8 seconds |
| RetCode: 0 |
| Status: OK |
| PackageFile: NPARC_1.4.0.zip |
| PackageFileSize: 2.11 MiB |
##############################################################################
##############################################################################
###
### Running command:
###
### rm -rf NPARC.buildbin-libdir && mkdir NPARC.buildbin-libdir && C:\Users\biocbuild\bbs-3.13-bioc\R\bin\R.exe CMD INSTALL --merge-multiarch --build --library=NPARC.buildbin-libdir NPARC_1.4.0.tar.gz
###
##############################################################################
##############################################################################
install for i386
* installing *source* package 'NPARC' ...
** using staged installation
** R
** data
*** moving datasets to lazyload DB
** inst
** byte-compile and prepare package for lazy loading
** help
*** installing help indices
converting help for package 'NPARC'
finding HTML links ... done
NPARCtest html
fitSingleSigmoid html
getParams html
nparc html
nparcFit html
runNPARC html
stauro_TPP_data_tidy html
** building package indices
** installing vignettes
** testing if installed package can be loaded from temporary location
** testing if installed package can be loaded from final location
** testing if installed package keeps a record of temporary installation path
install for x64
* installing *source* package 'NPARC' ...
** testing if installed package can be loaded
* MD5 sums
packaged installation of 'NPARC' as NPARC_1.4.0.zip
* DONE (NPARC)