| Back to Multiple platform build/check report for BioC 3.13 |
|
This page was generated on 2021-10-15 15:06:13 -0400 (Fri, 15 Oct 2021).
|
To the developers/maintainers of the MultiMed package: - Please allow up to 24 hours (and sometimes 48 hours) for your latest push to git@git.bioconductor.org:packages/MultiMed.git to reflect on this report. See How and When does the builder pull? When will my changes propagate? here for more information. - Make sure to use the following settings in order to reproduce any error or warning you see on this page. |
| Package 1225/2041 | Hostname | OS / Arch | INSTALL | BUILD | CHECK | BUILD BIN | ||||||||
| MultiMed 2.14.0 (landing page) Simina M. Boca
| nebbiolo1 | Linux (Ubuntu 20.04.2 LTS) / x86_64 | OK | OK | OK | |||||||||
| tokay2 | Windows Server 2012 R2 Standard / x64 | OK | OK | OK | OK | |||||||||
| machv2 | macOS 10.14.6 Mojave / x86_64 | OK | OK | OK | OK | |||||||||
| Package: MultiMed |
| Version: 2.14.0 |
| Command: rm -rf MultiMed.buildbin-libdir && mkdir MultiMed.buildbin-libdir && C:\Users\biocbuild\bbs-3.13-bioc\R\bin\R.exe CMD INSTALL --merge-multiarch --build --library=MultiMed.buildbin-libdir MultiMed_2.14.0.tar.gz |
| StartedAt: 2021-10-15 10:36:49 -0400 (Fri, 15 Oct 2021) |
| EndedAt: 2021-10-15 10:38:14 -0400 (Fri, 15 Oct 2021) |
| EllapsedTime: 84.5 seconds |
| RetCode: 0 |
| Status: OK |
| PackageFile: MultiMed_2.14.0.zip |
| PackageFileSize: 493.9 KiB |
##############################################################################
##############################################################################
###
### Running command:
###
### rm -rf MultiMed.buildbin-libdir && mkdir MultiMed.buildbin-libdir && C:\Users\biocbuild\bbs-3.13-bioc\R\bin\R.exe CMD INSTALL --merge-multiarch --build --library=MultiMed.buildbin-libdir MultiMed_2.14.0.tar.gz
###
##############################################################################
##############################################################################
install for i386
* installing *source* package 'MultiMed' ...
** using staged installation
** R
** data
** inst
** byte-compile and prepare package for lazy loading
** help
*** installing help indices
converting help for package 'MultiMed'
finding HTML links ... done
NavyAdenoma html
medTest html
medTest.SBMH html
** building package indices
** installing vignettes
** testing if installed package can be loaded from temporary location
** testing if installed package can be loaded from final location
** testing if installed package keeps a record of temporary installation path
install for x64
* installing *source* package 'MultiMed' ...
** testing if installed package can be loaded
* MD5 sums
packaged installation of 'MultiMed' as MultiMed_2.14.0.zip
* DONE (MultiMed)