| Back to Multiple platform build/check report for BioC 3.13 |
|
This page was generated on 2021-10-15 15:06:12 -0400 (Fri, 15 Oct 2021).
|
To the developers/maintainers of the MineICA package: - Please allow up to 24 hours (and sometimes 48 hours) for your latest push to git@git.bioconductor.org:packages/MineICA.git to reflect on this report. See How and When does the builder pull? When will my changes propagate? here for more information. - Make sure to use the following settings in order to reproduce any error or warning you see on this page. |
| Package 1138/2041 | Hostname | OS / Arch | INSTALL | BUILD | CHECK | BUILD BIN | ||||||||
| MineICA 1.32.0 (landing page) Anne Biton
| nebbiolo1 | Linux (Ubuntu 20.04.2 LTS) / x86_64 | OK | OK | WARNINGS | |||||||||
| tokay2 | Windows Server 2012 R2 Standard / x64 | OK | OK | WARNINGS | OK | |||||||||
| machv2 | macOS 10.14.6 Mojave / x86_64 | OK | OK | WARNINGS | OK | |||||||||
| Package: MineICA |
| Version: 1.32.0 |
| Command: rm -rf MineICA.buildbin-libdir && mkdir MineICA.buildbin-libdir && C:\Users\biocbuild\bbs-3.13-bioc\R\bin\R.exe CMD INSTALL --merge-multiarch --build --library=MineICA.buildbin-libdir MineICA_1.32.0.tar.gz |
| StartedAt: 2021-10-15 10:25:08 -0400 (Fri, 15 Oct 2021) |
| EndedAt: 2021-10-15 10:26:44 -0400 (Fri, 15 Oct 2021) |
| EllapsedTime: 96.2 seconds |
| RetCode: 0 |
| Status: OK |
| PackageFile: MineICA_1.32.0.zip |
| PackageFileSize: 2.419 MiB |
##############################################################################
##############################################################################
###
### Running command:
###
### rm -rf MineICA.buildbin-libdir && mkdir MineICA.buildbin-libdir && C:\Users\biocbuild\bbs-3.13-bioc\R\bin\R.exe CMD INSTALL --merge-multiarch --build --library=MineICA.buildbin-libdir MineICA_1.32.0.tar.gz
###
##############################################################################
##############################################################################
install for i386
* installing *source* package 'MineICA' ...
** using staged installation
** R
** data
** inst
** byte-compile and prepare package for lazy loading
Creating a new generic function for 'sampleNames<-' in package 'MineICA'
** help
*** installing help indices
converting help for package 'MineICA'
finding HTML links ... done
A html
Alist html
finding level-2 HTML links ... done
Rd warning: C:/Users/biocbuild/bbs-3.13-bioc/tmpdir/RtmpEl66hy/R.INSTALL889036ce3de6/MineICA/man/Alist.Rd:26: missing link 'class-IcaSet'
Slist html
Rd warning: C:/Users/biocbuild/bbs-3.13-bioc/tmpdir/RtmpEl66hy/R.INSTALL889036ce3de6/MineICA/man/Slist.Rd:28: missing link 'class-IcaSet'
addGenesToGoReport html
annot2Color html
annotCarbayo html
annotFeatures html
annotFeaturesComp html
annotFeaturesWithBiomaRt html
annotInGene html
annotReciprocal html
buildIcaSet html
buildMineICAParams html
build_sortHeatmap html
class-IcaSet html
Rd warning: C:/Users/biocbuild/bbs-3.13-bioc/tmpdir/RtmpEl66hy/R.INSTALL889036ce3de6/MineICA/man/class-IcaSet.Rd:321: missing link 'class-IcaSet'
class-MineICAParams html
clusVarAnalysis html
clusterFastICARuns html
clusterSamplesByComp html
clusterSamplesByComp_multiple html
compareAn html
compareAn2graphfile html
compareGenes html
cor2An html
correl2Comp html
dat html
dataCarbayo html
doEnrichment html
getComp html
Rd warning: C:/Users/biocbuild/bbs-3.13-bioc/tmpdir/RtmpEl66hy/R.INSTALL889036ce3de6/MineICA/man/getComp.Rd:33: missing link 'class-IcaSet'
getProj html
getSdExpr html
hgOver html
hypergeoAn html
icaSetCarbayo html
icaSetKim html
icaSetRiester html
icaSetStransky html
indComp html
mergeGostatsResults html
nbOccByGeneInComp html
nbOccInComp html
nbOccInComp_simple html
nodeAttrs html
plotAllMix html
plotCorGraph html
plotDens2classInComp_plotOnly html
plotDensAllAnnotInAllComp html
plotDensOneAnnotInAllComp html
plotMclust html
plotMix html
plotPosAnnotInComp html
plotPosOneAnnotInComp_ggplot html
plotPosOneAnnotLevInComp_ggplot html
plotPosSamplesInComp html
plot_heatmapsOnSel html
qualVarAnalysis html
quantVarAnalysis html
readA html
readS html
relativePath html
runAn html
runCompareIcaSets html
runEnrich html
runICA html
selectContrib html
selectFeatures_IQR html
selectWitnessGenes html
wilcoxOrKruskalOnA html
writeGenes html
writeGostatsHtmltable html
writeHtmlResTestsByAnnot html
writeProjByComp html
writeRnkFiles html
** building package indices
** installing vignettes
** testing if installed package can be loaded from temporary location
** testing if installed package can be loaded from final location
** testing if installed package keeps a record of temporary installation path
install for x64
* installing *source* package 'MineICA' ...
** testing if installed package can be loaded
* MD5 sums
packaged installation of 'MineICA' as MineICA_1.32.0.zip
* DONE (MineICA)