| Back to Multiple platform build/check report for BioC 3.13 | 
 | 
This page was generated on 2021-10-15 15:06:12 -0400 (Fri, 15 Oct 2021).
| To the developers/maintainers of the MiRaGE package: - Please allow up to 24 hours (and sometimes 48 hours) for your latest push to git@git.bioconductor.org:packages/MiRaGE.git to reflect on this report. See How and When does the builder pull? When will my changes propagate? here for more information. - Make sure to use the following settings in order to reproduce any error or warning you see on this page. | 
| Package 1145/2041 | Hostname | OS / Arch | INSTALL | BUILD | CHECK | BUILD BIN | ||||||||
| MiRaGE 1.34.0  (landing page) Y-h. Taguchi 
 | nebbiolo1 | Linux (Ubuntu 20.04.2 LTS) / x86_64 | OK | OK | WARNINGS |  | ||||||||
| tokay2 | Windows Server 2012 R2 Standard / x64 | OK | OK | WARNINGS | OK |  | ||||||||
| machv2 | macOS 10.14.6 Mojave / x86_64 | OK | OK | WARNINGS | OK |  | ||||||||
| Package: MiRaGE | 
| Version: 1.34.0 | 
| Command: C:\cygwin\bin\curl.exe -O http://155.52.207.165/BBS/3.13/bioc/src/contrib/MiRaGE_1.34.0.tar.gz && rm -rf MiRaGE.buildbin-libdir && mkdir MiRaGE.buildbin-libdir && C:\Users\biocbuild\bbs-3.13-bioc\R\bin\R.exe CMD INSTALL --merge-multiarch --build --library=MiRaGE.buildbin-libdir MiRaGE_1.34.0.tar.gz && C:\Users\biocbuild\bbs-3.13-bioc\R\bin\R.exe CMD INSTALL MiRaGE_1.34.0.zip && rm MiRaGE_1.34.0.tar.gz MiRaGE_1.34.0.zip | 
| StartedAt: 2021-10-14 08:06:21 -0400 (Thu, 14 Oct 2021) | 
| EndedAt: 2021-10-14 08:07:28 -0400 (Thu, 14 Oct 2021) | 
| EllapsedTime: 66.1 seconds | 
| RetCode: 0 | 
| Status: OK | 
##############################################################################
##############################################################################
###
### Running command:
###
###   C:\cygwin\bin\curl.exe -O http://155.52.207.165/BBS/3.13/bioc/src/contrib/MiRaGE_1.34.0.tar.gz && rm -rf MiRaGE.buildbin-libdir && mkdir MiRaGE.buildbin-libdir && C:\Users\biocbuild\bbs-3.13-bioc\R\bin\R.exe CMD INSTALL --merge-multiarch --build --library=MiRaGE.buildbin-libdir MiRaGE_1.34.0.tar.gz && C:\Users\biocbuild\bbs-3.13-bioc\R\bin\R.exe CMD INSTALL MiRaGE_1.34.0.zip && rm MiRaGE_1.34.0.tar.gz MiRaGE_1.34.0.zip
###
##############################################################################
##############################################################################
  % Total    % Received % Xferd  Average Speed   Time    Time     Time  Current
                                 Dload  Upload   Total   Spent    Left  Speed
  0     0    0     0    0     0      0      0 --:--:-- --:--:-- --:--:--     0
  4  985k    4 44576    0     0   285k      0  0:00:03 --:--:--  0:00:03  284k
100  985k  100  985k    0     0  1255k      0 --:--:-- --:--:-- --:--:-- 1255k
install for i386
* installing *source* package 'MiRaGE' ...
** using staged installation
** R
** data
** inst
** byte-compile and prepare package for lazy loading
** help
*** installing help indices
  converting help for package 'MiRaGE'
    finding HTML links ... done
    HS_conv_id                              html  
    MM_conv_id                              html  
    MiRaGE                                  html  
    TBL2_HS_gen                             html  
    TBL2_MM_gen                             html  
    gene_exp                                html  
    getMiRaGEData                           html  
    id_conv_gen                             html  
** building package indices
** installing vignettes
** testing if installed package can be loaded from temporary location
** testing if installed package can be loaded from final location
** testing if installed package keeps a record of temporary installation path
install for x64
* installing *source* package 'MiRaGE' ...
** testing if installed package can be loaded
* MD5 sums
packaged installation of 'MiRaGE' as MiRaGE_1.34.0.zip
* DONE (MiRaGE)
* installing to library 'C:/Users/biocbuild/bbs-3.13-bioc/R/library'
package 'MiRaGE' successfully unpacked and MD5 sums checked