| Back to Multiple platform build/check report for BioC 3.13 |
|
This page was generated on 2021-10-15 15:06:11 -0400 (Fri, 15 Oct 2021).
|
To the developers/maintainers of the MiChip package: - Please allow up to 24 hours (and sometimes 48 hours) for your latest push to git@git.bioconductor.org:packages/MiChip.git to reflect on this report. See How and When does the builder pull? When will my changes propagate? here for more information. - Make sure to use the following settings in order to reproduce any error or warning you see on this page. |
| Package 1126/2041 | Hostname | OS / Arch | INSTALL | BUILD | CHECK | BUILD BIN | ||||||||
| MiChip 1.46.0 (landing page) Jonathon Blake
| nebbiolo1 | Linux (Ubuntu 20.04.2 LTS) / x86_64 | OK | OK | OK | |||||||||
| tokay2 | Windows Server 2012 R2 Standard / x64 | OK | OK | OK | OK | |||||||||
| machv2 | macOS 10.14.6 Mojave / x86_64 | OK | OK | OK | OK | |||||||||
| Package: MiChip |
| Version: 1.46.0 |
| Command: rm -rf MiChip.buildbin-libdir && mkdir MiChip.buildbin-libdir && C:\Users\biocbuild\bbs-3.13-bioc\R\bin\R.exe CMD INSTALL --merge-multiarch --build --library=MiChip.buildbin-libdir MiChip_1.46.0.tar.gz |
| StartedAt: 2021-10-15 10:23:27 -0400 (Fri, 15 Oct 2021) |
| EndedAt: 2021-10-15 10:25:00 -0400 (Fri, 15 Oct 2021) |
| EllapsedTime: 93.0 seconds |
| RetCode: 0 |
| Status: OK |
| PackageFile: MiChip_1.46.0.zip |
| PackageFileSize: 666.8 KiB |
##############################################################################
##############################################################################
###
### Running command:
###
### rm -rf MiChip.buildbin-libdir && mkdir MiChip.buildbin-libdir && C:\Users\biocbuild\bbs-3.13-bioc\R\bin\R.exe CMD INSTALL --merge-multiarch --build --library=MiChip.buildbin-libdir MiChip_1.46.0.tar.gz
###
##############################################################################
##############################################################################
install for i386
* installing *source* package 'MiChip' ...
** using staged installation
** R
** inst
** byte-compile and prepare package for lazy loading
** help
*** installing help indices
converting help for package 'MiChip'
finding HTML links ... done
MiChip html
boxplotData html
boxplotDataNoFile html
correctForFlags html
myForgivingMedian html
naOmitMedian html
normalizePerChipMedian html
outputAnnotatedDataMatrix html
panelCor html
parseRawData html
plotIntensitiesScatter html
removeUnwantedRows html
returnAnnotatedDataMatrix html
setIntensityCutoff html
standardRemoveRows html
summarizeIntensitiesAsMedian html
workedExampleMedianNormalize html
workedExampleNotNormalizedData html
** building package indices
** installing vignettes
** testing if installed package can be loaded from temporary location
** testing if installed package can be loaded from final location
** testing if installed package keeps a record of temporary installation path
install for x64
* installing *source* package 'MiChip' ...
** testing if installed package can be loaded
* MD5 sums
packaged installation of 'MiChip' as MiChip_1.46.0.zip
* DONE (MiChip)