| Back to Multiple platform build/check report for BioC 3.13 |
|
This page was generated on 2021-10-15 15:06:11 -0400 (Fri, 15 Oct 2021).
|
To the developers/maintainers of the MetaboCoreUtils package: - Please allow up to 24 hours (and sometimes 48 hours) for your latest push to git@git.bioconductor.org:packages/MetaboCoreUtils.git to reflect on this report. See How and When does the builder pull? When will my changes propagate? here for more information. - Make sure to use the following settings in order to reproduce any error or warning you see on this page. |
| Package 1078/2041 | Hostname | OS / Arch | INSTALL | BUILD | CHECK | BUILD BIN | ||||||||
| MetaboCoreUtils 1.0.0 (landing page) Johannes Rainer
| nebbiolo1 | Linux (Ubuntu 20.04.2 LTS) / x86_64 | OK | OK | OK | |||||||||
| tokay2 | Windows Server 2012 R2 Standard / x64 | OK | OK | OK | OK | |||||||||
| machv2 | macOS 10.14.6 Mojave / x86_64 | OK | OK | OK | OK | |||||||||
| Package: MetaboCoreUtils |
| Version: 1.0.0 |
| Command: C:\cygwin\bin\curl.exe -O http://155.52.207.165/BBS/3.13/bioc/src/contrib/MetaboCoreUtils_1.0.0.tar.gz && rm -rf MetaboCoreUtils.buildbin-libdir && mkdir MetaboCoreUtils.buildbin-libdir && C:\Users\biocbuild\bbs-3.13-bioc\R\bin\R.exe CMD INSTALL --merge-multiarch --build --library=MetaboCoreUtils.buildbin-libdir MetaboCoreUtils_1.0.0.tar.gz && C:\Users\biocbuild\bbs-3.13-bioc\R\bin\R.exe CMD INSTALL MetaboCoreUtils_1.0.0.zip && rm MetaboCoreUtils_1.0.0.tar.gz MetaboCoreUtils_1.0.0.zip |
| StartedAt: 2021-10-14 08:01:32 -0400 (Thu, 14 Oct 2021) |
| EndedAt: 2021-10-14 08:02:19 -0400 (Thu, 14 Oct 2021) |
| EllapsedTime: 46.5 seconds |
| RetCode: 0 |
| Status: OK |
##############################################################################
##############################################################################
###
### Running command:
###
### C:\cygwin\bin\curl.exe -O http://155.52.207.165/BBS/3.13/bioc/src/contrib/MetaboCoreUtils_1.0.0.tar.gz && rm -rf MetaboCoreUtils.buildbin-libdir && mkdir MetaboCoreUtils.buildbin-libdir && C:\Users\biocbuild\bbs-3.13-bioc\R\bin\R.exe CMD INSTALL --merge-multiarch --build --library=MetaboCoreUtils.buildbin-libdir MetaboCoreUtils_1.0.0.tar.gz && C:\Users\biocbuild\bbs-3.13-bioc\R\bin\R.exe CMD INSTALL MetaboCoreUtils_1.0.0.zip && rm MetaboCoreUtils_1.0.0.tar.gz MetaboCoreUtils_1.0.0.zip
###
##############################################################################
##############################################################################
% Total % Received % Xferd Average Speed Time Time Time Current
Dload Upload Total Spent Left Speed
0 0 0 0 0 0 0 0 --:--:-- --:--:-- --:--:-- 0
100 22112 100 22112 0 0 182k 0 --:--:-- --:--:-- --:--:-- 184k
install for i386
* installing *source* package 'MetaboCoreUtils' ...
** using staged installation
** R
** inst
** byte-compile and prepare package for lazy loading
** help
*** installing help indices
converting help for package 'MetaboCoreUtils'
finding HTML links ... done
addElements html
adductNames html
containsElements html
countElements html
internalStandardMixNames html
internalStandards html
mass2mz html
mz2mass html
pasteElements html
standardizeFormula html
subtractElements html
** building package indices
** installing vignettes
** testing if installed package can be loaded from temporary location
** testing if installed package can be loaded from final location
** testing if installed package keeps a record of temporary installation path
install for x64
* installing *source* package 'MetaboCoreUtils' ...
** testing if installed package can be loaded
* MD5 sums
packaged installation of 'MetaboCoreUtils' as MetaboCoreUtils_1.0.0.zip
* DONE (MetaboCoreUtils)
* installing to library 'C:/Users/biocbuild/bbs-3.13-bioc/R/library'
package 'MetaboCoreUtils' successfully unpacked and MD5 sums checked