| Back to Multiple platform build/check report for BioC 3.13 |
|
This page was generated on 2021-10-15 15:06:11 -0400 (Fri, 15 Oct 2021).
|
To the developers/maintainers of the Mergeomics package: - Please allow up to 24 hours (and sometimes 48 hours) for your latest push to git@git.bioconductor.org:packages/Mergeomics.git to reflect on this report. See How and When does the builder pull? When will my changes propagate? here for more information. - Make sure to use the following settings in order to reproduce any error or warning you see on this page. |
| Package 1070/2041 | Hostname | OS / Arch | INSTALL | BUILD | CHECK | BUILD BIN | ||||||||
| Mergeomics 1.20.0 (landing page) Zeyneb Kurt
| nebbiolo1 | Linux (Ubuntu 20.04.2 LTS) / x86_64 | OK | OK | OK | |||||||||
| tokay2 | Windows Server 2012 R2 Standard / x64 | OK | OK | OK | OK | |||||||||
| machv2 | macOS 10.14.6 Mojave / x86_64 | OK | OK | OK | OK | |||||||||
| Package: Mergeomics |
| Version: 1.20.0 |
| Command: C:\cygwin\bin\curl.exe -O http://155.52.207.165/BBS/3.13/bioc/src/contrib/Mergeomics_1.20.0.tar.gz && rm -rf Mergeomics.buildbin-libdir && mkdir Mergeomics.buildbin-libdir && C:\Users\biocbuild\bbs-3.13-bioc\R\bin\R.exe CMD INSTALL --merge-multiarch --build --library=Mergeomics.buildbin-libdir Mergeomics_1.20.0.tar.gz && C:\Users\biocbuild\bbs-3.13-bioc\R\bin\R.exe CMD INSTALL Mergeomics_1.20.0.zip && rm Mergeomics_1.20.0.tar.gz Mergeomics_1.20.0.zip |
| StartedAt: 2021-10-14 06:48:20 -0400 (Thu, 14 Oct 2021) |
| EndedAt: 2021-10-14 06:50:42 -0400 (Thu, 14 Oct 2021) |
| EllapsedTime: 142.1 seconds |
| RetCode: 0 |
| Status: OK |
##############################################################################
##############################################################################
###
### Running command:
###
### C:\cygwin\bin\curl.exe -O http://155.52.207.165/BBS/3.13/bioc/src/contrib/Mergeomics_1.20.0.tar.gz && rm -rf Mergeomics.buildbin-libdir && mkdir Mergeomics.buildbin-libdir && C:\Users\biocbuild\bbs-3.13-bioc\R\bin\R.exe CMD INSTALL --merge-multiarch --build --library=Mergeomics.buildbin-libdir Mergeomics_1.20.0.tar.gz && C:\Users\biocbuild\bbs-3.13-bioc\R\bin\R.exe CMD INSTALL Mergeomics_1.20.0.zip && rm Mergeomics_1.20.0.tar.gz Mergeomics_1.20.0.zip
###
##############################################################################
##############################################################################
% Total % Received % Xferd Average Speed Time Time Time Current
Dload Upload Total Spent Left Speed
0 0 0 0 0 0 0 0 --:--:-- --:--:-- --:--:-- 0
100 2960k 100 2960k 0 0 5346k 0 --:--:-- --:--:-- --:--:-- 5353k
install for i386
* installing *source* package 'Mergeomics' ...
** using staged installation
** R
** data
** inst
** byte-compile and prepare package for lazy loading
** help
*** installing help indices
converting help for package 'Mergeomics'
finding HTML links ... done
MSEA.KDA.onestep html
Mergeomics-package html
job.kda html
kda.analyze html
kda.analyze.exec html
kda.analyze.simulate html
kda.analyze.test html
kda.configure html
kda.finish html
kda.finish.estimate html
kda.finish.save html
kda.finish.summarize html
kda.finish.trim html
kda.prepare html
kda.prepare.overlap html
kda.prepare.screen html
kda.start html
kda.start.edges html
kda.start.identify html
kda.start.modules html
kda2cytoscape html
kda2cytoscape.colorize html
kda2cytoscape.colormap html
kda2cytoscape.drivers html
kda2cytoscape.edges html
kda2cytoscape.exec html
kda2cytoscape.identify html
kda2himmeli html
kda2himmeli.colorize html
kda2himmeli.colormap html
kda2himmeli.drivers html
kda2himmeli.edges html
kda2himmeli.exec html
kda2himmeli.identify html
ssea.analyze html
ssea.analyze.observe html
ssea.analyze.randgenes html
ssea.analyze.randloci html
ssea.analyze.simulate html
ssea.analyze.statistic html
ssea.control html
ssea.finish html
ssea.finish.details html
ssea.finish.fdr html
ssea.finish.genes html
ssea.meta html
ssea.prepare html
ssea.prepare.counts html
ssea.prepare.structure html
ssea.start html
ssea.start.configure html
ssea.start.identify html
ssea.start.relabel html
ssea2kda html
ssea2kda.analyze html
ssea2kda.import html
tool.aggregate html
tool.cluster html
tool.cluster.static html
tool.coalesce html
tool.coalesce.exec html
tool.coalesce.find html
tool.coalesce.merge html
tool.fdr html
tool.fdr.bh html
tool.fdr.empirical html
tool.graph html
tool.graph.degree html
tool.graph.list html
tool.metap html
tool.normalize html
tool.normalize.quality html
tool.overlap html
tool.read html
tool.save html
tool.subgraph html
tool.subgraph.find html
tool.subgraph.search html
tool.subgraph.stats html
tool.translate html
tool.unify html
** building package indices
** installing vignettes
** testing if installed package can be loaded from temporary location
** testing if installed package can be loaded from final location
** testing if installed package keeps a record of temporary installation path
install for x64
* installing *source* package 'Mergeomics' ...
** testing if installed package can be loaded
* MD5 sums
packaged installation of 'Mergeomics' as Mergeomics_1.20.0.zip
* DONE (Mergeomics)
* installing to library 'C:/Users/biocbuild/bbs-3.13-bioc/R/library'
package 'Mergeomics' successfully unpacked and MD5 sums checked