| Back to Multiple platform build/check report for BioC 3.13 |
|
This page was generated on 2021-10-15 15:06:10 -0400 (Fri, 15 Oct 2021).
|
To the developers/maintainers of the Maaslin2 package: - Please allow up to 24 hours (and sometimes 48 hours) for your latest push to git@git.bioconductor.org:packages/Maaslin2.git to reflect on this report. See How and When does the builder pull? When will my changes propagate? here for more information. - Make sure to use the following settings in order to reproduce any error or warning you see on this page. |
| Package 1013/2041 | Hostname | OS / Arch | INSTALL | BUILD | CHECK | BUILD BIN | ||||||||
| Maaslin2 1.6.0 (landing page) Lauren McIver
| nebbiolo1 | Linux (Ubuntu 20.04.2 LTS) / x86_64 | OK | OK | WARNINGS | |||||||||
| tokay2 | Windows Server 2012 R2 Standard / x64 | OK | OK | WARNINGS | OK | |||||||||
| machv2 | macOS 10.14.6 Mojave / x86_64 | OK | OK | WARNINGS | OK | |||||||||
| Package: Maaslin2 |
| Version: 1.6.0 |
| Command: rm -rf Maaslin2.buildbin-libdir && mkdir Maaslin2.buildbin-libdir && C:\Users\biocbuild\bbs-3.13-bioc\R\bin\R.exe CMD INSTALL --merge-multiarch --build --library=Maaslin2.buildbin-libdir Maaslin2_1.6.0.tar.gz |
| StartedAt: 2021-10-15 10:08:27 -0400 (Fri, 15 Oct 2021) |
| EndedAt: 2021-10-15 10:09:59 -0400 (Fri, 15 Oct 2021) |
| EllapsedTime: 92.4 seconds |
| RetCode: 0 |
| Status: OK |
| PackageFile: Maaslin2_1.6.0.zip |
| PackageFileSize: 618.7 KiB |
##############################################################################
##############################################################################
###
### Running command:
###
### rm -rf Maaslin2.buildbin-libdir && mkdir Maaslin2.buildbin-libdir && C:\Users\biocbuild\bbs-3.13-bioc\R\bin\R.exe CMD INSTALL --merge-multiarch --build --library=Maaslin2.buildbin-libdir Maaslin2_1.6.0.tar.gz
###
##############################################################################
##############################################################################
install for i386
* installing *source* package 'Maaslin2' ...
** using staged installation
** R
** inst
** byte-compile and prepare package for lazy loading
Warning in checkDepPackageVersion(dep_pkg = "TMB") :
Package version inconsistency detected.
glmmTMB was built with TMB version 1.7.21
Current TMB version is 1.7.22
Please re-install glmmTMB from source or restore original 'TMB' package (see '?reinstalling' for more information)
** help
*** installing help indices
converting help for package 'Maaslin2'
finding HTML links ... done
Maaslin2 html
** building package indices
** installing vignettes
** testing if installed package can be loaded from temporary location
** testing if installed package can be loaded from final location
** testing if installed package keeps a record of temporary installation path
install for x64
* installing *source* package 'Maaslin2' ...
** testing if installed package can be loaded
* MD5 sums
packaged installation of 'Maaslin2' as Maaslin2_1.6.0.zip
* DONE (Maaslin2)