| Back to Multiple platform build/check report for BioC 3.13 |
|
This page was generated on 2021-10-15 15:06:13 -0400 (Fri, 15 Oct 2021).
|
To the developers/maintainers of the MVCClass package: - Please allow up to 24 hours (and sometimes 48 hours) for your latest push to git@git.bioconductor.org:packages/MVCClass.git to reflect on this report. See How and When does the builder pull? When will my changes propagate? here for more information. - Make sure to use the following settings in order to reproduce any error or warning you see on this page. |
| Package 1237/2041 | Hostname | OS / Arch | INSTALL | BUILD | CHECK | BUILD BIN | ||||||||
| MVCClass 1.66.0 (landing page) Elizabeth Whalen
| nebbiolo1 | Linux (Ubuntu 20.04.2 LTS) / x86_64 | OK | OK | OK | |||||||||
| tokay2 | Windows Server 2012 R2 Standard / x64 | OK | OK | OK | OK | |||||||||
| machv2 | macOS 10.14.6 Mojave / x86_64 | OK | OK | OK | OK | |||||||||
| Package: MVCClass |
| Version: 1.66.0 |
| Command: C:\Users\biocbuild\bbs-3.13-bioc\R\bin\R.exe CMD check --force-multiarch --install=check:MVCClass.install-out.txt --library=C:\Users\biocbuild\bbs-3.13-bioc\R\library --no-vignettes --timings MVCClass_1.66.0.tar.gz |
| StartedAt: 2021-10-15 02:32:17 -0400 (Fri, 15 Oct 2021) |
| EndedAt: 2021-10-15 02:32:50 -0400 (Fri, 15 Oct 2021) |
| EllapsedTime: 33.1 seconds |
| RetCode: 0 |
| Status: OK |
| CheckDir: MVCClass.Rcheck |
| Warnings: 0 |
##############################################################################
##############################################################################
###
### Running command:
###
### C:\Users\biocbuild\bbs-3.13-bioc\R\bin\R.exe CMD check --force-multiarch --install=check:MVCClass.install-out.txt --library=C:\Users\biocbuild\bbs-3.13-bioc\R\library --no-vignettes --timings MVCClass_1.66.0.tar.gz
###
##############################################################################
##############################################################################
* using log directory 'C:/Users/biocbuild/bbs-3.13-bioc/meat/MVCClass.Rcheck'
* using R version 4.1.1 (2021-08-10)
* using platform: x86_64-w64-mingw32 (64-bit)
* using session charset: ISO8859-1
* using option '--no-vignettes'
* checking for file 'MVCClass/DESCRIPTION' ... OK
* this is package 'MVCClass' version '1.66.0'
* checking package namespace information ... OK
* checking package dependencies ... OK
* checking if this is a source package ... OK
* checking if there is a namespace ... OK
* checking for hidden files and directories ... OK
* checking for portable file names ... OK
* checking whether package 'MVCClass' can be installed ... OK
* checking installed package size ... OK
* checking package directory ... OK
* checking 'build' directory ... OK
* checking DESCRIPTION meta-information ... NOTE
Malformed Description field: should contain one or more complete sentences.
* checking top-level files ... OK
* checking for left-over files ... OK
* checking index information ... OK
* checking package subdirectories ... OK
* checking R files for non-ASCII characters ... OK
* checking R files for syntax errors ... OK
* loading checks for arch 'i386'
** checking whether the package can be loaded ... OK
** checking whether the package can be loaded with stated dependencies ... OK
** checking whether the package can be unloaded cleanly ... OK
** checking whether the namespace can be loaded with stated dependencies ... OK
** checking whether the namespace can be unloaded cleanly ... OK
* loading checks for arch 'x64'
** checking whether the package can be loaded ... OK
** checking whether the package can be loaded with stated dependencies ... OK
** checking whether the package can be unloaded cleanly ... OK
** checking whether the namespace can be loaded with stated dependencies ... OK
** checking whether the namespace can be unloaded cleanly ... OK
* checking dependencies in R code ... NOTE
'library' or 'require' call to 'methods' which was already attached by Depends.
Please remove these calls from your code.
* checking S3 generic/method consistency ... OK
* checking replacement functions ... OK
* checking foreign function calls ... OK
* checking R code for possible problems ... NOTE
File 'MVCClass/R/zzz.R':
.onLoad calls:
require("methods")
Package startup functions should not change the search path.
See section 'Good practice' in '?.onAttach'.
* checking Rd files ... NOTE
prepare_Rd: MVC-class.Rd:54-55: Dropping empty section \examples
prepare_Rd: dfModel-class.Rd:42-43: Dropping empty section \examples
prepare_Rd: gAddChildMessage-class.Rd:42-43: Dropping empty section \examples
prepare_Rd: gAddDataMessage-class.Rd:42-43: Dropping empty section \examples
prepare_Rd: gAddMessage-class.Rd:37-38: Dropping empty section \examples
prepare_Rd: gAddViewMessage-class.Rd:42-43: Dropping empty section \examples
prepare_Rd: gAskAncestorMessage-class.Rd:62-63: Dropping empty section \examples
prepare_Rd: gEventFun-class.Rd:49-50: Dropping empty section \examples
prepare_Rd: gMessage-class.Rd:32-33: Dropping empty section \examples
prepare_Rd: gModel-class.Rd:71-72: Dropping empty section \examples
prepare_Rd: gModifyMessage-class.Rd:52-53: Dropping empty section \examples
prepare_Rd: gSendChildMessage-class.Rd:58-59: Dropping empty section \examples
prepare_Rd: gSendParentMessage-class.Rd:49-50: Dropping empty section \examples
prepare_Rd: gUpdateDataMessage-class.Rd:51-52: Dropping empty section \examples
prepare_Rd: gUpdateMessage-class.Rd:37-38: Dropping empty section \examples
prepare_Rd: gUpdateViewMessage-class.Rd:43-44: Dropping empty section \examples
prepare_Rd: genView-class.Rd:62-63: Dropping empty section \examples
prepare_Rd: linkedModelMVC-class.Rd:59-60: Dropping empty section \examples
prepare_Rd: plotView-class.Rd:67-68: Dropping empty section \examples
prepare_Rd: qqPlotView-class.Rd:59-60: Dropping empty section \examples
prepare_Rd: sPlotView-class.Rd:69-70: Dropping empty section \examples
prepare_Rd: singleModelMVC-class.Rd:41-42: Dropping empty section \examples
prepare_Rd: spreadView-class.Rd:50-51: Dropping empty section \examples
* checking Rd metadata ... OK
* checking Rd cross-references ... OK
* checking for missing documentation entries ... OK
* checking for code/documentation mismatches ... OK
* checking Rd \usage sections ... OK
* checking Rd contents ... OK
* checking for unstated dependencies in examples ... OK
* checking files in 'vignettes' ... OK
* checking examples ... NONE
* checking for unstated dependencies in vignettes ... OK
* checking package vignettes in 'inst/doc' ... OK
* checking running R code from vignettes ... SKIPPED
* checking re-building of vignette outputs ... SKIPPED
* checking PDF version of manual ... OK
* DONE
Status: 4 NOTEs
See
'C:/Users/biocbuild/bbs-3.13-bioc/meat/MVCClass.Rcheck/00check.log'
for details.
MVCClass.Rcheck/00install.out
##############################################################################
##############################################################################
###
### Running command:
###
### C:\cygwin\bin\curl.exe -O http://155.52.207.165/BBS/3.13/bioc/src/contrib/MVCClass_1.66.0.tar.gz && rm -rf MVCClass.buildbin-libdir && mkdir MVCClass.buildbin-libdir && C:\Users\biocbuild\bbs-3.13-bioc\R\bin\R.exe CMD INSTALL --merge-multiarch --build --library=MVCClass.buildbin-libdir MVCClass_1.66.0.tar.gz && C:\Users\biocbuild\bbs-3.13-bioc\R\bin\R.exe CMD INSTALL MVCClass_1.66.0.zip && rm MVCClass_1.66.0.tar.gz MVCClass_1.66.0.zip
###
##############################################################################
##############################################################################
% Total % Received % Xferd Average Speed Time Time Time Current
Dload Upload Total Spent Left Speed
0 0 0 0 0 0 0 0 --:--:-- --:--:-- --:--:-- 0
100 900k 100 900k 0 0 2395k 0 --:--:-- --:--:-- --:--:-- 2401k
install for i386
* installing *source* package 'MVCClass' ...
** using staged installation
** R
** inst
** byte-compile and prepare package for lazy loading
** help
*** installing help indices
converting help for package 'MVCClass'
finding HTML links ... done
MVC-class html
dfModel-class html
gAddChildMessage-class html
gAddDataMessage-class html
gAddMessage-class html
gAddViewMessage-class html
gAskAncestorMessage-class html
gEventFun-class html
gMessage-class html
gModel-class html
gModifyMessage-class html
gSendChildMessage-class html
gSendParentMessage-class html
gUpdateDataMessage-class html
gUpdateMessage-class html
gUpdateViewMessage-class html
genView-class html
linkedModelMVC-class html
plotView-class html
qqPlotView-class html
sPlotView-class html
singleModelMVC-class html
spreadView-class html
** building package indices
** installing vignettes
** testing if installed package can be loaded from temporary location
** testing if installed package can be loaded from final location
** testing if installed package keeps a record of temporary installation path
install for x64
* installing *source* package 'MVCClass' ...
** testing if installed package can be loaded
* MD5 sums
packaged installation of 'MVCClass' as MVCClass_1.66.0.zip
* DONE (MVCClass)
* installing to library 'C:/Users/biocbuild/bbs-3.13-bioc/R/library'
package 'MVCClass' successfully unpacked and MD5 sums checked