| Back to Multiple platform build/check report for BioC 3.13 |
|
This page was generated on 2021-10-15 15:06:13 -0400 (Fri, 15 Oct 2021).
|
To the developers/maintainers of the MSstatsTMTPTM package: - Please allow up to 24 hours (and sometimes 48 hours) for your latest push to git@git.bioconductor.org:packages/MSstatsTMTPTM.git to reflect on this report. See How and When does the builder pull? When will my changes propagate? here for more information. - Make sure to use the following settings in order to reproduce any error or warning you see on this page. |
| Package 1216/2041 | Hostname | OS / Arch | INSTALL | BUILD | CHECK | BUILD BIN | ||||||||
| MSstatsTMTPTM 1.2.0 (landing page) Devon Kohler
| nebbiolo1 | Linux (Ubuntu 20.04.2 LTS) / x86_64 | OK | ERROR | skipped | |||||||||
| tokay2 | Windows Server 2012 R2 Standard / x64 | OK | ERROR | skipped | skipped | |||||||||
| machv2 | macOS 10.14.6 Mojave / x86_64 | OK | ERROR | skipped | skipped | |||||||||
| Package: MSstatsTMTPTM |
| Version: 1.2.0 |
| Command: C:\cygwin\bin\curl.exe -O http://155.52.207.165/BBS/3.13/bioc/src/contrib/MSstatsTMTPTM_1.2.0.tar.gz && rm -rf MSstatsTMTPTM.buildbin-libdir && mkdir MSstatsTMTPTM.buildbin-libdir && C:\Users\biocbuild\bbs-3.13-bioc\R\bin\R.exe CMD INSTALL --merge-multiarch --build --library=MSstatsTMTPTM.buildbin-libdir MSstatsTMTPTM_1.2.0.tar.gz && C:\Users\biocbuild\bbs-3.13-bioc\R\bin\R.exe CMD INSTALL MSstatsTMTPTM_1.2.0.zip && rm MSstatsTMTPTM_1.2.0.tar.gz MSstatsTMTPTM_1.2.0.zip |
| StartedAt: 2021-10-14 08:41:07 -0400 (Thu, 14 Oct 2021) |
| EndedAt: 2021-10-14 08:42:00 -0400 (Thu, 14 Oct 2021) |
| EllapsedTime: 52.6 seconds |
| RetCode: 0 |
| Status: OK |
##############################################################################
##############################################################################
###
### Running command:
###
### C:\cygwin\bin\curl.exe -O http://155.52.207.165/BBS/3.13/bioc/src/contrib/MSstatsTMTPTM_1.2.0.tar.gz && rm -rf MSstatsTMTPTM.buildbin-libdir && mkdir MSstatsTMTPTM.buildbin-libdir && C:\Users\biocbuild\bbs-3.13-bioc\R\bin\R.exe CMD INSTALL --merge-multiarch --build --library=MSstatsTMTPTM.buildbin-libdir MSstatsTMTPTM_1.2.0.tar.gz && C:\Users\biocbuild\bbs-3.13-bioc\R\bin\R.exe CMD INSTALL MSstatsTMTPTM_1.2.0.zip && rm MSstatsTMTPTM_1.2.0.tar.gz MSstatsTMTPTM_1.2.0.zip
###
##############################################################################
##############################################################################
% Total % Received % Xferd Average Speed Time Time Time Current
Dload Upload Total Spent Left Speed
0 0 0 0 0 0 0 0 --:--:-- --:--:-- --:--:-- 0
68 510k 68 349k 0 0 934k 0 --:--:-- --:--:-- --:--:-- 934k
100 510k 100 510k 0 0 1052k 0 --:--:-- --:--:-- --:--:-- 1053k
install for i386
* installing *source* package 'MSstatsTMTPTM' ...
** using staged installation
** libs
"C:/rtools40/mingw32/bin/"g++ -std=gnu++11 -I"C:/Users/BIOCBU~1/BBS-3~1.13-/R/include" -DNDEBUG -I'C:/Users/biocbuild/bbs-3.13-bioc/R/library/Rcpp/include' -I"c:/extsoft/include" -O2 -Wall -mfpmath=sse -msse2 -mstackrealign -c RcppExports.cpp -o RcppExports.o
"C:/rtools40/mingw32/bin/"g++ -std=gnu++11 -I"C:/Users/BIOCBU~1/BBS-3~1.13-/R/include" -DNDEBUG -I'C:/Users/biocbuild/bbs-3.13-bioc/R/library/Rcpp/include' -I"c:/extsoft/include" -O2 -Wall -mfpmath=sse -msse2 -mstackrealign -c model_adjust.cpp -o model_adjust.o
C:/rtools40/mingw32/bin/g++ -std=gnu++11 -shared -s -static-libgcc -o MSstatsTMTPTM.dll tmp.def RcppExports.o model_adjust.o -Lc:/extsoft/lib/i386 -Lc:/extsoft/lib -LC:/Users/BIOCBU~1/BBS-3~1.13-/R/bin/i386 -lR
installing to C:/Users/biocbuild/bbs-3.13-bioc/meat/MSstatsTMTPTM.buildbin-libdir/00LOCK-MSstatsTMTPTM/00new/MSstatsTMTPTM/libs/i386
** R
** data
*** moving datasets to lazyload DB
** inst
** byte-compile and prepare package for lazy loading
** help
*** installing help indices
converting help for package 'MSstatsTMTPTM'
finding HTML links ... done
MSstatsTMTPTM html
dataProcessPlotsTMTPTM html
example.contrast.matrix html
groupComparisonTMTPTM html
model.results.contrast html
model.results.pairwise html
quant.msstats.protein html
quant.msstats.ptm html
raw.protein html
raw.ptm html
** building package indices
** installing vignettes
** testing if installed package can be loaded from temporary location
** testing if installed package can be loaded from final location
** testing if installed package keeps a record of temporary installation path
install for x64
* installing *source* package 'MSstatsTMTPTM' ...
** libs
"C:/rtools40/mingw64/bin/"g++ -std=gnu++11 -I"C:/Users/BIOCBU~1/BBS-3~1.13-/R/include" -DNDEBUG -I'C:/Users/biocbuild/bbs-3.13-bioc/R/library/Rcpp/include' -I"C:/extsoft/include" -O2 -Wall -mfpmath=sse -msse2 -mstackrealign -c RcppExports.cpp -o RcppExports.o
"C:/rtools40/mingw64/bin/"g++ -std=gnu++11 -I"C:/Users/BIOCBU~1/BBS-3~1.13-/R/include" -DNDEBUG -I'C:/Users/biocbuild/bbs-3.13-bioc/R/library/Rcpp/include' -I"C:/extsoft/include" -O2 -Wall -mfpmath=sse -msse2 -mstackrealign -c model_adjust.cpp -o model_adjust.o
C:/rtools40/mingw64/bin/g++ -std=gnu++11 -shared -s -static-libgcc -o MSstatsTMTPTM.dll tmp.def RcppExports.o model_adjust.o -LC:/extsoft/lib/x64 -LC:/extsoft/lib -LC:/Users/BIOCBU~1/BBS-3~1.13-/R/bin/x64 -lR
installing to C:/Users/biocbuild/bbs-3.13-bioc/meat/MSstatsTMTPTM.buildbin-libdir/MSstatsTMTPTM/libs/x64
** testing if installed package can be loaded
* MD5 sums
packaged installation of 'MSstatsTMTPTM' as MSstatsTMTPTM_1.2.0.zip
* DONE (MSstatsTMTPTM)
* installing to library 'C:/Users/biocbuild/bbs-3.13-bioc/R/library'
package 'MSstatsTMTPTM' successfully unpacked and MD5 sums checked