| Back to Multiple platform build/check report for BioC 3.13 |
|
This page was generated on 2021-10-15 15:06:13 -0400 (Fri, 15 Oct 2021).
|
To the developers/maintainers of the MSstatsTMT package: - Please allow up to 24 hours (and sometimes 48 hours) for your latest push to git@git.bioconductor.org:packages/MSstatsTMT.git to reflect on this report. See How and When does the builder pull? When will my changes propagate? here for more information. - Make sure to use the following settings in order to reproduce any error or warning you see on this page. |
| Package 1215/2041 | Hostname | OS / Arch | INSTALL | BUILD | CHECK | BUILD BIN | ||||||||
| MSstatsTMT 2.0.1 (landing page) Ting Huang
| nebbiolo1 | Linux (Ubuntu 20.04.2 LTS) / x86_64 | OK | OK | OK | |||||||||
| tokay2 | Windows Server 2012 R2 Standard / x64 | OK | OK | OK | OK | |||||||||
| machv2 | macOS 10.14.6 Mojave / x86_64 | OK | OK | OK | OK | |||||||||
| Package: MSstatsTMT |
| Version: 2.0.1 |
| Command: C:\cygwin\bin\curl.exe -O http://155.52.207.165/BBS/3.13/bioc/src/contrib/MSstatsTMT_2.0.1.tar.gz && rm -rf MSstatsTMT.buildbin-libdir && mkdir MSstatsTMT.buildbin-libdir && C:\Users\biocbuild\bbs-3.13-bioc\R\bin\R.exe CMD INSTALL --merge-multiarch --build --library=MSstatsTMT.buildbin-libdir MSstatsTMT_2.0.1.tar.gz && C:\Users\biocbuild\bbs-3.13-bioc\R\bin\R.exe CMD INSTALL MSstatsTMT_2.0.1.zip && rm MSstatsTMT_2.0.1.tar.gz MSstatsTMT_2.0.1.zip |
| StartedAt: 2021-10-14 08:39:48 -0400 (Thu, 14 Oct 2021) |
| EndedAt: 2021-10-14 08:41:01 -0400 (Thu, 14 Oct 2021) |
| EllapsedTime: 73.5 seconds |
| RetCode: 0 |
| Status: OK |
##############################################################################
##############################################################################
###
### Running command:
###
### C:\cygwin\bin\curl.exe -O http://155.52.207.165/BBS/3.13/bioc/src/contrib/MSstatsTMT_2.0.1.tar.gz && rm -rf MSstatsTMT.buildbin-libdir && mkdir MSstatsTMT.buildbin-libdir && C:\Users\biocbuild\bbs-3.13-bioc\R\bin\R.exe CMD INSTALL --merge-multiarch --build --library=MSstatsTMT.buildbin-libdir MSstatsTMT_2.0.1.tar.gz && C:\Users\biocbuild\bbs-3.13-bioc\R\bin\R.exe CMD INSTALL MSstatsTMT_2.0.1.zip && rm MSstatsTMT_2.0.1.tar.gz MSstatsTMT_2.0.1.zip
###
##############################################################################
##############################################################################
% Total % Received % Xferd Average Speed Time Time Time Current
Dload Upload Total Spent Left Speed
0 0 0 0 0 0 0 0 --:--:-- --:--:-- --:--:-- 0
28 1524k 28 427k 0 0 952k 0 0:00:01 --:--:-- 0:00:01 953k
100 1524k 100 1524k 0 0 1363k 0 0:00:01 0:00:01 --:--:-- 1364k
install for i386
* installing *source* package 'MSstatsTMT' ...
** using staged installation
** R
** data
*** moving datasets to lazyload DB
** inst
** byte-compile and prepare package for lazy loading
** help
*** installing help indices
converting help for package 'MSstatsTMT'
finding HTML links ... done
MSstatsComparisonModelSingleTMT html
MSstatsFitComparisonModelsTMT html
MSstatsGroupComparisonOutputTMT html
MSstatsGroupComparisonTMT html
MSstatsModerateTTest html
MSstatsNormalizeTMT html
MSstatsPrepareForGroupComparisonTMT html
MSstatsPrepareForSummarizationTMT html
MSstatsSummarizationOutputTMT html
MSstatsSummarizeTMT html
MSstatsTMT html
MSstatsTestSingleProteinTMT html
MaxQtoMSstatsTMTFormat html
OpenMStoMSstatsTMTFormat html
PDtoMSstatsTMTFormat html
SpectroMinetoMSstatsTMTFormat html
annotation.mine html
annotation.mq html
annotation.pd html
dataProcessPlotsTMT html
dot-checkContrastMatrix html
dot-checkSummarizationParams html
dot-countRunsWithNorm html
dot-documentFunction html
dot-getNormalizationAbundance html
dot-getRunsMedian html
dot-logSum html
dot-logSummarizationParams html
dot-makeContrastSingleTMT html
dot-makeFactorColumnsTMT html
dot-medianPolish html
dot-normalizePeptides html
dot-normalizeProteins html
dot-prepareForSummarization html
dot-removeRedundantChannels html
dot-summarizeMSstats html
dot-summarizeSimpleStat html
dot-summarizeTMP html
dot-summarizeTMT html
evidence html
getProcessedTMT html
getSummarizedTMT html
groupComparisonTMT html
input.pd html
proteinGroups html
proteinSummarization html
quant.pd.msstats html
raw.mine html
raw.om html
raw.pd html
test.pairwise html
** building package indices
** installing vignettes
** testing if installed package can be loaded from temporary location
** testing if installed package can be loaded from final location
** testing if installed package keeps a record of temporary installation path
install for x64
* installing *source* package 'MSstatsTMT' ...
** testing if installed package can be loaded
* MD5 sums
packaged installation of 'MSstatsTMT' as MSstatsTMT_2.0.1.zip
* DONE (MSstatsTMT)
* installing to library 'C:/Users/biocbuild/bbs-3.13-bioc/R/library'
package 'MSstatsTMT' successfully unpacked and MD5 sums checked