| Back to Multiple platform build/check report for BioC 3.13 |
|
This page was generated on 2021-10-15 15:06:13 -0400 (Fri, 15 Oct 2021).
|
To the developers/maintainers of the MSstatsLOBD package: - Please allow up to 24 hours (and sometimes 48 hours) for your latest push to git@git.bioconductor.org:packages/MSstatsLOBD.git to reflect on this report. See How and When does the builder pull? When will my changes propagate? here for more information. - Make sure to use the following settings in order to reproduce any error or warning you see on this page. |
| Package 1210/2041 | Hostname | OS / Arch | INSTALL | BUILD | CHECK | BUILD BIN | ||||||||
| MSstatsLOBD 1.0.0 (landing page) Devon Kohler
| nebbiolo1 | Linux (Ubuntu 20.04.2 LTS) / x86_64 | OK | OK | OK | |||||||||
| tokay2 | Windows Server 2012 R2 Standard / x64 | OK | OK | OK | OK | |||||||||
| machv2 | macOS 10.14.6 Mojave / x86_64 | OK | OK | OK | OK | |||||||||
| Package: MSstatsLOBD |
| Version: 1.0.0 |
| Command: C:\Users\biocbuild\bbs-3.13-bioc\R\bin\R.exe CMD check --force-multiarch --install=check:MSstatsLOBD.install-out.txt --library=C:\Users\biocbuild\bbs-3.13-bioc\R\library --no-vignettes --timings MSstatsLOBD_1.0.0.tar.gz |
| StartedAt: 2021-10-15 02:23:19 -0400 (Fri, 15 Oct 2021) |
| EndedAt: 2021-10-15 02:24:19 -0400 (Fri, 15 Oct 2021) |
| EllapsedTime: 59.5 seconds |
| RetCode: 0 |
| Status: OK |
| CheckDir: MSstatsLOBD.Rcheck |
| Warnings: 0 |
############################################################################## ############################################################################## ### ### Running command: ### ### C:\Users\biocbuild\bbs-3.13-bioc\R\bin\R.exe CMD check --force-multiarch --install=check:MSstatsLOBD.install-out.txt --library=C:\Users\biocbuild\bbs-3.13-bioc\R\library --no-vignettes --timings MSstatsLOBD_1.0.0.tar.gz ### ############################################################################## ############################################################################## * using log directory 'C:/Users/biocbuild/bbs-3.13-bioc/meat/MSstatsLOBD.Rcheck' * using R version 4.1.1 (2021-08-10) * using platform: x86_64-w64-mingw32 (64-bit) * using session charset: ISO8859-1 * using option '--no-vignettes' * checking for file 'MSstatsLOBD/DESCRIPTION' ... OK * checking extension type ... Package * this is package 'MSstatsLOBD' version '1.0.0' * package encoding: UTF-8 * checking package namespace information ... OK * checking package dependencies ... OK * checking if this is a source package ... OK * checking if there is a namespace ... OK * checking for hidden files and directories ... OK * checking for portable file names ... OK * checking whether package 'MSstatsLOBD' can be installed ... OK * checking installed package size ... OK * checking package directory ... OK * checking 'build' directory ... OK * checking DESCRIPTION meta-information ... NOTE 'LinkingTo' field is unused: package has no 'src' directory * checking top-level files ... OK * checking for left-over files ... OK * checking index information ... OK * checking package subdirectories ... OK * checking R files for non-ASCII characters ... OK * checking R files for syntax errors ... OK * loading checks for arch 'i386' ** checking whether the package can be loaded ... OK ** checking whether the package can be loaded with stated dependencies ... OK ** checking whether the package can be unloaded cleanly ... OK ** checking whether the namespace can be loaded with stated dependencies ... OK ** checking whether the namespace can be unloaded cleanly ... OK * loading checks for arch 'x64' ** checking whether the package can be loaded ... OK ** checking whether the package can be loaded with stated dependencies ... OK ** checking whether the package can be unloaded cleanly ... OK ** checking whether the namespace can be loaded with stated dependencies ... OK ** checking whether the namespace can be unloaded cleanly ... OK * checking dependencies in R code ... OK * checking S3 generic/method consistency ... OK * checking replacement functions ... OK * checking foreign function calls ... OK * checking R code for possible problems ... OK * checking Rd files ... OK * checking Rd metadata ... OK * checking Rd cross-references ... OK * checking for missing documentation entries ... OK * checking for code/documentation mismatches ... OK * checking Rd \usage sections ... OK * checking Rd contents ... OK * checking for unstated dependencies in examples ... OK * checking contents of 'data' directory ... OK * checking data for non-ASCII characters ... OK * checking LazyData ... OK * checking data for ASCII and uncompressed saves ... OK * checking files in 'vignettes' ... OK * checking examples ... ** running examples for arch 'i386' ... OK ** running examples for arch 'x64' ... OK * checking for unstated dependencies in 'tests' ... OK * checking tests ... ** running tests for arch 'i386' ... Running 'tinytest.R' OK ** running tests for arch 'x64' ... Running 'tinytest.R' OK * checking for unstated dependencies in vignettes ... OK * checking package vignettes in 'inst/doc' ... OK * checking running R code from vignettes ... SKIPPED * checking re-building of vignette outputs ... SKIPPED * checking PDF version of manual ... OK * DONE Status: 1 NOTE See 'C:/Users/biocbuild/bbs-3.13-bioc/meat/MSstatsLOBD.Rcheck/00check.log' for details.
MSstatsLOBD.Rcheck/00install.out
##############################################################################
##############################################################################
###
### Running command:
###
### C:\cygwin\bin\curl.exe -O http://155.52.207.165/BBS/3.13/bioc/src/contrib/MSstatsLOBD_1.0.0.tar.gz && rm -rf MSstatsLOBD.buildbin-libdir && mkdir MSstatsLOBD.buildbin-libdir && C:\Users\biocbuild\bbs-3.13-bioc\R\bin\R.exe CMD INSTALL --merge-multiarch --build --library=MSstatsLOBD.buildbin-libdir MSstatsLOBD_1.0.0.tar.gz && C:\Users\biocbuild\bbs-3.13-bioc\R\bin\R.exe CMD INSTALL MSstatsLOBD_1.0.0.zip && rm MSstatsLOBD_1.0.0.tar.gz MSstatsLOBD_1.0.0.zip
###
##############################################################################
##############################################################################
% Total % Received % Xferd Average Speed Time Time Time Current
Dload Upload Total Spent Left Speed
0 0 0 0 0 0 0 0 --:--:-- --:--:-- --:--:-- 0
0 0 0 0 0 0 0 0 --:--:-- --:--:-- --:--:-- 0
100 62806 100 62806 0 0 397k 0 --:--:-- --:--:-- --:--:-- 398k
install for i386
* installing *source* package 'MSstatsLOBD' ...
** using staged installation
** R
** data
*** moving datasets to lazyload DB
** inst
** byte-compile and prepare package for lazy loading
** help
*** installing help indices
converting help for package 'MSstatsLOBD'
finding HTML links ... done
linear_quantlim html
nonlinear_quantlim html
plot_quantlim html
raw_data html
spikeindata html
** building package indices
** installing vignettes
** testing if installed package can be loaded from temporary location
** testing if installed package can be loaded from final location
** testing if installed package keeps a record of temporary installation path
install for x64
* installing *source* package 'MSstatsLOBD' ...
** testing if installed package can be loaded
* MD5 sums
packaged installation of 'MSstatsLOBD' as MSstatsLOBD_1.0.0.zip
* DONE (MSstatsLOBD)
* installing to library 'C:/Users/biocbuild/bbs-3.13-bioc/R/library'
package 'MSstatsLOBD' successfully unpacked and MD5 sums checked
|
MSstatsLOBD.Rcheck/tests_i386/tinytest.Rout
R version 4.1.1 (2021-08-10) -- "Kick Things"
Copyright (C) 2021 The R Foundation for Statistical Computing
Platform: i386-w64-mingw32/i386 (32-bit)
R is free software and comes with ABSOLUTELY NO WARRANTY.
You are welcome to redistribute it under certain conditions.
Type 'license()' or 'licence()' for distribution details.
R is a collaborative project with many contributors.
Type 'contributors()' for more information and
'citation()' on how to cite R or R packages in publications.
Type 'demo()' for some demos, 'help()' for on-line help, or
'help.start()' for an HTML browser interface to help.
Type 'q()' to quit R.
>
> if ( requireNamespace("tinytest", quietly=TRUE) ){
+ tinytest::test_package("MSstatsLOBD")
+ }
test_MSstatsLOBD.R............ 0 tests %%%%
test_MSstatsLOBD.R............ 0 tests
test_MSstatsLOBD.R............ 1 tests [0;32mOK[0m
test_MSstatsLOBD.R............ 2 tests [0;32mOK[0m
test_MSstatsLOBD.R............ 3 tests [0;32mOK[0m
test_MSstatsLOBD.R............ 4 tests [0;32mOK[0m
test_MSstatsLOBD.R............ 5 tests [0;32mOK[0m
test_MSstatsLOBD.R............ 6 tests [0;32mOK[0m
test_MSstatsLOBD.R............ 7 tests [0;32mOK[0m
test_MSstatsLOBD.R............ 8 tests [0;32mOK[0m
test_MSstatsLOBD.R............ 9 tests [0;32mOK[0m
test_MSstatsLOBD.R............ 10 tests [0;32mOK[0m
test_MSstatsLOBD.R............ 11 tests [0;32mOK[0m %%%%
test_MSstatsLOBD.R............ 11 tests [0;32mOK[0m
test_MSstatsLOBD.R............ 12 tests [0;32mOK[0m
test_MSstatsLOBD.R............ 13 tests [0;32mOK[0m
test_MSstatsLOBD.R............ 14 tests [0;32mOK[0m
test_MSstatsLOBD.R............ 15 tests [0;32mOK[0m
test_MSstatsLOBD.R............ 16 tests [0;32mOK[0m
test_MSstatsLOBD.R............ 17 tests [0;32mOK[0m
test_MSstatsLOBD.R............ 18 tests [0;32mOK[0m
test_MSstatsLOBD.R............ 19 tests [0;32mOK[0m
test_MSstatsLOBD.R............ 20 tests [0;32mOK[0m
test_MSstatsLOBD.R............ 21 tests [0;32mOK[0m
test_MSstatsLOBD.R............ 22 tests [0;32mOK[0m
test_MSstatsLOBD.R............ 22 tests [0;32mOK[0m
test_MSstatsLOBD.R............ 23 tests [0;32mOK[0m
test_MSstatsLOBD.R............ 24 tests [0;32mOK[0m
test_MSstatsLOBD.R............ 25 tests [0;32mOK[0m
test_MSstatsLOBD.R............ 26 tests [0;32mOK[0m
test_MSstatsLOBD.R............ 27 tests [0;32mOK[0m
test_MSstatsLOBD.R............ 27 tests [0;32mOK[0m
test_MSstatsLOBD.R............ 28 tests [0;32mOK[0m
test_MSstatsLOBD.R............ 29 tests [0;32mOK[0m
test_MSstatsLOBD.R............ 30 tests [0;32mOK[0m
test_MSstatsLOBD.R............ 31 tests [0;32mOK[0m [0;34m0.8s[0m
All ok, 31 results (0.8s)
There were 16 warnings (use warnings() to see them)
>
>
> proc.time()
user system elapsed
1.82 0.09 1.90
|
MSstatsLOBD.Rcheck/tests_x64/tinytest.Rout
R version 4.1.1 (2021-08-10) -- "Kick Things"
Copyright (C) 2021 The R Foundation for Statistical Computing
Platform: x86_64-w64-mingw32/x64 (64-bit)
R is free software and comes with ABSOLUTELY NO WARRANTY.
You are welcome to redistribute it under certain conditions.
Type 'license()' or 'licence()' for distribution details.
R is a collaborative project with many contributors.
Type 'contributors()' for more information and
'citation()' on how to cite R or R packages in publications.
Type 'demo()' for some demos, 'help()' for on-line help, or
'help.start()' for an HTML browser interface to help.
Type 'q()' to quit R.
>
> if ( requireNamespace("tinytest", quietly=TRUE) ){
+ tinytest::test_package("MSstatsLOBD")
+ }
test_MSstatsLOBD.R............ 0 tests %%%%
test_MSstatsLOBD.R............ 0 tests
test_MSstatsLOBD.R............ 1 tests [0;32mOK[0m
test_MSstatsLOBD.R............ 2 tests [0;32mOK[0m
test_MSstatsLOBD.R............ 3 tests [0;32mOK[0m
test_MSstatsLOBD.R............ 4 tests [0;32mOK[0m
test_MSstatsLOBD.R............ 5 tests [0;32mOK[0m
test_MSstatsLOBD.R............ 6 tests [0;32mOK[0m
test_MSstatsLOBD.R............ 7 tests [0;32mOK[0m
test_MSstatsLOBD.R............ 8 tests [0;32mOK[0m
test_MSstatsLOBD.R............ 9 tests [0;32mOK[0m
test_MSstatsLOBD.R............ 10 tests [0;32mOK[0m
test_MSstatsLOBD.R............ 11 tests [0;32mOK[0m %%%%
test_MSstatsLOBD.R............ 11 tests [0;32mOK[0m
test_MSstatsLOBD.R............ 12 tests [0;32mOK[0m
test_MSstatsLOBD.R............ 13 tests [0;32mOK[0m
test_MSstatsLOBD.R............ 14 tests [0;32mOK[0m
test_MSstatsLOBD.R............ 15 tests [0;32mOK[0m
test_MSstatsLOBD.R............ 16 tests [0;32mOK[0m
test_MSstatsLOBD.R............ 17 tests [0;32mOK[0m
test_MSstatsLOBD.R............ 18 tests [0;32mOK[0m
test_MSstatsLOBD.R............ 19 tests [0;32mOK[0m
test_MSstatsLOBD.R............ 20 tests [0;32mOK[0m
test_MSstatsLOBD.R............ 21 tests [0;32mOK[0m
test_MSstatsLOBD.R............ 22 tests [0;32mOK[0m
test_MSstatsLOBD.R............ 22 tests [0;32mOK[0m
test_MSstatsLOBD.R............ 23 tests [0;32mOK[0m
test_MSstatsLOBD.R............ 24 tests [0;32mOK[0m
test_MSstatsLOBD.R............ 25 tests [0;32mOK[0m
test_MSstatsLOBD.R............ 26 tests [0;32mOK[0m
test_MSstatsLOBD.R............ 27 tests [0;32mOK[0m
test_MSstatsLOBD.R............ 27 tests [0;32mOK[0m
test_MSstatsLOBD.R............ 28 tests [0;32mOK[0m
test_MSstatsLOBD.R............ 29 tests [0;32mOK[0m
test_MSstatsLOBD.R............ 30 tests [0;32mOK[0m
test_MSstatsLOBD.R............ 31 tests [0;32mOK[0m [0;34m0.5s[0m
All ok, 31 results (0.5s)
There were 16 warnings (use warnings() to see them)
>
>
> proc.time()
user system elapsed
1.65 0.10 1.75
|
|
MSstatsLOBD.Rcheck/examples_i386/MSstatsLOBD-Ex.timings
|
MSstatsLOBD.Rcheck/examples_x64/MSstatsLOBD-Ex.timings
|