| Back to Multiple platform build/check report for BioC 3.13 |
|
This page was generated on 2021-10-15 15:06:12 -0400 (Fri, 15 Oct 2021).
|
To the developers/maintainers of the MSEADbi package: - Please allow up to 24 hours (and sometimes 48 hours) for your latest push to git@git.bioconductor.org:packages/MSEADbi.git to reflect on this report. See How and When does the builder pull? When will my changes propagate? here for more information. - Make sure to use the following settings in order to reproduce any error or warning you see on this page. |
| Package 1195/2041 | Hostname | OS / Arch | INSTALL | BUILD | CHECK | BUILD BIN | ||||||||
Kozo Nishida
| nebbiolo1 | Linux (Ubuntu 20.04.2 LTS) / x86_64 | OK | OK | WARNINGS | |||||||||
| tokay2 | Windows Server 2012 R2 Standard / x64 | OK | OK | WARNINGS | OK | |||||||||
| machv2 | macOS 10.14.6 Mojave / x86_64 | OK | OK | WARNINGS | OK | |||||||||
| Package: MSEADbi |
| Version: 1.2.0 |
| Command: rm -rf MSEADbi.buildbin-libdir && mkdir MSEADbi.buildbin-libdir && C:\Users\biocbuild\bbs-3.13-bioc\R\bin\R.exe CMD INSTALL --merge-multiarch --build --library=MSEADbi.buildbin-libdir MSEADbi_1.2.0.tar.gz |
| StartedAt: 2021-10-15 10:32:45 -0400 (Fri, 15 Oct 2021) |
| EndedAt: 2021-10-15 10:34:07 -0400 (Fri, 15 Oct 2021) |
| EllapsedTime: 82.1 seconds |
| RetCode: 0 |
| Status: OK |
| PackageFile: MSEADbi_1.2.0.zip |
| PackageFileSize: 920.7 KiB |
##############################################################################
##############################################################################
###
### Running command:
###
### rm -rf MSEADbi.buildbin-libdir && mkdir MSEADbi.buildbin-libdir && C:\Users\biocbuild\bbs-3.13-bioc\R\bin\R.exe CMD INSTALL --merge-multiarch --build --library=MSEADbi.buildbin-libdir MSEADbi_1.2.0.tar.gz
###
##############################################################################
##############################################################################
install for i386
* installing *source* package 'MSEADbi' ...
** using staged installation
** R
** inst
** byte-compile and prepare package for lazy loading
** help
*** installing help indices
converting help for package 'MSEADbi'
finding HTML links ... done
MSEADb html
columns html
dbInfo html
dbconn html
dbfile html
dbschema html
keys html
keytypes html
makeMSEAPackage html
mseaListPathwaySubjects html
mseaNomenclature html
mseaPackageName html
mseaVersion html
select html
species html
** building package indices
** installing vignettes
** testing if installed package can be loaded from temporary location
Warning: Package 'MSEADbi' is deprecated and will be removed from Bioconductor
version 3.14. Please see replacement package AHPathbankDbs
** testing if installed package can be loaded from final location
Warning: Package 'MSEADbi' is deprecated and will be removed from Bioconductor
version 3.14. Please see replacement package AHPathbankDbs
** testing if installed package keeps a record of temporary installation path
install for x64
* installing *source* package 'MSEADbi' ...
** testing if installed package can be loaded
Warning: Package 'MSEADbi' is deprecated and will be removed from Bioconductor
version 3.14. Please see replacement package AHPathbankDbs
* MD5 sums
packaged installation of 'MSEADbi' as MSEADbi_1.2.0.zip
* DONE (MSEADbi)