| Back to Multiple platform build/check report for BioC 3.13 |
|
This page was generated on 2021-10-15 15:05:46 -0400 (Fri, 15 Oct 2021).
|
To the developers/maintainers of the MQmetrics package: - Please allow up to 24 hours (and sometimes 48 hours) for your latest push to git@git.bioconductor.org:packages/MQmetrics.git to reflect on this report. See How and When does the builder pull? When will my changes propagate? here for more information. - Make sure to use the following settings in order to reproduce any error or warning you see on this page. |
| Package 1190/2041 | Hostname | OS / Arch | INSTALL | BUILD | CHECK | BUILD BIN | ||||||||
| MQmetrics 1.0.0 (landing page) Alvaro Sanchez-Villalba
| nebbiolo1 | Linux (Ubuntu 20.04.2 LTS) / x86_64 | OK | OK | OK | |||||||||
| tokay2 | Windows Server 2012 R2 Standard / x64 | OK | OK | OK | OK | |||||||||
| machv2 | macOS 10.14.6 Mojave / x86_64 | OK | OK | OK | OK | |||||||||
| Package: MQmetrics |
| Version: 1.0.0 |
| Command: /home/biocbuild/bbs-3.13-bioc/R/bin/R CMD check --install=check:MQmetrics.install-out.txt --library=/home/biocbuild/bbs-3.13-bioc/R/library --no-vignettes --timings MQmetrics_1.0.0.tar.gz |
| StartedAt: 2021-10-14 10:41:48 -0400 (Thu, 14 Oct 2021) |
| EndedAt: 2021-10-14 10:43:22 -0400 (Thu, 14 Oct 2021) |
| EllapsedTime: 94.8 seconds |
| RetCode: 0 |
| Status: OK |
| CheckDir: MQmetrics.Rcheck |
| Warnings: 0 |
##############################################################################
##############################################################################
###
### Running command:
###
### /home/biocbuild/bbs-3.13-bioc/R/bin/R CMD check --install=check:MQmetrics.install-out.txt --library=/home/biocbuild/bbs-3.13-bioc/R/library --no-vignettes --timings MQmetrics_1.0.0.tar.gz
###
##############################################################################
##############################################################################
* using log directory ‘/home/biocbuild/bbs-3.13-bioc/meat/MQmetrics.Rcheck’
* using R version 4.1.1 (2021-08-10)
* using platform: x86_64-pc-linux-gnu (64-bit)
* using session charset: UTF-8
* using option ‘--no-vignettes’
* checking for file ‘MQmetrics/DESCRIPTION’ ... OK
* checking extension type ... Package
* this is package ‘MQmetrics’ version ‘1.0.0’
* package encoding: UTF-8
* checking package namespace information ... OK
* checking package dependencies ... OK
* checking if this is a source package ... OK
* checking if there is a namespace ... OK
* checking for hidden files and directories ... OK
* checking for portable file names ... OK
* checking for sufficient/correct file permissions ... OK
* checking whether package ‘MQmetrics’ can be installed ... OK
* checking installed package size ... OK
* checking package directory ... OK
* checking ‘build’ directory ... OK
* checking DESCRIPTION meta-information ... OK
* checking top-level files ... OK
* checking for left-over files ... OK
* checking index information ... OK
* checking package subdirectories ... OK
* checking R files for non-ASCII characters ... OK
* checking R files for syntax errors ... OK
* checking whether the package can be loaded ... OK
* checking whether the package can be loaded with stated dependencies ... OK
* checking whether the package can be unloaded cleanly ... OK
* checking whether the namespace can be loaded with stated dependencies ... OK
* checking whether the namespace can be unloaded cleanly ... OK
* checking dependencies in R code ... OK
* checking S3 generic/method consistency ... OK
* checking replacement functions ... OK
* checking foreign function calls ... OK
* checking R code for possible problems ... OK
* checking Rd files ... OK
* checking Rd metadata ... OK
* checking Rd cross-references ... OK
* checking for missing documentation entries ... OK
* checking for code/documentation mismatches ... OK
* checking Rd \usage sections ... OK
* checking Rd contents ... OK
* checking for unstated dependencies in examples ... OK
* checking files in ‘vignettes’ ... OK
* checking examples ... OK
Examples with CPU (user + system) or elapsed time > 5s
user system elapsed
PlotAcquisitionCycle 8.363 0.328 5.385
PlotTotalIonCurrent 5.042 0.268 2.478
* checking for unstated dependencies in ‘tests’ ... OK
* checking tests ...
Running ‘testthat.R’
OK
* checking for unstated dependencies in vignettes ... OK
* checking package vignettes in ‘inst/doc’ ... OK
* checking running R code from vignettes ... SKIPPED
* checking re-building of vignette outputs ... SKIPPED
* checking PDF version of manual ... OK
* DONE
Status: OK
MQmetrics.Rcheck/00install.out
############################################################################## ############################################################################## ### ### Running command: ### ### /home/biocbuild/bbs-3.13-bioc/R/bin/R CMD INSTALL MQmetrics ### ############################################################################## ############################################################################## * installing to library ‘/home/biocbuild/bbs-3.13-bioc/R/library’ * installing *source* package ‘MQmetrics’ ... ** using staged installation ** R ** inst ** byte-compile and prepare package for lazy loading ** help *** installing help indices *** copying figures ** building package indices ** installing vignettes ** testing if installed package can be loaded from temporary location ** testing if installed package can be loaded from final location ** testing if installed package keeps a record of temporary installation path * DONE (MQmetrics)
MQmetrics.Rcheck/tests/testthat.Rout
R version 4.1.1 (2021-08-10) -- "Kick Things"
Copyright (C) 2021 The R Foundation for Statistical Computing
Platform: x86_64-pc-linux-gnu (64-bit)
R is free software and comes with ABSOLUTELY NO WARRANTY.
You are welcome to redistribute it under certain conditions.
Type 'license()' or 'licence()' for distribution details.
R is a collaborative project with many contributors.
Type 'contributors()' for more information and
'citation()' on how to cite R or R packages in publications.
Type 'demo()' for some demos, 'help()' for on-line help, or
'help.start()' for an HTML browser interface to help.
Type 'q()' to quit R.
> library(testthat)
> library(MQmetrics)
>
> test_check("MQmetrics")
Rows: 7 Columns: 52
-- Column specification --------------------------------------------------------
Delimiter: "\t"
chr (8): Raw file, Experiment, Enzyme, Enzyme mode, Variable modifications,...
dbl (34): Multiplicity, Max. missed cleavages, MS, MS/MS, MS3, MS/MS Submitt...
lgl (10): Enzyme first search, Enzyme mode first search, Use enzyme first se...
i Use `spec()` to retrieve the full column specification for this data.
i Specify the column types or set `show_col_types = FALSE` to quiet this message.
Rows: 2638 Columns: 65
-- Column specification --------------------------------------------------------
Delimiter: "\t"
chr (16): Sequence, Identification type QC02_210326, Identification type QC0...
dbl (48): Missed cleavages, Experiment QC02_210326, Experiment QC02_210331, ...
lgl (1): Reverse
i Use `spec()` to retrieve the full column specification for this data.
i Specify the column types or set `show_col_types = FALSE` to quiet this message.
Rows: 13161 Columns: 9
-- Column specification --------------------------------------------------------
Delimiter: "\t"
chr (3): Experiment, Potential contaminant, Sequence
dbl (5): Charge, m/z, Retention time, Calibrated retention time, Intensity
lgl (1): Reverse
i Use `spec()` to retrieve the full column specification for this data.
i Specify the column types or set `show_col_types = FALSE` to quiet this message.
Rows: 32418 Columns: 4
-- Column specification --------------------------------------------------------
Delimiter: "\t"
chr (1): Experiment
dbl (3): Retention time, Cycle time, MS/MS count
i Use `spec()` to retrieve the full column specification for this data.
i Specify the column types or set `show_col_types = FALSE` to quiet this message.
Rows: 29621 Columns: 4
-- Column specification --------------------------------------------------------
Delimiter: "\t"
chr (2): Experiment, Reverse
dbl (2): Retention time, Total ion current
i Use `spec()` to retrieve the full column specification for this data.
i Specify the column types or set `show_col_types = FALSE` to quiet this message.
Rows: 4751 Columns: 32
-- Column specification --------------------------------------------------------
Delimiter: "\t"
chr (10): Identification type QC02_210326, Identification type QC02_210331, ...
dbl (22): Intensity, Intensity QC02_210326, Intensity QC02_210331, Intensity...
i Use `spec()` to retrieve the full column specification for this data.
i Specify the column types or set `show_col_types = FALSE` to quiet this message.
Rows: 2803 Columns: 16
-- Column specification --------------------------------------------------------
Delimiter: "\t"
chr (4): Modifications, Proteins, Potential contaminant, Reverse
dbl (12): Intensity QC02_210326, Intensity QC02_210331, Intensity QC02_21040...
i Use `spec()` to retrieve the full column specification for this data.
i Specify the column types or set `show_col_types = FALSE` to quiet this message.
Rows: 108 Columns: 2
-- Column specification --------------------------------------------------------
Delimiter: "\t"
chr (2): Parameter, Value
i Use `spec()` to retrieve the full column specification for this data.
i Specify the column types or set `show_col_types = FALSE` to quiet this message.
Rows: 53 Columns: 6
-- Column specification --------------------------------------------------------
Delimiter: "\t"
chr (3): Job, Start date, End date
dbl (1): Running time [min]
time (2): Start time, End time
i Use `spec()` to retrieve the full column specification for this data.
i Specify the column types or set `show_col_types = FALSE` to quiet this message.
Rows: 7 Columns: 52
-- Column specification --------------------------------------------------------
Delimiter: "\t"
chr (8): Raw file, Experiment, Enzyme, Enzyme mode, Variable modifications,...
dbl (34): Multiplicity, Max. missed cleavages, MS, MS/MS, MS3, MS/MS Submitt...
lgl (10): Enzyme first search, Enzyme mode first search, Use enzyme first se...
i Use `spec()` to retrieve the full column specification for this data.
i Specify the column types or set `show_col_types = FALSE` to quiet this message.
Rows: 2638 Columns: 65
-- Column specification --------------------------------------------------------
Delimiter: "\t"
chr (16): Sequence, Identification type QC02_210326, Identification type QC0...
dbl (48): Missed cleavages, Experiment QC02_210326, Experiment QC02_210331, ...
lgl (1): Reverse
i Use `spec()` to retrieve the full column specification for this data.
i Specify the column types or set `show_col_types = FALSE` to quiet this message.
Rows: 13161 Columns: 9
-- Column specification --------------------------------------------------------
Delimiter: "\t"
chr (3): Experiment, Potential contaminant, Sequence
dbl (5): Charge, m/z, Retention time, Calibrated retention time, Intensity
lgl (1): Reverse
i Use `spec()` to retrieve the full column specification for this data.
i Specify the column types or set `show_col_types = FALSE` to quiet this message.
Rows: 32418 Columns: 4
-- Column specification --------------------------------------------------------
Delimiter: "\t"
chr (1): Experiment
dbl (3): Retention time, Cycle time, MS/MS count
i Use `spec()` to retrieve the full column specification for this data.
i Specify the column types or set `show_col_types = FALSE` to quiet this message.
Rows: 29621 Columns: 4
-- Column specification --------------------------------------------------------
Delimiter: "\t"
chr (2): Experiment, Reverse
dbl (2): Retention time, Total ion current
i Use `spec()` to retrieve the full column specification for this data.
i Specify the column types or set `show_col_types = FALSE` to quiet this message.
Rows: 4751 Columns: 32
-- Column specification --------------------------------------------------------
Delimiter: "\t"
chr (10): Identification type QC02_210326, Identification type QC02_210331, ...
dbl (22): Intensity, Intensity QC02_210326, Intensity QC02_210331, Intensity...
i Use `spec()` to retrieve the full column specification for this data.
i Specify the column types or set `show_col_types = FALSE` to quiet this message.
Rows: 2803 Columns: 16
-- Column specification --------------------------------------------------------
Delimiter: "\t"
chr (4): Modifications, Proteins, Potential contaminant, Reverse
dbl (12): Intensity QC02_210326, Intensity QC02_210331, Intensity QC02_21040...
i Use `spec()` to retrieve the full column specification for this data.
i Specify the column types or set `show_col_types = FALSE` to quiet this message.
Rows: 108 Columns: 2
-- Column specification --------------------------------------------------------
Delimiter: "\t"
chr (2): Parameter, Value
i Use `spec()` to retrieve the full column specification for this data.
i Specify the column types or set `show_col_types = FALSE` to quiet this message.
Rows: 53 Columns: 6
-- Column specification --------------------------------------------------------
Delimiter: "\t"
chr (3): Job, Start date, End date
dbl (1): Running time [min]
time (2): Start time, End time
i Use `spec()` to retrieve the full column specification for this data.
i Specify the column types or set `show_col_types = FALSE` to quiet this message.
Rows: 4751 Columns: 32
-- Column specification --------------------------------------------------------
Delimiter: "\t"
chr (10): Identification type QC02_210326, Identification type QC02_210331, ...
dbl (22): Intensity, Intensity QC02_210326, Intensity QC02_210331, Intensity...
i Use `spec()` to retrieve the full column specification for this data.
i Specify the column types or set `show_col_types = FALSE` to quiet this message.
Rows: 7 Columns: 52
-- Column specification --------------------------------------------------------
Delimiter: "\t"
chr (8): Raw file, Experiment, Enzyme, Enzyme mode, Variable modifications,...
dbl (34): Multiplicity, Max. missed cleavages, MS, MS/MS, MS3, MS/MS Submitt...
lgl (10): Enzyme first search, Enzyme mode first search, Use enzyme first se...
i Use `spec()` to retrieve the full column specification for this data.
i Specify the column types or set `show_col_types = FALSE` to quiet this message.
Using Charge as value column: use value.var to override.
Aggregation function missing: defaulting to length
Rows: 7 Columns: 52
-- Column specification --------------------------------------------------------
Delimiter: "\t"
chr (8): Raw file, Experiment, Enzyme, Enzyme mode, Variable modifications,...
dbl (34): Multiplicity, Max. missed cleavages, MS, MS/MS, MS3, MS/MS Submitt...
lgl (10): Enzyme first search, Enzyme mode first search, Use enzyme first se...
i Use `spec()` to retrieve the full column specification for this data.
i Specify the column types or set `show_col_types = FALSE` to quiet this message.
Rows: 2638 Columns: 65
-- Column specification --------------------------------------------------------
Delimiter: "\t"
chr (16): Sequence, Identification type QC02_210326, Identification type QC0...
dbl (48): Missed cleavages, Experiment QC02_210326, Experiment QC02_210331, ...
lgl (1): Reverse
i Use `spec()` to retrieve the full column specification for this data.
i Specify the column types or set `show_col_types = FALSE` to quiet this message.
Rows: 13161 Columns: 9
-- Column specification --------------------------------------------------------
Delimiter: "\t"
chr (3): Experiment, Potential contaminant, Sequence
dbl (5): Charge, m/z, Retention time, Calibrated retention time, Intensity
lgl (1): Reverse
i Use `spec()` to retrieve the full column specification for this data.
i Specify the column types or set `show_col_types = FALSE` to quiet this message.
Rows: 32418 Columns: 4
-- Column specification --------------------------------------------------------
Delimiter: "\t"
chr (1): Experiment
dbl (3): Retention time, Cycle time, MS/MS count
i Use `spec()` to retrieve the full column specification for this data.
i Specify the column types or set `show_col_types = FALSE` to quiet this message.
Rows: 29621 Columns: 4
-- Column specification --------------------------------------------------------
Delimiter: "\t"
chr (2): Experiment, Reverse
dbl (2): Retention time, Total ion current
i Use `spec()` to retrieve the full column specification for this data.
i Specify the column types or set `show_col_types = FALSE` to quiet this message.
Rows: 4751 Columns: 32
-- Column specification --------------------------------------------------------
Delimiter: "\t"
chr (10): Identification type QC02_210326, Identification type QC02_210331, ...
dbl (22): Intensity, Intensity QC02_210326, Intensity QC02_210331, Intensity...
i Use `spec()` to retrieve the full column specification for this data.
i Specify the column types or set `show_col_types = FALSE` to quiet this message.
Rows: 2803 Columns: 16
-- Column specification --------------------------------------------------------
Delimiter: "\t"
chr (4): Modifications, Proteins, Potential contaminant, Reverse
dbl (12): Intensity QC02_210326, Intensity QC02_210331, Intensity QC02_21040...
i Use `spec()` to retrieve the full column specification for this data.
i Specify the column types or set `show_col_types = FALSE` to quiet this message.
Rows: 108 Columns: 2
-- Column specification --------------------------------------------------------
Delimiter: "\t"
chr (2): Parameter, Value
i Use `spec()` to retrieve the full column specification for this data.
i Specify the column types or set `show_col_types = FALSE` to quiet this message.
Rows: 53 Columns: 6
-- Column specification --------------------------------------------------------
Delimiter: "\t"
chr (3): Job, Start date, End date
dbl (1): Running time [min]
time (2): Start time, End time
i Use `spec()` to retrieve the full column specification for this data.
i Specify the column types or set `show_col_types = FALSE` to quiet this message.
[ FAIL 0 | WARN 0 | SKIP 0 | PASS 3 ]
>
> proc.time()
user system elapsed
6.207 0.739 6.034
MQmetrics.Rcheck/MQmetrics-Ex.timings
| name | user | system | elapsed | |
| MaxQuantAnalysisInfo | 1.422 | 0.186 | 1.424 | |
| PlotAcquisitionCycle | 8.363 | 0.328 | 5.385 | |
| PlotAllDynamicRange | 2.428 | 0.149 | 2.361 | |
| PlotAndromedaScore | 3.581 | 0.165 | 3.604 | |
| PlotCharge | 1.681 | 0.076 | 1.498 | |
| PlotCombinedDynamicRange | 1.107 | 0.080 | 1.055 | |
| PlotHydrophobicity | 2.245 | 0.218 | 2.169 | |
| PlotIdentificationType | 1.577 | 0.131 | 1.538 | |
| PlotIntensity | 1.820 | 0.178 | 1.781 | |
| PlotIsotopePattern | 1.222 | 0.101 | 1.117 | |
| PlotMsMs | 1.131 | 0.151 | 1.096 | |
| PlotPCA | 1.251 | 0.094 | 1.135 | |
| PlotPTM | 4.450 | 0.190 | 4.411 | |
| PlotPeaks | 1.233 | 0.090 | 1.155 | |
| PlotPeptidesIdentified | 1.278 | 0.125 | 1.237 | |
| PlotProteaseSpecificity | 3.113 | 0.169 | 3.093 | |
| PlotProteinCoverage | 1.170 | 0.100 | 1.089 | |
| PlotProteinOverlap | 1.433 | 0.203 | 1.436 | |
| PlotProteinPeptideRatio | 1.666 | 0.155 | 1.578 | |
| PlotProteinsIdentified | 1.269 | 0.105 | 1.137 | |
| PlotTotalIonCurrent | 5.042 | 0.268 | 2.478 | |
| PlotiRT | 2.044 | 0.165 | 2.028 | |
| PlotiRTScore | 1.662 | 0.126 | 1.617 | |
| ReportTables | 1.827 | 0.291 | 1.704 | |
| generateReport | 0 | 0 | 0 | |
| make_MQCombined | 1.260 | 0.124 | 1.216 | |