| Back to Multiple platform build/check report for BioC 3.13 |
|
This page was generated on 2021-10-15 15:06:12 -0400 (Fri, 15 Oct 2021).
|
To the developers/maintainers of the MOMA package: - Please allow up to 24 hours (and sometimes 48 hours) for your latest push to git@git.bioconductor.org:packages/MOMA.git to reflect on this report. See How and When does the builder pull? When will my changes propagate? here for more information. - Make sure to use the following settings in order to reproduce any error or warning you see on this page. |
| Package 1176/2041 | Hostname | OS / Arch | INSTALL | BUILD | CHECK | BUILD BIN | ||||||||
| MOMA 1.4.0 (landing page) Sunny Jones
| nebbiolo1 | Linux (Ubuntu 20.04.2 LTS) / x86_64 | OK | OK | OK | |||||||||
| tokay2 | Windows Server 2012 R2 Standard / x64 | OK | OK | OK | OK | |||||||||
| machv2 | macOS 10.14.6 Mojave / x86_64 | OK | OK | OK | OK | |||||||||
| Package: MOMA |
| Version: 1.4.0 |
| Command: C:\cygwin\bin\curl.exe -O http://155.52.207.165/BBS/3.13/bioc/src/contrib/MOMA_1.4.0.tar.gz && rm -rf MOMA.buildbin-libdir && mkdir MOMA.buildbin-libdir && C:\Users\biocbuild\bbs-3.13-bioc\R\bin\R.exe CMD INSTALL --merge-multiarch --build --library=MOMA.buildbin-libdir MOMA_1.4.0.tar.gz && C:\Users\biocbuild\bbs-3.13-bioc\R\bin\R.exe CMD INSTALL MOMA_1.4.0.zip && rm MOMA_1.4.0.tar.gz MOMA_1.4.0.zip |
| StartedAt: 2021-10-14 09:45:15 -0400 (Thu, 14 Oct 2021) |
| EndedAt: 2021-10-14 09:47:06 -0400 (Thu, 14 Oct 2021) |
| EllapsedTime: 111.3 seconds |
| RetCode: 0 |
| Status: OK |
##############################################################################
##############################################################################
###
### Running command:
###
### C:\cygwin\bin\curl.exe -O http://155.52.207.165/BBS/3.13/bioc/src/contrib/MOMA_1.4.0.tar.gz && rm -rf MOMA.buildbin-libdir && mkdir MOMA.buildbin-libdir && C:\Users\biocbuild\bbs-3.13-bioc\R\bin\R.exe CMD INSTALL --merge-multiarch --build --library=MOMA.buildbin-libdir MOMA_1.4.0.tar.gz && C:\Users\biocbuild\bbs-3.13-bioc\R\bin\R.exe CMD INSTALL MOMA_1.4.0.zip && rm MOMA_1.4.0.tar.gz MOMA_1.4.0.zip
###
##############################################################################
##############################################################################
% Total % Received % Xferd Average Speed Time Time Time Current
Dload Upload Total Spent Left Speed
0 0 0 0 0 0 0 0 --:--:-- --:--:-- --:--:-- 0
37 4070k 37 1533k 0 0 2737k 0 0:00:01 --:--:-- 0:00:01 2737k
100 4070k 100 4070k 0 0 3742k 0 0:00:01 0:00:01 --:--:-- 3744k
install for i386
* installing *source* package 'MOMA' ...
** using staged installation
** R
** data
*** moving datasets to lazyload DB
** byte-compile and prepare package for lazy loading
** help
*** installing help indices
converting help for package 'MOMA'
finding HTML links ... done
Moma-class html
areaEnrich html
associateEvents html
checkGeneMap html
checkList html
checkMAE html
checkPathways html
clusterRange html
clusterReliability html
cnvScoreStouffer html
conditionalModel html
conditionalP html
empiricalP html
example.gbm.mae html
fitCurvePercent html
gbm.pathways html
gene.map html
genomicPlotSmall html
getCoverage html
getDataFrame html
getDiggitEmpiricalQvalues html
getEmpiricalQvals html
getPvalsMatrix html
getSubtypeEventTables html
integrateFunction html
integrateTZ html
makeCoverageDf html
makeSaturationPlots html
mapEntrez html
mapHugo html
mapScoresCnvBand html
mergeData html
mergeDataBySubtype html
mergeGenomicSaturation html
mergeLists html
momaConstructor html
mutSig html
oncoprintPlot html
pathwayDiggitIntersect html
plotEvents html
rea html
reaNULL html
sREA html
sampleNameFilter html
sampleOverlap html
sigInteractorsDIGGIT html
stoufferIntegrate html
stoufferIntegrateDiggit html
subsetListInteractions html
validDiggitInteractions html
viperGetSigTFS html
viperGetTFScores html
** building package indices
** installing vignettes
** testing if installed package can be loaded from temporary location
** testing if installed package can be loaded from final location
** testing if installed package keeps a record of temporary installation path
install for x64
* installing *source* package 'MOMA' ...
** testing if installed package can be loaded
* MD5 sums
packaged installation of 'MOMA' as MOMA_1.4.0.zip
* DONE (MOMA)
* installing to library 'C:/Users/biocbuild/bbs-3.13-bioc/R/library'
package 'MOMA' successfully unpacked and MD5 sums checked