| Back to Multiple platform build/check report for BioC 3.13 |
|
This page was generated on 2021-10-15 15:06:11 -0400 (Fri, 15 Oct 2021).
|
To the developers/maintainers of the MIMOSA package: - Please allow up to 24 hours (and sometimes 48 hours) for your latest push to git@git.bioconductor.org:packages/MIMOSA.git to reflect on this report. See How and When does the builder pull? When will my changes propagate? here for more information. - Make sure to use the following settings in order to reproduce any error or warning you see on this page. |
| Package 1136/2041 | Hostname | OS / Arch | INSTALL | BUILD | CHECK | BUILD BIN | ||||||||
| MIMOSA 1.30.0 (landing page) Greg Finak
| nebbiolo1 | Linux (Ubuntu 20.04.2 LTS) / x86_64 | OK | OK | WARNINGS | |||||||||
| tokay2 | Windows Server 2012 R2 Standard / x64 | OK | OK | WARNINGS | OK | |||||||||
| machv2 | macOS 10.14.6 Mojave / x86_64 | OK | OK | OK | OK | |||||||||
| Package: MIMOSA |
| Version: 1.30.0 |
| Command: C:\cygwin\bin\curl.exe -O http://155.52.207.165/BBS/3.13/bioc/src/contrib/MIMOSA_1.30.0.tar.gz && rm -rf MIMOSA.buildbin-libdir && mkdir MIMOSA.buildbin-libdir && C:\Users\biocbuild\bbs-3.13-bioc\R\bin\R.exe CMD INSTALL --merge-multiarch --build --library=MIMOSA.buildbin-libdir MIMOSA_1.30.0.tar.gz && C:\Users\biocbuild\bbs-3.13-bioc\R\bin\R.exe CMD INSTALL MIMOSA_1.30.0.zip && rm MIMOSA_1.30.0.tar.gz MIMOSA_1.30.0.zip |
| StartedAt: 2021-10-14 10:02:48 -0400 (Thu, 14 Oct 2021) |
| EndedAt: 2021-10-14 10:06:24 -0400 (Thu, 14 Oct 2021) |
| EllapsedTime: 215.9 seconds |
| RetCode: 0 |
| Status: OK |
##############################################################################
##############################################################################
###
### Running command:
###
### C:\cygwin\bin\curl.exe -O http://155.52.207.165/BBS/3.13/bioc/src/contrib/MIMOSA_1.30.0.tar.gz && rm -rf MIMOSA.buildbin-libdir && mkdir MIMOSA.buildbin-libdir && C:\Users\biocbuild\bbs-3.13-bioc\R\bin\R.exe CMD INSTALL --merge-multiarch --build --library=MIMOSA.buildbin-libdir MIMOSA_1.30.0.tar.gz && C:\Users\biocbuild\bbs-3.13-bioc\R\bin\R.exe CMD INSTALL MIMOSA_1.30.0.zip && rm MIMOSA_1.30.0.tar.gz MIMOSA_1.30.0.zip
###
##############################################################################
##############################################################################
% Total % Received % Xferd Average Speed Time Time Time Current
Dload Upload Total Spent Left Speed
0 0 0 0 0 0 0 0 --:--:-- --:--:-- --:--:-- 0
100 282k 100 282k 0 0 936k 0 --:--:-- --:--:-- --:--:-- 940k
install for i386
* installing *source* package 'MIMOSA' ...
** using staged installation
** libs
"C:/rtools40/mingw32/bin/"g++ -std=gnu++11 -I"C:/Users/BIOCBU~1/BBS-3~1.13-/R/include" -DNDEBUG -I'C:/Users/biocbuild/bbs-3.13-bioc/R/library/Rcpp/include' -I'C:/Users/biocbuild/bbs-3.13-bioc/R/library/RcppArmadillo/include' -I"c:/extsoft/include" -I"C:/Users/biocbuild/bbs-3.13-bioc/R/library/RcppArmadillo/include" -O2 -Wall -mfpmath=sse -msse2 -mstackrealign -c BetaMix.cpp -o BetaMix.o
"C:/rtools40/mingw32/bin/"g++ -std=gnu++11 -I"C:/Users/BIOCBU~1/BBS-3~1.13-/R/include" -DNDEBUG -I'C:/Users/biocbuild/bbs-3.13-bioc/R/library/Rcpp/include' -I'C:/Users/biocbuild/bbs-3.13-bioc/R/library/RcppArmadillo/include' -I"c:/extsoft/include" -I"C:/Users/biocbuild/bbs-3.13-bioc/R/library/RcppArmadillo/include" -O2 -Wall -mfpmath=sse -msse2 -mstackrealign -c MCMC.cpp -o MCMC.o
MCMC.cpp: In function 'SEXPREC* fitMCMC(SEXP, SEXP, SEXP, SEXP, SEXP, SEXP, SEXP, SEXP, SEXP, SEXP, SEXP, SEXP, SEXP, SEXP, SEXP, SEXP, SEXP, SEXP)':
MCMC.cpp:73:9: warning: suggest parentheses around comparison in operand of '|' [-Wparentheses]
if(file==NULL|fileP==NULL){
^
MCMC.cpp:88:18: warning: comparison of integer expressions of different signedness: 'std::vector<double>::size_type' {aka 'unsigned int'} and 'int' [-Wsign-compare]
if(alphas.size()!=stim.ncol()){
~~~~~~~~~~~~~^~~~~~~~~~~~~
MCMC.cpp:189:15: warning: comparison of integer expressions of different signedness: 'int' and 'std::vector<double>::size_type' {aka 'unsigned int'} [-Wsign-compare]
for(int i=0;i<alphas.size();i++){
~^~~~~~~~~~~~~~
MCMC.cpp:192:15: warning: comparison of integer expressions of different signedness: 'int' and 'std::vector<double>::size_type' {aka 'unsigned int'} [-Wsign-compare]
for(int i=0;i<alphau.size();i++){
~^~~~~~~~~~~~~~
MCMC.cpp:524:17: warning: comparison of integer expressions of different signedness: 'int' and 'std::vector<double>::size_type' {aka 'unsigned int'} [-Wsign-compare]
for(int j=0;j<p.size();j++){
~^~~~~~~~~
MCMC.cpp:544:21: warning: comparison of integer expressions of different signedness: 'int' and 'std::vector<double>::size_type' {aka 'unsigned int'} [-Wsign-compare]
for(int obs=0;obs<alphas.size();obs++){
~~~^~~~~~~~~~~~~~
MCMC.cpp:547:21: warning: comparison of integer expressions of different signedness: 'int' and 'std::vector<double>::size_type' {aka 'unsigned int'} [-Wsign-compare]
for(int obs=0;obs<alphau.size();obs++){
~~~^~~~~~~~~~~~~~
MCMC.cpp: In function 'double lkbeta(const std::vector<double>&)':
MCMC.cpp:631:15: warning: comparison of integer expressions of different signedness: 'int' and 'std::vector<double>::size_type' {aka 'unsigned int'} [-Wsign-compare]
for(int i=0;i<alpha.size();i++){
~^~~~~~~~~~~~~
MCMC.cpp: In function 'void simZ(double&, std::vector<double>&, std::vector<double>&, std::vector<double>&, std::vector<double>&, std::vector<bool>&, int, int)':
MCMC.cpp:681:12: warning: comparison of integer expressions of different signedness: 'int' and 'std::vector<double>::size_type' {aka 'unsigned int'} [-Wsign-compare]
for(i=0;i < lnull.size(); i++){
~~^~~~~~~~~~~~~~
MCMC.cpp: In function 'double normconstIBeta(double, double, double, double)':
MCMC.cpp:815:15: warning: comparison of integer expressions of different signedness: 'int' and 'std::vector<double>::size_type' {aka 'unsigned int'} [-Wsign-compare]
for(int i=0;i<upper.size();i++){
~^~~~~~~~~~~~~
MCMC.cpp: In function 'double nc(double, double, double, double, double)':
MCMC.cpp:888:15: warning: comparison of integer expressions of different signedness: 'int' and 'std::vector<double>::size_type' {aka 'unsigned int'} [-Wsign-compare]
for(int i=0;i<(s.size()-1);i++){
~^~~~~~~~~~~~~
MCMC.cpp:893:15: warning: comparison of integer expressions of different signedness: 'int' and 'std::vector<double>::size_type' {aka 'unsigned int'} [-Wsign-compare]
for(int i=0;i<s.size();i++){
~^~~~~~~~~
"C:/rtools40/mingw32/bin/"gcc -I"C:/Users/BIOCBU~1/BBS-3~1.13-/R/include" -DNDEBUG -I'C:/Users/biocbuild/bbs-3.13-bioc/R/library/Rcpp/include' -I'C:/Users/biocbuild/bbs-3.13-bioc/R/library/RcppArmadillo/include' -I"c:/extsoft/include" -O2 -Wall -std=gnu99 -mfpmath=sse -msse2 -mstackrealign -c MIMOSA_init.c -o MIMOSA_init.o
"C:/rtools40/mingw32/bin/"gcc -I"C:/Users/BIOCBU~1/BBS-3~1.13-/R/include" -DNDEBUG -I'C:/Users/biocbuild/bbs-3.13-bioc/R/library/Rcpp/include' -I'C:/Users/biocbuild/bbs-3.13-bioc/R/library/RcppArmadillo/include' -I"c:/extsoft/include" -O2 -Wall -std=gnu99 -mfpmath=sse -msse2 -mstackrealign -c betaintegral.c -o betaintegral.o
"C:/rtools40/mingw32/bin/"g++ -std=gnu++11 -I"C:/Users/BIOCBU~1/BBS-3~1.13-/R/include" -DNDEBUG -I'C:/Users/biocbuild/bbs-3.13-bioc/R/library/Rcpp/include' -I'C:/Users/biocbuild/bbs-3.13-bioc/R/library/RcppArmadillo/include' -I"c:/extsoft/include" -I"C:/Users/biocbuild/bbs-3.13-bioc/R/library/RcppArmadillo/include" -O2 -Wall -mfpmath=sse -msse2 -mstackrealign -c betaintegralRcpp.cpp -o betaintegralRcpp.o
C:/rtools40/mingw32/bin/g++ -std=gnu++11 -shared -s -static-libgcc -o MIMOSA.dll tmp.def BetaMix.o MCMC.o MIMOSA_init.o betaintegral.o betaintegralRcpp.o -lm -lstdc++ -LC:/Users/BIOCBU~1/BBS-3~1.13-/R/bin/i386 -lRlapack -LC:/Users/BIOCBU~1/BBS-3~1.13-/R/bin/i386 -lRblas -lgfortran -lm -lquadmath -IC:/Users/biocbuild/bbs-3.13-bioc/R/library/RcppArmadillo/include -Lc:/extsoft/lib/i386 -Lc:/extsoft/lib -LC:/Users/BIOCBU~1/BBS-3~1.13-/R/bin/i386 -lR
installing to C:/Users/biocbuild/bbs-3.13-bioc/meat/MIMOSA.buildbin-libdir/00LOCK-MIMOSA/00new/MIMOSA/libs/i386
** R
** data
*** moving datasets to lazyload DB
** inst
** byte-compile and prepare package for lazy loading
** help
*** installing help indices
converting help for package 'MIMOSA'
finding HTML links ... done
BetaMixResult-class html
ConstructMIMOSAExpressionSet html
ICS html
MDMix html
MIMOSA-accessors html
MIMOSA-package html
MIMOSA html
MIMOSAExpressionSet html
MIMOSAResult-class html
MIMOSAResult html
asinh_trans html
boxplotMIMOSAResultList html
combine.MIMOSA html
countsTable html
dot-fitMCMC html
fdr html
getPosteriorResponseRate html
pData-methods html
print html
show html
volcanoPlot html
** building package indices
** installing vignettes
** testing if installed package can be loaded from temporary location
** testing if installed package can be loaded from final location
** testing if installed package keeps a record of temporary installation path
install for x64
* installing *source* package 'MIMOSA' ...
** libs
"C:/rtools40/mingw64/bin/"g++ -std=gnu++11 -I"C:/Users/BIOCBU~1/BBS-3~1.13-/R/include" -DNDEBUG -I'C:/Users/biocbuild/bbs-3.13-bioc/R/library/Rcpp/include' -I'C:/Users/biocbuild/bbs-3.13-bioc/R/library/RcppArmadillo/include' -I"C:/extsoft/include" -I"C:/Users/biocbuild/bbs-3.13-bioc/R/library/RcppArmadillo/include" -O2 -Wall -mfpmath=sse -msse2 -mstackrealign -c BetaMix.cpp -o BetaMix.o
"C:/rtools40/mingw64/bin/"g++ -std=gnu++11 -I"C:/Users/BIOCBU~1/BBS-3~1.13-/R/include" -DNDEBUG -I'C:/Users/biocbuild/bbs-3.13-bioc/R/library/Rcpp/include' -I'C:/Users/biocbuild/bbs-3.13-bioc/R/library/RcppArmadillo/include' -I"C:/extsoft/include" -I"C:/Users/biocbuild/bbs-3.13-bioc/R/library/RcppArmadillo/include" -O2 -Wall -mfpmath=sse -msse2 -mstackrealign -c MCMC.cpp -o MCMC.o
MCMC.cpp: In function 'SEXPREC* fitMCMC(SEXP, SEXP, SEXP, SEXP, SEXP, SEXP, SEXP, SEXP, SEXP, SEXP, SEXP, SEXP, SEXP, SEXP, SEXP, SEXP, SEXP, SEXP)':
MCMC.cpp:73:9: warning: suggest parentheses around comparison in operand of '|' [-Wparentheses]
if(file==NULL|fileP==NULL){
^
MCMC.cpp:88:18: warning: comparison of integer expressions of different signedness: 'std::vector<double>::size_type' {aka 'long long unsigned int'} and 'int' [-Wsign-compare]
if(alphas.size()!=stim.ncol()){
~~~~~~~~~~~~~^~~~~~~~~~~~~
MCMC.cpp:189:15: warning: comparison of integer expressions of different signedness: 'int' and 'std::vector<double>::size_type' {aka 'long long unsigned int'} [-Wsign-compare]
for(int i=0;i<alphas.size();i++){
~^~~~~~~~~~~~~~
MCMC.cpp:192:15: warning: comparison of integer expressions of different signedness: 'int' and 'std::vector<double>::size_type' {aka 'long long unsigned int'} [-Wsign-compare]
for(int i=0;i<alphau.size();i++){
~^~~~~~~~~~~~~~
MCMC.cpp:524:17: warning: comparison of integer expressions of different signedness: 'int' and 'std::vector<double>::size_type' {aka 'long long unsigned int'} [-Wsign-compare]
for(int j=0;j<p.size();j++){
~^~~~~~~~~
MCMC.cpp:544:21: warning: comparison of integer expressions of different signedness: 'int' and 'std::vector<double>::size_type' {aka 'long long unsigned int'} [-Wsign-compare]
for(int obs=0;obs<alphas.size();obs++){
~~~^~~~~~~~~~~~~~
MCMC.cpp:547:21: warning: comparison of integer expressions of different signedness: 'int' and 'std::vector<double>::size_type' {aka 'long long unsigned int'} [-Wsign-compare]
for(int obs=0;obs<alphau.size();obs++){
~~~^~~~~~~~~~~~~~
MCMC.cpp: In function 'double lkbeta(const std::vector<double>&)':
MCMC.cpp:631:15: warning: comparison of integer expressions of different signedness: 'int' and 'std::vector<double>::size_type' {aka 'long long unsigned int'} [-Wsign-compare]
for(int i=0;i<alpha.size();i++){
~^~~~~~~~~~~~~
MCMC.cpp: In function 'void simZ(double&, std::vector<double>&, std::vector<double>&, std::vector<double>&, std::vector<double>&, std::vector<bool>&, int, int)':
MCMC.cpp:681:12: warning: comparison of integer expressions of different signedness: 'int' and 'std::vector<double>::size_type' {aka 'long long unsigned int'} [-Wsign-compare]
for(i=0;i < lnull.size(); i++){
~~^~~~~~~~~~~~~~
MCMC.cpp: In function 'double normconstIBeta(double, double, double, double)':
MCMC.cpp:815:15: warning: comparison of integer expressions of different signedness: 'int' and 'std::vector<double>::size_type' {aka 'long long unsigned int'} [-Wsign-compare]
for(int i=0;i<upper.size();i++){
~^~~~~~~~~~~~~
MCMC.cpp: In function 'double nc(double, double, double, double, double)':
MCMC.cpp:888:15: warning: comparison of integer expressions of different signedness: 'int' and 'std::vector<double>::size_type' {aka 'long long unsigned int'} [-Wsign-compare]
for(int i=0;i<(s.size()-1);i++){
~^~~~~~~~~~~~~
MCMC.cpp:893:15: warning: comparison of integer expressions of different signedness: 'int' and 'std::vector<double>::size_type' {aka 'long long unsigned int'} [-Wsign-compare]
for(int i=0;i<s.size();i++){
~^~~~~~~~~
"C:/rtools40/mingw64/bin/"gcc -I"C:/Users/BIOCBU~1/BBS-3~1.13-/R/include" -DNDEBUG -I'C:/Users/biocbuild/bbs-3.13-bioc/R/library/Rcpp/include' -I'C:/Users/biocbuild/bbs-3.13-bioc/R/library/RcppArmadillo/include' -I"C:/extsoft/include" -O2 -Wall -std=gnu99 -mfpmath=sse -msse2 -mstackrealign -c MIMOSA_init.c -o MIMOSA_init.o
"C:/rtools40/mingw64/bin/"gcc -I"C:/Users/BIOCBU~1/BBS-3~1.13-/R/include" -DNDEBUG -I'C:/Users/biocbuild/bbs-3.13-bioc/R/library/Rcpp/include' -I'C:/Users/biocbuild/bbs-3.13-bioc/R/library/RcppArmadillo/include' -I"C:/extsoft/include" -O2 -Wall -std=gnu99 -mfpmath=sse -msse2 -mstackrealign -c betaintegral.c -o betaintegral.o
"C:/rtools40/mingw64/bin/"g++ -std=gnu++11 -I"C:/Users/BIOCBU~1/BBS-3~1.13-/R/include" -DNDEBUG -I'C:/Users/biocbuild/bbs-3.13-bioc/R/library/Rcpp/include' -I'C:/Users/biocbuild/bbs-3.13-bioc/R/library/RcppArmadillo/include' -I"C:/extsoft/include" -I"C:/Users/biocbuild/bbs-3.13-bioc/R/library/RcppArmadillo/include" -O2 -Wall -mfpmath=sse -msse2 -mstackrealign -c betaintegralRcpp.cpp -o betaintegralRcpp.o
C:/rtools40/mingw64/bin/g++ -std=gnu++11 -shared -s -static-libgcc -o MIMOSA.dll tmp.def BetaMix.o MCMC.o MIMOSA_init.o betaintegral.o betaintegralRcpp.o -lm -lstdc++ -LC:/Users/BIOCBU~1/BBS-3~1.13-/R/bin/x64 -lRlapack -LC:/Users/BIOCBU~1/BBS-3~1.13-/R/bin/x64 -lRblas -lgfortran -lm -lquadmath -IC:/Users/biocbuild/bbs-3.13-bioc/R/library/RcppArmadillo/include -LC:/extsoft/lib/x64 -LC:/extsoft/lib -LC:/Users/BIOCBU~1/BBS-3~1.13-/R/bin/x64 -lR
installing to C:/Users/biocbuild/bbs-3.13-bioc/meat/MIMOSA.buildbin-libdir/MIMOSA/libs/x64
** testing if installed package can be loaded
* MD5 sums
packaged installation of 'MIMOSA' as MIMOSA_1.30.0.zip
* DONE (MIMOSA)
* installing to library 'C:/Users/biocbuild/bbs-3.13-bioc/R/library'
package 'MIMOSA' successfully unpacked and MD5 sums checked