| Back to Multiple platform build/check report for BioC 3.13 | 
 | 
This page was generated on 2021-10-15 15:06:11 -0400 (Fri, 15 Oct 2021).
| To the developers/maintainers of the MIGSA package: - Please allow up to 24 hours (and sometimes 48 hours) for your latest push to git@git.bioconductor.org:packages/MIGSA.git to reflect on this report. See How and When does the builder pull? When will my changes propagate? here for more information. - Make sure to use the following settings in order to reproduce any error or warning you see on this page. | 
| Package 1133/2041 | Hostname | OS / Arch | INSTALL | BUILD | CHECK | BUILD BIN | ||||||||
| MIGSA 1.16.0  (landing page) Juan C. Rodriguez 
 | nebbiolo1 | Linux (Ubuntu 20.04.2 LTS) / x86_64 | OK | OK | OK |  | ||||||||
| tokay2 | Windows Server 2012 R2 Standard / x64 | OK | OK | ERROR | OK | |||||||||
| machv2 | macOS 10.14.6 Mojave / x86_64 | OK | OK | OK | OK |  | ||||||||
| Package: MIGSA | 
| Version: 1.16.0 | 
| Command: C:\cygwin\bin\curl.exe -O http://155.52.207.165/BBS/3.13/bioc/src/contrib/MIGSA_1.16.0.tar.gz && rm -rf MIGSA.buildbin-libdir && mkdir MIGSA.buildbin-libdir && C:\Users\biocbuild\bbs-3.13-bioc\R\bin\R.exe CMD INSTALL --merge-multiarch --build --library=MIGSA.buildbin-libdir MIGSA_1.16.0.tar.gz && C:\Users\biocbuild\bbs-3.13-bioc\R\bin\R.exe CMD INSTALL MIGSA_1.16.0.zip && rm MIGSA_1.16.0.tar.gz MIGSA_1.16.0.zip | 
| StartedAt: 2021-10-14 09:24:22 -0400 (Thu, 14 Oct 2021) | 
| EndedAt: 2021-10-14 09:25:28 -0400 (Thu, 14 Oct 2021) | 
| EllapsedTime: 65.6 seconds | 
| RetCode: 0 | 
| Status: OK | 
##############################################################################
##############################################################################
###
### Running command:
###
###   C:\cygwin\bin\curl.exe -O http://155.52.207.165/BBS/3.13/bioc/src/contrib/MIGSA_1.16.0.tar.gz && rm -rf MIGSA.buildbin-libdir && mkdir MIGSA.buildbin-libdir && C:\Users\biocbuild\bbs-3.13-bioc\R\bin\R.exe CMD INSTALL --merge-multiarch --build --library=MIGSA.buildbin-libdir MIGSA_1.16.0.tar.gz && C:\Users\biocbuild\bbs-3.13-bioc\R\bin\R.exe CMD INSTALL MIGSA_1.16.0.zip && rm MIGSA_1.16.0.tar.gz MIGSA_1.16.0.zip
###
##############################################################################
##############################################################################
  % Total    % Received % Xferd  Average Speed   Time    Time     Time  Current
                                 Dload  Upload   Total   Spent    Left  Speed
  0     0    0     0    0     0      0      0 --:--:-- --:--:-- --:--:--     0
 22 1623k   22  358k    0     0  1005k      0  0:00:01 --:--:--  0:00:01 1004k
100 1623k  100 1623k    0     0  2350k      0 --:--:-- --:--:-- --:--:-- 2349k
install for i386
* installing *source* package 'MIGSA' ...
** using staged installation
** R
** data
** inst
** byte-compile and prepare package for lazy loading
** help
*** installing help indices
  converting help for package 'MIGSA'
    finding HTML links ... done
    ExprData-class                          html  
    FitOptions-class                        html  
    GSEAparams-class                        html  
    Genesets-as.Genesets                    html  
    Genesets-enrichr                        html  
    Genesets-geneSetsFromFile               html  
    Genesets-loadGo                         html  
    IGSAinput-class                         html  
    IGSAinput-getDEGenes                    html  
    IGSAinput-getterSetters                 html  
REDIRECT:topic	 Previous alias or file overwritten by alias: C:/Users/biocbuild/bbs-3.13-bioc/meat/MIGSA.buildbin-libdir/00LOCK-MIGSA/00new/MIGSA/help/fitOptions.html
REDIRECT:topic	 Previous alias or file overwritten by alias: C:/Users/biocbuild/bbs-3.13-bioc/meat/MIGSA.buildbin-libdir/00LOCK-MIGSA/00new/MIGSA/help/gseaParams.html
    MIGSA                                   html  
    MIGSAPackage                            html  
    MIGSAmGSZ                               html  
    MIGSAres-GoAnalysis                     html  
    MIGSAres-class                          html  
    MIGSAres-common                         html  
    MIGSAres-genesManipulation              html  
    MIGSAres-getAdditionalInfo              html  
    MIGSAres-plots                          html  
    MIGSAres-setEnrCutoff                   html  
    SEAparams-class                         html  
REDIRECT:topic	 Previous alias or file overwritten by alias: C:/Users/biocbuild/bbs-3.13-bioc/meat/MIGSA.buildbin-libdir/00LOCK-MIGSA/00new/MIGSA/help/SEAparams.html
    bcMigsaRes                              html  
    migsaRes                                html  
    summaryFunctions                        html  
** building package indices
** installing vignettes
** testing if installed package can be loaded from temporary location
** testing if installed package can be loaded from final location
** testing if installed package keeps a record of temporary installation path
install for x64
* installing *source* package 'MIGSA' ...
** testing if installed package can be loaded
* MD5 sums
packaged installation of 'MIGSA' as MIGSA_1.16.0.zip
* DONE (MIGSA)
* installing to library 'C:/Users/biocbuild/bbs-3.13-bioc/R/library'
package 'MIGSA' successfully unpacked and MD5 sums checked