| Back to Multiple platform build/check report for BioC 3.13 |
|
This page was generated on 2021-10-15 15:06:11 -0400 (Fri, 15 Oct 2021).
|
To the developers/maintainers of the MGFM package: - Please allow up to 24 hours (and sometimes 48 hours) for your latest push to git@git.bioconductor.org:packages/MGFM.git to reflect on this report. See How and When does the builder pull? When will my changes propagate? here for more information. - Make sure to use the following settings in order to reproduce any error or warning you see on this page. |
| Package 1121/2041 | Hostname | OS / Arch | INSTALL | BUILD | CHECK | BUILD BIN | ||||||||
| MGFM 1.26.0 (landing page) Khadija El Amrani
| nebbiolo1 | Linux (Ubuntu 20.04.2 LTS) / x86_64 | OK | OK | OK | |||||||||
| tokay2 | Windows Server 2012 R2 Standard / x64 | OK | OK | OK | OK | |||||||||
| machv2 | macOS 10.14.6 Mojave / x86_64 | OK | OK | OK | OK | |||||||||
| Package: MGFM |
| Version: 1.26.0 |
| Command: C:\cygwin\bin\curl.exe -O http://155.52.207.165/BBS/3.13/bioc/src/contrib/MGFM_1.26.0.tar.gz && rm -rf MGFM.buildbin-libdir && mkdir MGFM.buildbin-libdir && C:\Users\biocbuild\bbs-3.13-bioc\R\bin\R.exe CMD INSTALL --merge-multiarch --build --library=MGFM.buildbin-libdir MGFM_1.26.0.tar.gz && C:\Users\biocbuild\bbs-3.13-bioc\R\bin\R.exe CMD INSTALL MGFM_1.26.0.zip && rm MGFM_1.26.0.tar.gz MGFM_1.26.0.zip |
| StartedAt: 2021-10-14 09:12:14 -0400 (Thu, 14 Oct 2021) |
| EndedAt: 2021-10-14 09:15:37 -0400 (Thu, 14 Oct 2021) |
| EllapsedTime: 203.0 seconds |
| RetCode: 0 |
| Status: OK |
##############################################################################
##############################################################################
###
### Running command:
###
### C:\cygwin\bin\curl.exe -O http://155.52.207.165/BBS/3.13/bioc/src/contrib/MGFM_1.26.0.tar.gz && rm -rf MGFM.buildbin-libdir && mkdir MGFM.buildbin-libdir && C:\Users\biocbuild\bbs-3.13-bioc\R\bin\R.exe CMD INSTALL --merge-multiarch --build --library=MGFM.buildbin-libdir MGFM_1.26.0.tar.gz && C:\Users\biocbuild\bbs-3.13-bioc\R\bin\R.exe CMD INSTALL MGFM_1.26.0.zip && rm MGFM_1.26.0.tar.gz MGFM_1.26.0.zip
###
##############################################################################
##############################################################################
% Total % Received % Xferd Average Speed Time Time Time Current
Dload Upload Total Spent Left Speed
0 0 0 0 0 0 0 0 --:--:-- --:--:-- --:--:-- 0
70 2886k 70 2034k 0 0 2728k 0 0:00:01 --:--:-- 0:00:01 2726k
100 2886k 100 2886k 0 0 3078k 0 --:--:-- --:--:-- --:--:-- 3077k
install for i386
* installing *source* package 'MGFM' ...
** using staged installation
** R
** data
*** moving datasets to lazyload DB
** byte-compile and prepare package for lazy loading
** help
*** installing help indices
converting help for package 'MGFM'
finding HTML links ... done
MGFM-internal html
MGFM-package html
ds2.mat html
getHtmlpage html
getMarkerGenes html
** building package indices
** installing vignettes
** testing if installed package can be loaded from temporary location
** testing if installed package can be loaded from final location
** testing if installed package keeps a record of temporary installation path
install for x64
* installing *source* package 'MGFM' ...
** testing if installed package can be loaded
* MD5 sums
packaged installation of 'MGFM' as MGFM_1.26.0.zip
* DONE (MGFM)
* installing to library 'C:/Users/biocbuild/bbs-3.13-bioc/R/library'
package 'MGFM' successfully unpacked and MD5 sums checked