| Back to Multiple platform build/check report for BioC 3.13 |
|
This page was generated on 2021-10-15 15:06:10 -0400 (Fri, 15 Oct 2021).
|
To the developers/maintainers of the MBCB package: - Please allow up to 24 hours (and sometimes 48 hours) for your latest push to git@git.bioconductor.org:packages/MBCB.git to reflect on this report. See How and When does the builder pull? When will my changes propagate? here for more information. - Make sure to use the following settings in order to reproduce any error or warning you see on this page. |
| Package 1049/2041 | Hostname | OS / Arch | INSTALL | BUILD | CHECK | BUILD BIN | ||||||||
| MBCB 1.46.0 (landing page) Jeff Allen
| nebbiolo1 | Linux (Ubuntu 20.04.2 LTS) / x86_64 | OK | OK | OK | |||||||||
| tokay2 | Windows Server 2012 R2 Standard / x64 | OK | OK | OK | OK | |||||||||
| machv2 | macOS 10.14.6 Mojave / x86_64 | OK | OK | OK | OK | |||||||||
| Package: MBCB |
| Version: 1.46.0 |
| Command: rm -rf MBCB.buildbin-libdir && mkdir MBCB.buildbin-libdir && C:\Users\biocbuild\bbs-3.13-bioc\R\bin\R.exe CMD INSTALL --merge-multiarch --build --library=MBCB.buildbin-libdir MBCB_1.46.0.tar.gz |
| StartedAt: 2021-10-15 10:13:21 -0400 (Fri, 15 Oct 2021) |
| EndedAt: 2021-10-15 10:14:51 -0400 (Fri, 15 Oct 2021) |
| EllapsedTime: 90.5 seconds |
| RetCode: 0 |
| Status: OK |
| PackageFile: MBCB_1.46.0.zip |
| PackageFileSize: 441.3 KiB |
##############################################################################
##############################################################################
###
### Running command:
###
### rm -rf MBCB.buildbin-libdir && mkdir MBCB.buildbin-libdir && C:\Users\biocbuild\bbs-3.13-bioc\R\bin\R.exe CMD INSTALL --merge-multiarch --build --library=MBCB.buildbin-libdir MBCB_1.46.0.tar.gz
###
##############################################################################
##############################################################################
install for i386
* installing *source* package 'MBCB' ...
** using staged installation
** R
** data
** inst
** byte-compile and prepare package for lazy loading
** help
*** installing help indices
converting help for package 'MBCB'
finding HTML links ... done
MBCBExpressionData html
bg.mcmc html
bg.rma html
mbcb.correct html
mbcb.gui html
mbcb.main html
mbcb.parseFile html
printMBCBOutput html
** building package indices
** installing vignettes
** testing if installed package can be loaded from temporary location
** testing if installed package can be loaded from final location
** testing if installed package keeps a record of temporary installation path
install for x64
* installing *source* package 'MBCB' ...
** testing if installed package can be loaded
* MD5 sums
packaged installation of 'MBCB' as MBCB_1.46.0.zip
* DONE (MBCB)