| Back to Multiple platform build/check report for BioC 3.13 |
|
This page was generated on 2021-10-15 15:06:10 -0400 (Fri, 15 Oct 2021).
|
To the developers/maintainers of the MACSQuantifyR package: - Please allow up to 24 hours (and sometimes 48 hours) for your latest push to git@git.bioconductor.org:packages/MACSQuantifyR.git to reflect on this report. See How and When does the builder pull? When will my changes propagate? here for more information. - Make sure to use the following settings in order to reproduce any error or warning you see on this page. |
| Package 1017/2041 | Hostname | OS / Arch | INSTALL | BUILD | CHECK | BUILD BIN | ||||||||
| MACSQuantifyR 1.6.0 (landing page) Raphaƫl Bonnet
| nebbiolo1 | Linux (Ubuntu 20.04.2 LTS) / x86_64 | OK | OK | OK | |||||||||
| tokay2 | Windows Server 2012 R2 Standard / x64 | OK | OK | OK | OK | |||||||||
| machv2 | macOS 10.14.6 Mojave / x86_64 | OK | OK | OK | OK | |||||||||
| Package: MACSQuantifyR |
| Version: 1.6.0 |
| Command: C:\cygwin\bin\curl.exe -O http://155.52.207.165/BBS/3.13/bioc/src/contrib/MACSQuantifyR_1.6.0.tar.gz && rm -rf MACSQuantifyR.buildbin-libdir && mkdir MACSQuantifyR.buildbin-libdir && C:\Users\biocbuild\bbs-3.13-bioc\R\bin\R.exe CMD INSTALL --merge-multiarch --build --library=MACSQuantifyR.buildbin-libdir MACSQuantifyR_1.6.0.tar.gz && C:\Users\biocbuild\bbs-3.13-bioc\R\bin\R.exe CMD INSTALL MACSQuantifyR_1.6.0.zip && rm MACSQuantifyR_1.6.0.tar.gz MACSQuantifyR_1.6.0.zip |
| StartedAt: 2021-10-14 09:05:43 -0400 (Thu, 14 Oct 2021) |
| EndedAt: 2021-10-14 09:06:23 -0400 (Thu, 14 Oct 2021) |
| EllapsedTime: 39.2 seconds |
| RetCode: 0 |
| Status: OK |
##############################################################################
##############################################################################
###
### Running command:
###
### C:\cygwin\bin\curl.exe -O http://155.52.207.165/BBS/3.13/bioc/src/contrib/MACSQuantifyR_1.6.0.tar.gz && rm -rf MACSQuantifyR.buildbin-libdir && mkdir MACSQuantifyR.buildbin-libdir && C:\Users\biocbuild\bbs-3.13-bioc\R\bin\R.exe CMD INSTALL --merge-multiarch --build --library=MACSQuantifyR.buildbin-libdir MACSQuantifyR_1.6.0.tar.gz && C:\Users\biocbuild\bbs-3.13-bioc\R\bin\R.exe CMD INSTALL MACSQuantifyR_1.6.0.zip && rm MACSQuantifyR_1.6.0.tar.gz MACSQuantifyR_1.6.0.zip
###
##############################################################################
##############################################################################
% Total % Received % Xferd Average Speed Time Time Time Current
Dload Upload Total Spent Left Speed
0 0 0 0 0 0 0 0 --:--:-- --:--:-- --:--:-- 0
15 1462k 15 219k 0 0 826k 0 0:00:01 --:--:-- 0:00:01 826k
100 1462k 100 1462k 0 0 1852k 0 --:--:-- --:--:-- --:--:-- 1853k
install for i386
* installing *source* package 'MACSQuantifyR' ...
** using staged installation
** R
** inst
** byte-compile and prepare package for lazy loading
** help
*** installing help indices
converting help for package 'MACSQuantifyR'
finding HTML links ... done
MACSQuant html
barplot_data html
combination_index html
generate_report html
load_MACSQuant html
new_class_MQ html
on_plate_selection html
pipeline html
rData html
setPath html
sorted html
** building package indices
** installing vignettes
** testing if installed package can be loaded from temporary location
** testing if installed package can be loaded from final location
** testing if installed package keeps a record of temporary installation path
install for x64
* installing *source* package 'MACSQuantifyR' ...
** testing if installed package can be loaded
* MD5 sums
packaged installation of 'MACSQuantifyR' as MACSQuantifyR_1.6.0.zip
* DONE (MACSQuantifyR)
* installing to library 'C:/Users/biocbuild/bbs-3.13-bioc/R/library'
package 'MACSQuantifyR' successfully unpacked and MD5 sums checked