| Back to Multiple platform build/check report for BioC 3.13 |
|
This page was generated on 2021-10-15 15:06:09 -0400 (Fri, 15 Oct 2021).
|
To the developers/maintainers of the LedPred package: - Please allow up to 24 hours (and sometimes 48 hours) for your latest push to git@git.bioconductor.org:packages/LedPred.git to reflect on this report. See How and When does the builder pull? When will my changes propagate? here for more information. - Make sure to use the following settings in order to reproduce any error or warning you see on this page. |
| Package 980/2041 | Hostname | OS / Arch | INSTALL | BUILD | CHECK | BUILD BIN | ||||||||
| LedPred 1.26.0 (landing page) Aitor Gonzalez
| nebbiolo1 | Linux (Ubuntu 20.04.2 LTS) / x86_64 | OK | OK | OK | |||||||||
| tokay2 | Windows Server 2012 R2 Standard / x64 | OK | OK | OK | OK | |||||||||
| machv2 | macOS 10.14.6 Mojave / x86_64 | OK | OK | OK | OK | |||||||||
| Package: LedPred |
| Version: 1.26.0 |
| Command: chmod a+r LedPred -R && C:\Users\biocbuild\bbs-3.13-bioc\R\bin\R.exe CMD build --keep-empty-dirs --no-resave-data LedPred |
| StartedAt: 2021-10-14 15:13:58 -0400 (Thu, 14 Oct 2021) |
| EndedAt: 2021-10-14 15:14:26 -0400 (Thu, 14 Oct 2021) |
| EllapsedTime: 27.9 seconds |
| RetCode: 0 |
| Status: OK |
| PackageFile: LedPred_1.26.0.tar.gz |
| PackageFileSize: 1.381 MiB |
##############################################################################
##############################################################################
###
### Running command:
###
### chmod a+r LedPred -R && C:\Users\biocbuild\bbs-3.13-bioc\R\bin\R.exe CMD build --keep-empty-dirs --no-resave-data LedPred
###
##############################################################################
##############################################################################
* checking for file 'LedPred/DESCRIPTION' ... OK
* preparing 'LedPred':
* checking DESCRIPTION meta-information ... OK
* installing the package to build vignettes
* creating vignettes ... OK
Warning: 'inst/doc' files
'LedPred.Rnw', 'LedPred.pdf', 'LedPred.R'
ignored as vignettes have been rebuilt.
Run R CMD build with --no-build-vignettes to prevent rebuilding.
* checking for LF line-endings in source and make files and shell scripts
* checking for empty or unneeded directories
* building 'LedPred_1.26.0.tar.gz'