| Back to Multiple platform build/check report for BioC 3.13 |
|
This page was generated on 2021-10-15 15:06:10 -0400 (Fri, 15 Oct 2021).
|
To the developers/maintainers of the LRcell package: - Please allow up to 24 hours (and sometimes 48 hours) for your latest push to git@git.bioconductor.org:packages/LRcell.git to reflect on this report. See How and When does the builder pull? When will my changes propagate? here for more information. - Make sure to use the following settings in order to reproduce any error or warning you see on this page. |
| Package 1007/2041 | Hostname | OS / Arch | INSTALL | BUILD | CHECK | BUILD BIN | ||||||||
| LRcell 1.0.0 (landing page) Wenjing Ma
| nebbiolo1 | Linux (Ubuntu 20.04.2 LTS) / x86_64 | OK | OK | OK | |||||||||
| tokay2 | Windows Server 2012 R2 Standard / x64 | OK | OK | OK | OK | |||||||||
| machv2 | macOS 10.14.6 Mojave / x86_64 | OK | OK | OK | OK | |||||||||
| Package: LRcell |
| Version: 1.0.0 |
| Command: rm -rf LRcell.buildbin-libdir && mkdir LRcell.buildbin-libdir && C:\Users\biocbuild\bbs-3.13-bioc\R\bin\R.exe CMD INSTALL --merge-multiarch --build --library=LRcell.buildbin-libdir LRcell_1.0.0.tar.gz |
| StartedAt: 2021-10-15 10:07:38 -0400 (Fri, 15 Oct 2021) |
| EndedAt: 2021-10-15 10:09:08 -0400 (Fri, 15 Oct 2021) |
| EllapsedTime: 89.9 seconds |
| RetCode: 0 |
| Status: OK |
| PackageFile: LRcell_1.0.0.zip |
| PackageFileSize: 719.3 KiB |
##############################################################################
##############################################################################
###
### Running command:
###
### rm -rf LRcell.buildbin-libdir && mkdir LRcell.buildbin-libdir && C:\Users\biocbuild\bbs-3.13-bioc\R\bin\R.exe CMD INSTALL --merge-multiarch --build --library=LRcell.buildbin-libdir LRcell_1.0.0.tar.gz
###
##############################################################################
##############################################################################
install for i386
* installing *source* package 'LRcell' ...
** using staged installation
** R
** data
** inst
** byte-compile and prepare package for lazy loading
** help
*** installing help indices
converting help for package 'LRcell'
finding HTML links ... done
LRcell html
LRcellCore html
LRcell_gene_enriched_scores html
enrich_posfrac_score html
example_LRcell_res html
example_gene_pvals html
get_markergenes html
mouse_FC_marker_genes html
mouse_celltypes html
plot_manhattan_enrich html
plot_marker_dist html
** building package indices
** installing vignettes
** testing if installed package can be loaded from temporary location
** testing if installed package can be loaded from final location
** testing if installed package keeps a record of temporary installation path
install for x64
* installing *source* package 'LRcell' ...
** testing if installed package can be loaded
* MD5 sums
packaged installation of 'LRcell' as LRcell_1.0.0.zip
* DONE (LRcell)