| Back to Multiple platform build/check report for BioC 3.13 |
|
This page was generated on 2021-10-15 15:06:09 -0400 (Fri, 15 Oct 2021).
|
To the developers/maintainers of the LRBaseDbi package: - Please allow up to 24 hours (and sometimes 48 hours) for your latest push to git@git.bioconductor.org:packages/LRBaseDbi.git to reflect on this report. See How and When does the builder pull? When will my changes propagate? here for more information. - Make sure to use the following settings in order to reproduce any error or warning you see on this page. |
| Package 1006/2041 | Hostname | OS / Arch | INSTALL | BUILD | CHECK | BUILD BIN | ||||||||
| LRBaseDbi 2.2.0 (landing page) Koki Tsuyuzaki
| nebbiolo1 | Linux (Ubuntu 20.04.2 LTS) / x86_64 | OK | OK | OK | |||||||||
| tokay2 | Windows Server 2012 R2 Standard / x64 | OK | OK | OK | OK | |||||||||
| machv2 | macOS 10.14.6 Mojave / x86_64 | OK | OK | OK | OK | |||||||||
| Package: LRBaseDbi |
| Version: 2.2.0 |
| Command: C:\cygwin\bin\curl.exe -O http://155.52.207.165/BBS/3.13/bioc/src/contrib/LRBaseDbi_2.2.0.tar.gz && rm -rf LRBaseDbi.buildbin-libdir && mkdir LRBaseDbi.buildbin-libdir && C:\Users\biocbuild\bbs-3.13-bioc\R\bin\R.exe CMD INSTALL --merge-multiarch --build --library=LRBaseDbi.buildbin-libdir LRBaseDbi_2.2.0.tar.gz && C:\Users\biocbuild\bbs-3.13-bioc\R\bin\R.exe CMD INSTALL LRBaseDbi_2.2.0.zip && rm LRBaseDbi_2.2.0.tar.gz LRBaseDbi_2.2.0.zip |
| StartedAt: 2021-10-14 08:07:08 -0400 (Thu, 14 Oct 2021) |
| EndedAt: 2021-10-14 08:08:21 -0400 (Thu, 14 Oct 2021) |
| EllapsedTime: 72.9 seconds |
| RetCode: 0 |
| Status: OK |
##############################################################################
##############################################################################
###
### Running command:
###
### C:\cygwin\bin\curl.exe -O http://155.52.207.165/BBS/3.13/bioc/src/contrib/LRBaseDbi_2.2.0.tar.gz && rm -rf LRBaseDbi.buildbin-libdir && mkdir LRBaseDbi.buildbin-libdir && C:\Users\biocbuild\bbs-3.13-bioc\R\bin\R.exe CMD INSTALL --merge-multiarch --build --library=LRBaseDbi.buildbin-libdir LRBaseDbi_2.2.0.tar.gz && C:\Users\biocbuild\bbs-3.13-bioc\R\bin\R.exe CMD INSTALL LRBaseDbi_2.2.0.zip && rm LRBaseDbi_2.2.0.tar.gz LRBaseDbi_2.2.0.zip
###
##############################################################################
##############################################################################
% Total % Received % Xferd Average Speed Time Time Time Current
Dload Upload Total Spent Left Speed
0 0 0 0 0 0 0 0 --:--:-- --:--:-- --:--:-- 0
100 23803 100 23803 0 0 198k 0 --:--:-- --:--:-- --:--:-- 200k
install for i386
* installing *source* package 'LRBaseDbi' ...
** using staged installation
** R
** data
** inst
** byte-compile and prepare package for lazy loading
** help
*** installing help indices
converting help for package 'LRBaseDbi'
finding HTML links ... done
FANTOM5 html
LRBaseDb html
columns html
dbInfo html
dbconn html
dbfile html
dbschema html
keys html
keytypes html
lrListDatabases html
lrNomenclature html
lrPackageName html
lrVersion html
makeLRBasePackage html
metaFANTOM5 html
select html
species html
** building package indices
** installing vignettes
** testing if installed package can be loaded from temporary location
** testing if installed package can be loaded from final location
** testing if installed package keeps a record of temporary installation path
install for x64
* installing *source* package 'LRBaseDbi' ...
** testing if installed package can be loaded
* MD5 sums
packaged installation of 'LRBaseDbi' as LRBaseDbi_2.2.0.zip
* DONE (LRBaseDbi)
* installing to library 'C:/Users/biocbuild/bbs-3.13-bioc/R/library'
package 'LRBaseDbi' successfully unpacked and MD5 sums checked