| Back to Multiple platform build/check report for BioC 3.13 |
|
This page was generated on 2021-10-15 15:06:09 -0400 (Fri, 15 Oct 2021).
|
To the developers/maintainers of the LOBSTAHS package: - Please allow up to 24 hours (and sometimes 48 hours) for your latest push to git@git.bioconductor.org:packages/LOBSTAHS.git to reflect on this report. See How and When does the builder pull? When will my changes propagate? here for more information. - Make sure to use the following settings in order to reproduce any error or warning you see on this page. |
| Package 995/2041 | Hostname | OS / Arch | INSTALL | BUILD | CHECK | BUILD BIN | ||||||||
| LOBSTAHS 1.18.1 (landing page) James Collins
| nebbiolo1 | Linux (Ubuntu 20.04.2 LTS) / x86_64 | OK | OK | WARNINGS | |||||||||
| tokay2 | Windows Server 2012 R2 Standard / x64 | OK | OK | WARNINGS | OK | |||||||||
| machv2 | macOS 10.14.6 Mojave / x86_64 | OK | OK | WARNINGS | OK | |||||||||
| Package: LOBSTAHS |
| Version: 1.18.1 |
| Command: C:\cygwin\bin\curl.exe -O http://155.52.207.165/BBS/3.13/bioc/src/contrib/LOBSTAHS_1.18.1.tar.gz && rm -rf LOBSTAHS.buildbin-libdir && mkdir LOBSTAHS.buildbin-libdir && C:\Users\biocbuild\bbs-3.13-bioc\R\bin\R.exe CMD INSTALL --merge-multiarch --build --library=LOBSTAHS.buildbin-libdir LOBSTAHS_1.18.1.tar.gz && C:\Users\biocbuild\bbs-3.13-bioc\R\bin\R.exe CMD INSTALL LOBSTAHS_1.18.1.zip && rm LOBSTAHS_1.18.1.tar.gz LOBSTAHS_1.18.1.zip |
| StartedAt: 2021-10-14 09:06:29 -0400 (Thu, 14 Oct 2021) |
| EndedAt: 2021-10-14 09:08:34 -0400 (Thu, 14 Oct 2021) |
| EllapsedTime: 125.0 seconds |
| RetCode: 0 |
| Status: OK |
##############################################################################
##############################################################################
###
### Running command:
###
### C:\cygwin\bin\curl.exe -O http://155.52.207.165/BBS/3.13/bioc/src/contrib/LOBSTAHS_1.18.1.tar.gz && rm -rf LOBSTAHS.buildbin-libdir && mkdir LOBSTAHS.buildbin-libdir && C:\Users\biocbuild\bbs-3.13-bioc\R\bin\R.exe CMD INSTALL --merge-multiarch --build --library=LOBSTAHS.buildbin-libdir LOBSTAHS_1.18.1.tar.gz && C:\Users\biocbuild\bbs-3.13-bioc\R\bin\R.exe CMD INSTALL LOBSTAHS_1.18.1.zip && rm LOBSTAHS_1.18.1.tar.gz LOBSTAHS_1.18.1.zip
###
##############################################################################
##############################################################################
% Total % Received % Xferd Average Speed Time Time Time Current
Dload Upload Total Spent Left Speed
0 0 0 0 0 0 0 0 --:--:-- --:--:-- --:--:-- 0
1 2315k 1 44575 0 0 262k 0 0:00:08 --:--:-- 0:00:08 262k
93 2315k 93 2173k 0 0 1874k 0 0:00:01 0:00:01 --:--:-- 1874k
100 2315k 100 2315k 0 0 1933k 0 0:00:01 0:00:01 --:--:-- 1933k
install for i386
* installing *source* package 'LOBSTAHS' ...
** using staged installation
** R
** data
** inst
** byte-compile and prepare package for lazy loading
Creating a new generic function for 'polarity<-' in package 'LOBSTAHS'
** help
*** installing help indices
converting help for package 'LOBSTAHS'
finding HTML links ... done
LOBSet-class html
finding level-2 HTML links ... done
LOBSet html
LOBdbase-class html
LOBdbase html
LOBdefaults html
doLOBscreen html
exportDBtoCSV html
extractLOBdbasedata html
generateLOBdbase html
getLOBpeaklist html
loadLOBdbase html
** building package indices
** installing vignettes
'LOBSTAHS.Rmd' using 'UTF-8'
** testing if installed package can be loaded from temporary location
Warning: multiple methods tables found for 'polarity<-'
** testing if installed package can be loaded from final location
Warning: multiple methods tables found for 'polarity<-'
** testing if installed package keeps a record of temporary installation path
install for x64
* installing *source* package 'LOBSTAHS' ...
** testing if installed package can be loaded
Warning: multiple methods tables found for 'polarity<-'
* MD5 sums
packaged installation of 'LOBSTAHS' as LOBSTAHS_1.18.1.zip
* DONE (LOBSTAHS)
* installing to library 'C:/Users/biocbuild/bbs-3.13-bioc/R/library'
package 'LOBSTAHS' successfully unpacked and MD5 sums checked