| Back to Multiple platform build/check report for BioC 3.13 |
|
This page was generated on 2021-10-15 15:06:08 -0400 (Fri, 15 Oct 2021).
|
To the developers/maintainers of the IntramiRExploreR package: - Please allow up to 24 hours (and sometimes 48 hours) for your latest push to git@git.bioconductor.org:packages/IntramiRExploreR.git to reflect on this report. See How and When does the builder pull? When will my changes propagate? here for more information. - Make sure to use the following settings in order to reproduce any error or warning you see on this page. |
| Package 936/2041 | Hostname | OS / Arch | INSTALL | BUILD | CHECK | BUILD BIN | ||||||||
| IntramiRExploreR 1.14.1 (landing page) Surajit Bhattacharya
| nebbiolo1 | Linux (Ubuntu 20.04.2 LTS) / x86_64 | OK | OK | WARNINGS | |||||||||
| tokay2 | Windows Server 2012 R2 Standard / x64 | OK | OK | WARNINGS | OK | |||||||||
| machv2 | macOS 10.14.6 Mojave / x86_64 | OK | OK | WARNINGS | OK | |||||||||
| Package: IntramiRExploreR |
| Version: 1.14.1 |
| Command: C:\cygwin\bin\curl.exe -O http://155.52.207.165/BBS/3.13/bioc/src/contrib/IntramiRExploreR_1.14.1.tar.gz && rm -rf IntramiRExploreR.buildbin-libdir && mkdir IntramiRExploreR.buildbin-libdir && C:\Users\biocbuild\bbs-3.13-bioc\R\bin\R.exe CMD INSTALL --merge-multiarch --build --library=IntramiRExploreR.buildbin-libdir IntramiRExploreR_1.14.1.tar.gz && C:\Users\biocbuild\bbs-3.13-bioc\R\bin\R.exe CMD INSTALL IntramiRExploreR_1.14.1.zip && rm IntramiRExploreR_1.14.1.tar.gz IntramiRExploreR_1.14.1.zip |
| StartedAt: 2021-10-14 08:37:24 -0400 (Thu, 14 Oct 2021) |
| EndedAt: 2021-10-14 08:38:31 -0400 (Thu, 14 Oct 2021) |
| EllapsedTime: 67.0 seconds |
| RetCode: 0 |
| Status: OK |
##############################################################################
##############################################################################
###
### Running command:
###
### C:\cygwin\bin\curl.exe -O http://155.52.207.165/BBS/3.13/bioc/src/contrib/IntramiRExploreR_1.14.1.tar.gz && rm -rf IntramiRExploreR.buildbin-libdir && mkdir IntramiRExploreR.buildbin-libdir && C:\Users\biocbuild\bbs-3.13-bioc\R\bin\R.exe CMD INSTALL --merge-multiarch --build --library=IntramiRExploreR.buildbin-libdir IntramiRExploreR_1.14.1.tar.gz && C:\Users\biocbuild\bbs-3.13-bioc\R\bin\R.exe CMD INSTALL IntramiRExploreR_1.14.1.zip && rm IntramiRExploreR_1.14.1.tar.gz IntramiRExploreR_1.14.1.zip
###
##############################################################################
##############################################################################
% Total % Received % Xferd Average Speed Time Time Time Current
Dload Upload Total Spent Left Speed
0 0 0 0 0 0 0 0 --:--:-- --:--:-- --:--:-- 0
5 8992k 5 494k 0 0 991k 0 0:00:09 --:--:-- 0:00:09 990k
27 8992k 27 2515k 0 0 1691k 0 0:00:05 0:00:01 0:00:04 1691k
61 8992k 61 5516k 0 0 2209k 0 0:00:04 0:00:02 0:00:02 2209k
100 8992k 100 8992k 0 0 2626k 0 0:00:03 0:00:03 --:--:-- 2627k
install for i386
* installing *source* package 'IntramiRExploreR' ...
** using staged installation
** R
** data
*** moving datasets to lazyload DB
** byte-compile and prepare package for lazy loading
Note: possible error in 'FGNet_report(feaResults_topGO, ': unused argument (plotKeggPw = FALSE)
** help
*** installing help indices
converting help for package 'IntramiRExploreR'
finding HTML links ... done
Affy1_Distance_Final html
Affy1_Pearson_Final html
Affy2_Distance_Final html
Affy2_Pearson_Final html
Gene_Visualisation html
GetGOS_ALL html
IntramiRExploreR html
Visualisation html
extract_HostGene html
extract_intragenic_miR html
genes_Stat html
miRNA_ID_to_Function html
miRNA_summary_DB html
miRTargets_Stat html
** building package indices
** installing vignettes
** testing if installed package can be loaded from temporary location
** testing if installed package can be loaded from final location
** testing if installed package keeps a record of temporary installation path
install for x64
* installing *source* package 'IntramiRExploreR' ...
** testing if installed package can be loaded
* MD5 sums
packaged installation of 'IntramiRExploreR' as IntramiRExploreR_1.14.1.zip
* DONE (IntramiRExploreR)
* installing to library 'C:/Users/biocbuild/bbs-3.13-bioc/R/library'
package 'IntramiRExploreR' successfully unpacked and MD5 sums checked