| Back to Multiple platform build/check report for BioC 3.13 |
|
This page was generated on 2021-10-15 15:06:08 -0400 (Fri, 15 Oct 2021).
|
To the developers/maintainers of the ImmuneSpaceR package: - Please allow up to 24 hours (and sometimes 48 hours) for your latest push to git@git.bioconductor.org:packages/ImmuneSpaceR.git to reflect on this report. See How and When does the builder pull? When will my changes propagate? here for more information. - Make sure to use the following settings in order to reproduce any error or warning you see on this page. |
| Package 914/2041 | Hostname | OS / Arch | INSTALL | BUILD | CHECK | BUILD BIN | ||||||||
| ImmuneSpaceR 1.20.0 (landing page) ImmuneSpace Package Maintainer
| nebbiolo1 | Linux (Ubuntu 20.04.2 LTS) / x86_64 | OK | OK | OK | |||||||||
| tokay2 | Windows Server 2012 R2 Standard / x64 | OK | OK | OK | OK | |||||||||
| machv2 | macOS 10.14.6 Mojave / x86_64 | OK | OK | OK | OK | |||||||||
| Package: ImmuneSpaceR |
| Version: 1.20.0 |
| Command: C:\cygwin\bin\curl.exe -O http://155.52.207.165/BBS/3.13/bioc/src/contrib/ImmuneSpaceR_1.20.0.tar.gz && rm -rf ImmuneSpaceR.buildbin-libdir && mkdir ImmuneSpaceR.buildbin-libdir && C:\Users\biocbuild\bbs-3.13-bioc\R\bin\R.exe CMD INSTALL --merge-multiarch --build --library=ImmuneSpaceR.buildbin-libdir ImmuneSpaceR_1.20.0.tar.gz && C:\Users\biocbuild\bbs-3.13-bioc\R\bin\R.exe CMD INSTALL ImmuneSpaceR_1.20.0.zip && rm ImmuneSpaceR_1.20.0.tar.gz ImmuneSpaceR_1.20.0.zip |
| StartedAt: 2021-10-14 09:36:56 -0400 (Thu, 14 Oct 2021) |
| EndedAt: 2021-10-14 09:38:01 -0400 (Thu, 14 Oct 2021) |
| EllapsedTime: 64.5 seconds |
| RetCode: 0 |
| Status: OK |
##############################################################################
##############################################################################
###
### Running command:
###
### C:\cygwin\bin\curl.exe -O http://155.52.207.165/BBS/3.13/bioc/src/contrib/ImmuneSpaceR_1.20.0.tar.gz && rm -rf ImmuneSpaceR.buildbin-libdir && mkdir ImmuneSpaceR.buildbin-libdir && C:\Users\biocbuild\bbs-3.13-bioc\R\bin\R.exe CMD INSTALL --merge-multiarch --build --library=ImmuneSpaceR.buildbin-libdir ImmuneSpaceR_1.20.0.tar.gz && C:\Users\biocbuild\bbs-3.13-bioc\R\bin\R.exe CMD INSTALL ImmuneSpaceR_1.20.0.zip && rm ImmuneSpaceR_1.20.0.tar.gz ImmuneSpaceR_1.20.0.zip
###
##############################################################################
##############################################################################
% Total % Received % Xferd Average Speed Time Time Time Current
Dload Upload Total Spent Left Speed
0 0 0 0 0 0 0 0 --:--:-- --:--:-- --:--:-- 0
24 2579k 24 635k 0 0 2061k 0 0:00:01 --:--:-- 0:00:01 2063k
100 2579k 100 2579k 0 0 3437k 0 --:--:-- --:--:-- --:--:-- 3439k
install for i386
* installing *source* package 'ImmuneSpaceR' ...
** using staged installation
** R
** inst
** byte-compile and prepare package for lazy loading
** help
*** installing help indices
converting help for package 'ImmuneSpaceR'
finding HTML links ... done
CreateConnection html
ISpalette html
ImmuneSpaceConnection html
ImmuneSpaceR-package html
check_netrc html
interactive_netrc html
loadConnection html
template_IS html
theme_IS html
write_netrc html
*** copying figures
** building package indices
** installing vignettes
** testing if installed package can be loaded from temporary location
** testing if installed package can be loaded from final location
** testing if installed package keeps a record of temporary installation path
install for x64
* installing *source* package 'ImmuneSpaceR' ...
** testing if installed package can be loaded
* MD5 sums
packaged installation of 'ImmuneSpaceR' as ImmuneSpaceR_1.20.0.zip
* DONE (ImmuneSpaceR)
* installing to library 'C:/Users/biocbuild/bbs-3.13-bioc/R/library'
package 'ImmuneSpaceR' successfully unpacked and MD5 sums checked