| Back to Multiple platform build/check report for BioC 3.13 |
|
This page was generated on 2021-10-15 15:06:08 -0400 (Fri, 15 Oct 2021).
|
To the developers/maintainers of the ILoReg package: - Please allow up to 24 hours (and sometimes 48 hours) for your latest push to git@git.bioconductor.org:packages/ILoReg.git to reflect on this report. See How and When does the builder pull? When will my changes propagate? here for more information. - Make sure to use the following settings in order to reproduce any error or warning you see on this page. |
| Package 909/2041 | Hostname | OS / Arch | INSTALL | BUILD | CHECK | BUILD BIN | ||||||||
| ILoReg 1.2.0 (landing page) Johannes Smolander
| nebbiolo1 | Linux (Ubuntu 20.04.2 LTS) / x86_64 | OK | OK | OK | |||||||||
| tokay2 | Windows Server 2012 R2 Standard / x64 | OK | OK | OK | OK | |||||||||
| machv2 | macOS 10.14.6 Mojave / x86_64 | OK | OK | OK | OK | |||||||||
| Package: ILoReg |
| Version: 1.2.0 |
| Command: C:\Users\biocbuild\bbs-3.13-bioc\R\bin\R.exe CMD check --force-multiarch --install=check:ILoReg.install-out.txt --library=C:\Users\biocbuild\bbs-3.13-bioc\R\library --no-vignettes --timings ILoReg_1.2.0.tar.gz |
| StartedAt: 2021-10-15 00:38:34 -0400 (Fri, 15 Oct 2021) |
| EndedAt: 2021-10-15 00:50:16 -0400 (Fri, 15 Oct 2021) |
| EllapsedTime: 702.3 seconds |
| RetCode: 0 |
| Status: OK |
| CheckDir: ILoReg.Rcheck |
| Warnings: 0 |
##############################################################################
##############################################################################
###
### Running command:
###
### C:\Users\biocbuild\bbs-3.13-bioc\R\bin\R.exe CMD check --force-multiarch --install=check:ILoReg.install-out.txt --library=C:\Users\biocbuild\bbs-3.13-bioc\R\library --no-vignettes --timings ILoReg_1.2.0.tar.gz
###
##############################################################################
##############################################################################
* using log directory 'C:/Users/biocbuild/bbs-3.13-bioc/meat/ILoReg.Rcheck'
* using R version 4.1.1 (2021-08-10)
* using platform: x86_64-w64-mingw32 (64-bit)
* using session charset: ISO8859-1
* using option '--no-vignettes'
* checking for file 'ILoReg/DESCRIPTION' ... OK
* checking extension type ... Package
* this is package 'ILoReg' version '1.2.0'
* package encoding: UTF-8
* checking package namespace information ... OK
* checking package dependencies ... OK
* checking if this is a source package ... OK
* checking if there is a namespace ... OK
* checking for hidden files and directories ... OK
* checking for portable file names ... OK
* checking whether package 'ILoReg' can be installed ... OK
* checking installed package size ... OK
* checking package directory ... OK
* checking 'build' directory ... OK
* checking DESCRIPTION meta-information ... OK
* checking top-level files ... OK
* checking for left-over files ... OK
* checking index information ... OK
* checking package subdirectories ... OK
* checking R files for non-ASCII characters ... OK
* checking R files for syntax errors ... OK
* loading checks for arch 'i386'
** checking whether the package can be loaded ... OK
** checking whether the package can be loaded with stated dependencies ... OK
** checking whether the package can be unloaded cleanly ... OK
** checking whether the namespace can be loaded with stated dependencies ... OK
** checking whether the namespace can be unloaded cleanly ... OK
* loading checks for arch 'x64'
** checking whether the package can be loaded ... OK
** checking whether the package can be loaded with stated dependencies ... OK
** checking whether the package can be unloaded cleanly ... OK
** checking whether the namespace can be loaded with stated dependencies ... OK
** checking whether the namespace can be unloaded cleanly ... OK
* checking dependencies in R code ... OK
* checking S3 generic/method consistency ... OK
* checking replacement functions ... OK
* checking foreign function calls ... OK
* checking R code for possible problems ... OK
* checking Rd files ... OK
* checking Rd metadata ... OK
* checking Rd cross-references ... OK
* checking for missing documentation entries ... OK
* checking for code/documentation mismatches ... OK
* checking Rd \usage sections ... OK
* checking Rd contents ... OK
* checking for unstated dependencies in examples ... OK
* checking contents of 'data' directory ... OK
* checking data for non-ASCII characters ... OK
* checking LazyData ... OK
* checking data for ASCII and uncompressed saves ... OK
* checking files in 'vignettes' ... OK
* checking examples ...
** running examples for arch 'i386' ... OK
Examples with CPU (user + system) or elapsed time > 5s
user system elapsed
FindAllGeneMarkers 17.06 1.22 18.28
SelectTopGenes 15.99 1.00 16.99
AnnotationScatterPlot 14.53 0.68 15.55
ClusteringScatterPlot 13.01 0.57 18.60
GeneScatterPlot 11.03 0.70 11.73
GeneHeatmap 10.31 0.99 11.30
VlnPlot 9.89 0.93 10.83
FindGeneMarkers 9.60 1.09 10.69
CalcSilhInfo 9.61 0.75 10.36
SilhouetteCurve 9.42 0.89 10.31
RunUMAP 9.63 0.46 10.08
SelectKClusters 8.28 0.72 9.00
RunTSNE 8.34 0.51 8.86
RunParallelICP 7.67 0.63 8.30
PCAElbowPlot 7.39 0.48 7.87
HierarchicalClustering 7.26 0.50 7.76
RenameCluster 7.03 0.63 7.66
RunPCA 7.03 0.51 7.55
RenameAllClusters 6.74 0.76 7.50
MergeClusters 6.96 0.44 7.40
** running examples for arch 'x64' ... OK
Examples with CPU (user + system) or elapsed time > 5s
user system elapsed
FindAllGeneMarkers 21.67 0.81 22.49
GeneHeatmap 14.17 1.30 15.49
AnnotationScatterPlot 14.47 0.58 15.42
ClusteringScatterPlot 14.31 0.53 16.84
SelectTopGenes 14.18 0.65 14.85
GeneScatterPlot 12.22 1.02 13.25
FindGeneMarkers 11.12 0.70 11.83
CalcSilhInfo 10.02 0.44 11.54
RunUMAP 9.39 0.58 9.97
RenameCluster 8.94 0.59 9.58
SilhouetteCurve 8.74 0.63 9.36
RunTSNE 8.95 0.41 9.36
MergeClusters 9.00 0.30 9.29
VlnPlot 8.67 0.56 9.24
PCAElbowPlot 8.45 0.55 9.00
RenameAllClusters 8.31 0.42 8.73
SelectKClusters 7.53 0.53 8.06
HierarchicalClustering 7.61 0.43 8.04
RunPCA 7.53 0.44 7.97
RunParallelICP 7.52 0.45 7.97
* checking for unstated dependencies in vignettes ... OK
* checking package vignettes in 'inst/doc' ... OK
* checking running R code from vignettes ... SKIPPED
* checking re-building of vignette outputs ... SKIPPED
* checking PDF version of manual ... OK
* DONE
Status: OK
ILoReg.Rcheck/00install.out
##############################################################################
##############################################################################
###
### Running command:
###
### C:\cygwin\bin\curl.exe -O http://155.52.207.165/BBS/3.13/bioc/src/contrib/ILoReg_1.2.0.tar.gz && rm -rf ILoReg.buildbin-libdir && mkdir ILoReg.buildbin-libdir && C:\Users\biocbuild\bbs-3.13-bioc\R\bin\R.exe CMD INSTALL --merge-multiarch --build --library=ILoReg.buildbin-libdir ILoReg_1.2.0.tar.gz && C:\Users\biocbuild\bbs-3.13-bioc\R\bin\R.exe CMD INSTALL ILoReg_1.2.0.zip && rm ILoReg_1.2.0.tar.gz ILoReg_1.2.0.zip
###
##############################################################################
##############################################################################
% Total % Received % Xferd Average Speed Time Time Time Current
Dload Upload Total Spent Left Speed
0 0 0 0 0 0 0 0 --:--:-- --:--:-- --:--:-- 0
28 874k 28 250k 0 0 354k 0 0:00:02 --:--:-- 0:00:02 354k
100 874k 100 874k 0 0 671k 0 0:00:01 0:00:01 --:--:-- 671k
install for i386
* installing *source* package 'ILoReg' ...
** using staged installation
** R
** data
*** moving datasets to lazyload DB
** inst
** byte-compile and prepare package for lazy loading
** help
*** installing help indices
converting help for package 'ILoReg'
finding HTML links ... done
AnnotationScatterPlot html
CalcSilhInfo html
ClusteringScatterPlot html
DownOverSampling html
FindAllGeneMarkers html
FindGeneMarkers html
GeneHeatmap html
GeneScatterPlot html
HierarchicalClustering html
LogisticRegression html
MergeClusters html
PCAElbowPlot html
PrepareILoReg html
RenameAllClusters html
RenameCluster html
RunICP html
RunPCA html
RunParallelICP html
RunTSNE html
RunUMAP html
SelectKClusters html
SelectTopGenes html
SilhouetteCurve html
VlnPlot html
pbmc3k_500 html
** building package indices
** installing vignettes
** testing if installed package can be loaded from temporary location
** testing if installed package can be loaded from final location
** testing if installed package keeps a record of temporary installation path
install for x64
* installing *source* package 'ILoReg' ...
** testing if installed package can be loaded
* MD5 sums
packaged installation of 'ILoReg' as ILoReg_1.2.0.zip
* DONE (ILoReg)
* installing to library 'C:/Users/biocbuild/bbs-3.13-bioc/R/library'
package 'ILoReg' successfully unpacked and MD5 sums checked
|
ILoReg.Rcheck/examples_i386/ILoReg-Ex.timings
|
ILoReg.Rcheck/examples_x64/ILoReg-Ex.timings
|