| Back to Multiple platform build/check report for BioC 3.13 |
|
This page was generated on 2021-10-15 15:06:07 -0400 (Fri, 15 Oct 2021).
|
To the developers/maintainers of the HilbertCurve package: - Please allow up to 24 hours (and sometimes 48 hours) for your latest push to git@git.bioconductor.org:packages/HilbertCurve.git to reflect on this report. See How and When does the builder pull? When will my changes propagate? here for more information. - Make sure to use the following settings in order to reproduce any error or warning you see on this page. |
| Package 861/2041 | Hostname | OS / Arch | INSTALL | BUILD | CHECK | BUILD BIN | ||||||||
| HilbertCurve 1.22.0 (landing page) Zuguang Gu
| nebbiolo1 | Linux (Ubuntu 20.04.2 LTS) / x86_64 | OK | OK | OK | |||||||||
| tokay2 | Windows Server 2012 R2 Standard / x64 | OK | OK | OK | OK | |||||||||
| machv2 | macOS 10.14.6 Mojave / x86_64 | OK | OK | OK | OK | |||||||||
| Package: HilbertCurve |
| Version: 1.22.0 |
| Command: C:\cygwin\bin\curl.exe -O http://155.52.207.165/BBS/3.13/bioc/src/contrib/HilbertCurve_1.22.0.tar.gz && rm -rf HilbertCurve.buildbin-libdir && mkdir HilbertCurve.buildbin-libdir && C:\Users\biocbuild\bbs-3.13-bioc\R\bin\R.exe CMD INSTALL --merge-multiarch --build --library=HilbertCurve.buildbin-libdir HilbertCurve_1.22.0.tar.gz && C:\Users\biocbuild\bbs-3.13-bioc\R\bin\R.exe CMD INSTALL HilbertCurve_1.22.0.zip && rm HilbertCurve_1.22.0.tar.gz HilbertCurve_1.22.0.zip |
| StartedAt: 2021-10-14 08:18:10 -0400 (Thu, 14 Oct 2021) |
| EndedAt: 2021-10-14 08:19:58 -0400 (Thu, 14 Oct 2021) |
| EllapsedTime: 107.1 seconds |
| RetCode: 0 |
| Status: OK |
##############################################################################
##############################################################################
###
### Running command:
###
### C:\cygwin\bin\curl.exe -O http://155.52.207.165/BBS/3.13/bioc/src/contrib/HilbertCurve_1.22.0.tar.gz && rm -rf HilbertCurve.buildbin-libdir && mkdir HilbertCurve.buildbin-libdir && C:\Users\biocbuild\bbs-3.13-bioc\R\bin\R.exe CMD INSTALL --merge-multiarch --build --library=HilbertCurve.buildbin-libdir HilbertCurve_1.22.0.tar.gz && C:\Users\biocbuild\bbs-3.13-bioc\R\bin\R.exe CMD INSTALL HilbertCurve_1.22.0.zip && rm HilbertCurve_1.22.0.tar.gz HilbertCurve_1.22.0.zip
###
##############################################################################
##############################################################################
% Total % Received % Xferd Average Speed Time Time Time Current
Dload Upload Total Spent Left Speed
0 0 0 0 0 0 0 0 --:--:-- --:--:-- --:--:-- 0
0 18.5M 0 154k 0 0 731k 0 0:00:25 --:--:-- 0:00:25 731k
21 18.5M 21 4023k 0 0 3300k 0 0:00:05 0:00:01 0:00:04 3300k
46 18.5M 46 8819k 0 0 4015k 0 0:00:04 0:00:02 0:00:02 4016k
75 18.5M 75 14.0M 0 0 4496k 0 0:00:04 0:00:03 0:00:01 4496k
100 18.5M 100 18.5M 0 0 4806k 0 0:00:03 0:00:03 --:--:-- 4806k
install for i386
* installing *source* package 'HilbertCurve' ...
** using staged installation
** R
** inst
** byte-compile and prepare package for lazy loading
** help
*** installing help indices
converting help for package 'HilbertCurve'
finding HTML links ... done
GenomicHilbertCurve-class html
GenomicHilbertCurve html
HilbertCurve-class html
HilbertCurve html
default_overlay html
hc_centered_text-HilbertCurve-method html
hc_layer-GenomicHilbertCurve-method html
hc_layer-HilbertCurve-method html
hc_layer-dispatch html
hc_level-HilbertCurve-method html
hc_map-GenomicHilbertCurve-method html
hc_normal_points-HilbertCurve-method html
hc_offset-HilbertCurve-method html
hc_png-HilbertCurve-method html
hc_points-GenomicHilbertCurve-method html
hc_points-HilbertCurve-method html
hc_points-dispatch html
hc_polygon-GenomicHilbertCurve-method html
hc_polygon-HilbertCurve-method html
hc_polygon-dispatch html
hc_rect-GenomicHilbertCurve-method html
hc_rect-HilbertCurve-method html
hc_rect-dispatch html
hc_segmented_points-HilbertCurve-method
html
hc_segments-GenomicHilbertCurve-method
html
hc_segments-HilbertCurve-method html
hc_segments-dispatch html
hc_text-GenomicHilbertCurve-method html
hc_text-HilbertCurve-method html
hc_text-dispatch html
is_white html
show-HilbertCurve-method html
unzoom-HilbertCurve-method html
zoom-HilbertCurve-method html
** building package indices
** installing vignettes
'HilbertCurve.Rmd'
** testing if installed package can be loaded from temporary location
** testing if installed package can be loaded from final location
** testing if installed package keeps a record of temporary installation path
install for x64
* installing *source* package 'HilbertCurve' ...
** testing if installed package can be loaded
* MD5 sums
packaged installation of 'HilbertCurve' as HilbertCurve_1.22.0.zip
* DONE (HilbertCurve)
* installing to library 'C:/Users/biocbuild/bbs-3.13-bioc/R/library'
package 'HilbertCurve' successfully unpacked and MD5 sums checked