| Back to Multiple platform build/check report for BioC 3.13 | 
  | 
This page was generated on 2021-10-15 15:06:07 -0400 (Fri, 15 Oct 2021).
| 
To the developers/maintainers of the Heatplus package: - Please allow up to 24 hours (and sometimes 48 hours) for your latest push to git@git.bioconductor.org:packages/Heatplus.git to reflect on this report. See How and When does the builder pull? When will my changes propagate? here for more information. - Make sure to use the following settings in order to reproduce any error or warning you see on this page.  | 
| Package 848/2041 | Hostname | OS / Arch | INSTALL | BUILD | CHECK | BUILD BIN | ||||||||
| Heatplus 3.0.0  (landing page) Alexander Ploner 
  | nebbiolo1 | Linux (Ubuntu 20.04.2 LTS) / x86_64 | OK | OK | OK | |||||||||
| tokay2 | Windows Server 2012 R2 Standard / x64 | OK | OK | OK | OK | |||||||||
| machv2 | macOS 10.14.6 Mojave / x86_64 | OK | OK | OK | OK | |||||||||
| Package: Heatplus | 
| Version: 3.0.0 | 
| Command: C:\Users\biocbuild\bbs-3.13-bioc\R\bin\R.exe CMD check --force-multiarch --install=check:Heatplus.install-out.txt --library=C:\Users\biocbuild\bbs-3.13-bioc\R\library --no-vignettes --timings Heatplus_3.0.0.tar.gz | 
| StartedAt: 2021-10-15 00:18:50 -0400 (Fri, 15 Oct 2021) | 
| EndedAt: 2021-10-15 00:19:35 -0400 (Fri, 15 Oct 2021) | 
| EllapsedTime: 45.4 seconds | 
| RetCode: 0 | 
| Status: OK | 
| CheckDir: Heatplus.Rcheck | 
| Warnings: 0 | 
############################################################################## ############################################################################## ### ### Running command: ### ### C:\Users\biocbuild\bbs-3.13-bioc\R\bin\R.exe CMD check --force-multiarch --install=check:Heatplus.install-out.txt --library=C:\Users\biocbuild\bbs-3.13-bioc\R\library --no-vignettes --timings Heatplus_3.0.0.tar.gz ### ############################################################################## ############################################################################## * using log directory 'C:/Users/biocbuild/bbs-3.13-bioc/meat/Heatplus.Rcheck' * using R version 4.1.1 (2021-08-10) * using platform: x86_64-w64-mingw32 (64-bit) * using session charset: ISO8859-1 * using option '--no-vignettes' * checking for file 'Heatplus/DESCRIPTION' ... OK * this is package 'Heatplus' version '3.0.0' * checking package namespace information ... OK * checking package dependencies ... OK * checking if this is a source package ... OK * checking if there is a namespace ... OK * checking for hidden files and directories ... OK * checking for portable file names ... OK * checking whether package 'Heatplus' can be installed ... OK * checking installed package size ... OK * checking package directory ... OK * checking 'build' directory ... OK * checking DESCRIPTION meta-information ... OK * checking top-level files ... OK * checking for left-over files ... OK * checking index information ... OK * checking package subdirectories ... OK * checking R files for non-ASCII characters ... OK * checking R files for syntax errors ... OK * loading checks for arch 'i386' ** checking whether the package can be loaded ... OK ** checking whether the package can be loaded with stated dependencies ... OK ** checking whether the package can be unloaded cleanly ... OK ** checking whether the namespace can be loaded with stated dependencies ... OK ** checking whether the namespace can be unloaded cleanly ... OK * loading checks for arch 'x64' ** checking whether the package can be loaded ... OK ** checking whether the package can be loaded with stated dependencies ... OK ** checking whether the package can be unloaded cleanly ... OK ** checking whether the namespace can be loaded with stated dependencies ... OK ** checking whether the namespace can be unloaded cleanly ... OK * checking dependencies in R code ... NOTE Unexported object imported by a ':::' call: 'stats:::plotNode' See the note in ?`:::` about the use of this operator. * checking S3 generic/method consistency ... OK * checking replacement functions ... OK * checking foreign function calls ... OK * checking R code for possible problems ... NOTE annHeatmap2: no visible global function definition for 'clustfun' annHeatmap2: no visible global function definition for 'distfun' annHeatmap2: no visible binding for global variable 'cuth' annHeatmap2: no visible binding for global variable 'asIs' annHeatmap2: no visible binding for global variable 'inclRef' Undefined global functions or variables: asIs clustfun cuth distfun inclRef * checking Rd files ... OK * checking Rd metadata ... OK * checking Rd cross-references ... OK * checking for missing documentation entries ... OK * checking for code/documentation mismatches ... OK * checking Rd \usage sections ... OK * checking Rd contents ... OK * checking for unstated dependencies in examples ... OK * checking files in 'vignettes' ... OK * checking examples ... ** running examples for arch 'i386' ... OK ** running examples for arch 'x64' ... OK * checking for unstated dependencies in vignettes ... OK * checking package vignettes in 'inst/doc' ... OK * checking running R code from vignettes ... SKIPPED * checking re-building of vignette outputs ... SKIPPED * checking PDF version of manual ... OK * DONE Status: 2 NOTEs See 'C:/Users/biocbuild/bbs-3.13-bioc/meat/Heatplus.Rcheck/00check.log' for details.
Heatplus.Rcheck/00install.out
##############################################################################
##############################################################################
###
### Running command:
###
###   C:\cygwin\bin\curl.exe -O http://155.52.207.165/BBS/3.13/bioc/src/contrib/Heatplus_3.0.0.tar.gz && rm -rf Heatplus.buildbin-libdir && mkdir Heatplus.buildbin-libdir && C:\Users\biocbuild\bbs-3.13-bioc\R\bin\R.exe CMD INSTALL --merge-multiarch --build --library=Heatplus.buildbin-libdir Heatplus_3.0.0.tar.gz && C:\Users\biocbuild\bbs-3.13-bioc\R\bin\R.exe CMD INSTALL Heatplus_3.0.0.zip && rm Heatplus_3.0.0.tar.gz Heatplus_3.0.0.zip
###
##############################################################################
##############################################################################
  % Total    % Received % Xferd  Average Speed   Time    Time     Time  Current
                                 Dload  Upload   Total   Spent    Left  Speed
  0     0    0     0    0     0      0      0 --:--:-- --:--:-- --:--:--     0
100 60859  100 60859    0     0   387k      0 --:--:-- --:--:-- --:--:--  391k
install for i386
* installing *source* package 'Heatplus' ...
** using staged installation
** R
** byte-compile and prepare package for lazy loading
** help
*** installing help indices
  converting help for package 'Heatplus'
    finding HTML links ... done
    BrewerClusterCol                        html  
    finding level-2 HTML links ... done
    RGBColVec                               html  
    Undocumented                            html  
    annHeatmap                              html  
    annHeatmap2                             html  
    breakColors                             html  
    convAnnData                             html  
    doLegend                                html  
    g2r.colors                              html  
    heatmapLayout                           html  
    heatmap_2                               html  
    heatmap_plus                            html  
    modifyExistingList                      html  
    niceBreaks                              html  
    oldCutplot.dendrogram                   html  
    oldPicketplot                           html  
    picketPlot                              html  
    picketPlotControl                       html  
    plot.annHeatmap                         html  
    print.annHeatmap                        html  
    regHeatmap                              html  
** building package indices
** installing vignettes
** testing if installed package can be loaded from temporary location
** testing if installed package can be loaded from final location
** testing if installed package keeps a record of temporary installation path
install for x64
* installing *source* package 'Heatplus' ...
** testing if installed package can be loaded
* MD5 sums
packaged installation of 'Heatplus' as Heatplus_3.0.0.zip
* DONE (Heatplus)
* installing to library 'C:/Users/biocbuild/bbs-3.13-bioc/R/library'
package 'Heatplus' successfully unpacked and MD5 sums checked
| 
 Heatplus.Rcheck/examples_i386/Heatplus-Ex.timings 
  | 
 Heatplus.Rcheck/examples_x64/Heatplus-Ex.timings 
  |