| Back to Multiple platform build/check report for BioC 3.13 |
|
This page was generated on 2021-10-15 15:06:38 -0400 (Fri, 15 Oct 2021).
|
To the developers/maintainers of the Harman package: - Please allow up to 24 hours (and sometimes 48 hours) for your latest push to git@git.bioconductor.org:packages/Harman.git to reflect on this report. See How and When does the builder pull? When will my changes propagate? here for more information. - Make sure to use the following settings in order to reproduce any error or warning you see on this page. |
| Package 839/2041 | Hostname | OS / Arch | INSTALL | BUILD | CHECK | BUILD BIN | ||||||||
| Harman 1.20.0 (landing page) Jason Ross
| nebbiolo1 | Linux (Ubuntu 20.04.2 LTS) / x86_64 | OK | OK | ERROR | |||||||||
| tokay2 | Windows Server 2012 R2 Standard / x64 | OK | OK | WARNINGS | OK | |||||||||
| machv2 | macOS 10.14.6 Mojave / x86_64 | OK | OK | WARNINGS | OK | |||||||||
| Package: Harman |
| Version: 1.20.0 |
| Command: rm -rf Harman.buildbin-libdir && mkdir Harman.buildbin-libdir && /Users/biocbuild/BBS/utils/build-universal.sh Harman_1.20.0.tar.gz /Library/Frameworks/R.framework/Versions/Current/Resources/bin/R Harman.buildbin-libdir |
| StartedAt: 2021-10-15 02:41:40 -0400 (Fri, 15 Oct 2021) |
| EndedAt: 2021-10-15 02:42:47 -0400 (Fri, 15 Oct 2021) |
| EllapsedTime: 66.5 seconds |
| RetCode: 0 |
| Status: OK |
| PackageFile: Harman_1.20.0.tgz |
| PackageFileSize: 1.548 MiB |
##############################################################################
##############################################################################
###
### Running command:
###
### rm -rf Harman.buildbin-libdir && mkdir Harman.buildbin-libdir && /Users/biocbuild/BBS/utils/build-universal.sh Harman_1.20.0.tar.gz /Library/Frameworks/R.framework/Versions/Current/Resources/bin/R Harman.buildbin-libdir
###
##############################################################################
##############################################################################
>>>>>>>
>>>>>>> INSTALLATION WITH 'R CMD INSTALL --preclean --no-multiarch --library=Harman.buildbin-libdir Harman_1.20.0.tar.gz'
>>>>>>>
* installing *source* package ‘Harman’ ...
** using staged installation
** libs
clang++ -mmacosx-version-min=10.13 -std=gnu++14 -I"/Library/Frameworks/R.framework/Resources/include" -DNDEBUG -D_ARRAYALIGNEMT=4 -D_USE_RCPP=1 -I'/Library/Frameworks/R.framework/Versions/4.1/Resources/library/Rcpp/include' -I/usr/local/include `/Library/Frameworks/R.framework/Resources/bin/Rscript -e "Rcpp:::CxxFlags()"` -I. -fPIC -Wall -g -O2 -c Harman.cpp -o Harman.o
In file included from Harman.cpp:182:
./CSelectRandom.h:394:40: warning: unused variable 'it2' [-Wunused-variable]
std::vector<double>::iterator it1, it2 ;
^
./CSelectRandom.h:392:11: warning: unused variable 'currindex' [-Wunused-variable]
size_t currindex ;
^
./CSelectRandom.h:394:35: warning: unused variable 'it1' [-Wunused-variable]
std::vector<double>::iterator it1, it2 ;
^
./CSelectRandom.h:638:20: warning: unused variable 'ts1' [-Wunused-variable]
struct timespec ts1, ts2 ;
^
./CSelectRandom.h:639:18: warning: unused variable 'time2' [-Wunused-variable]
double time1, time2 ;
^
./CSelectRandom.h:638:25: warning: unused variable 'ts2' [-Wunused-variable]
struct timespec ts1, ts2 ;
^
./CSelectRandom.h:639:11: warning: unused variable 'time1' [-Wunused-variable]
double time1, time2 ;
^
./CSelectRandom.h:1019:23: warning: unused variable 'randData2' [-Wunused-variable]
size_t randData1, randData2 ;
^
8 warnings generated.
clang++ -mmacosx-version-min=10.13 -std=gnu++14 -dynamiclib -Wl,-headerpad_max_install_names -undefined dynamic_lookup -single_module -multiply_defined suppress -L/Library/Frameworks/R.framework/Resources/lib -L/usr/local/lib -o Harman.so Harman.o -F/Library/Frameworks/R.framework/.. -framework R -Wl,-framework -Wl,CoreFoundation
installing to /Users/biocbuild/bbs-3.13-bioc/meat/Harman.buildbin-libdir/00LOCK-Harman/00new/Harman/libs
** R
** inst
** byte-compile and prepare package for lazy loading
** help
*** installing help indices
** building package indices
** installing vignettes
** testing if installed package can be loaded from temporary location
** checking absolute paths in shared objects and dynamic libraries
** testing if installed package can be loaded from final location
** testing if installed package keeps a record of temporary installation path
* DONE (Harman)
>>>>>>>
>>>>>>> FIXING LINKS FOR Harman.buildbin-libdir/Harman/libs/Harman.so
>>>>>>>
install_name_tool -change "/usr/local/lib/libgcc_s.1.dylib" "/Library/Frameworks/R.framework/Versions/4.1/Resources/lib/libgcc_s.1.dylib" "Harman.buildbin-libdir/Harman/libs/Harman.so"
install_name_tool -change "/usr/local/lib/libgfortran.5.dylib" "/Library/Frameworks/R.framework/Versions/4.1/Resources/lib/libgfortran.5.dylib" "Harman.buildbin-libdir/Harman/libs/Harman.so"
install_name_tool -change "/usr/local/lib/libquadmath.0.dylib" "/Library/Frameworks/R.framework/Versions/4.1/Resources/lib/libquadmath.0.dylib" "Harman.buildbin-libdir/Harman/libs/Harman.so"