| Back to Multiple platform build/check report for BioC 3.13 |
|
This page was generated on 2021-10-15 15:06:08 -0400 (Fri, 15 Oct 2021).
|
To the developers/maintainers of the HPAanalyze package: - Please allow up to 24 hours (and sometimes 48 hours) for your latest push to git@git.bioconductor.org:packages/HPAanalyze.git to reflect on this report. See How and When does the builder pull? When will my changes propagate? here for more information. - Make sure to use the following settings in order to reproduce any error or warning you see on this page. |
| Package 873/2041 | Hostname | OS / Arch | INSTALL | BUILD | CHECK | BUILD BIN | ||||||||
| HPAanalyze 1.10.0 (landing page) Anh Nhat Tran
| nebbiolo1 | Linux (Ubuntu 20.04.2 LTS) / x86_64 | OK | OK | OK | |||||||||
| tokay2 | Windows Server 2012 R2 Standard / x64 | OK | OK | OK | OK | |||||||||
| machv2 | macOS 10.14.6 Mojave / x86_64 | OK | OK | OK | OK | |||||||||
| Package: HPAanalyze |
| Version: 1.10.0 |
| Command: C:\cygwin\bin\curl.exe -O http://155.52.207.165/BBS/3.13/bioc/src/contrib/HPAanalyze_1.10.0.tar.gz && rm -rf HPAanalyze.buildbin-libdir && mkdir HPAanalyze.buildbin-libdir && C:\Users\biocbuild\bbs-3.13-bioc\R\bin\R.exe CMD INSTALL --merge-multiarch --build --library=HPAanalyze.buildbin-libdir HPAanalyze_1.10.0.tar.gz && C:\Users\biocbuild\bbs-3.13-bioc\R\bin\R.exe CMD INSTALL HPAanalyze_1.10.0.zip && rm HPAanalyze_1.10.0.tar.gz HPAanalyze_1.10.0.zip |
| StartedAt: 2021-10-14 08:20:09 -0400 (Thu, 14 Oct 2021) |
| EndedAt: 2021-10-14 08:20:57 -0400 (Thu, 14 Oct 2021) |
| EllapsedTime: 48.0 seconds |
| RetCode: 0 |
| Status: OK |
##############################################################################
##############################################################################
###
### Running command:
###
### C:\cygwin\bin\curl.exe -O http://155.52.207.165/BBS/3.13/bioc/src/contrib/HPAanalyze_1.10.0.tar.gz && rm -rf HPAanalyze.buildbin-libdir && mkdir HPAanalyze.buildbin-libdir && C:\Users\biocbuild\bbs-3.13-bioc\R\bin\R.exe CMD INSTALL --merge-multiarch --build --library=HPAanalyze.buildbin-libdir HPAanalyze_1.10.0.tar.gz && C:\Users\biocbuild\bbs-3.13-bioc\R\bin\R.exe CMD INSTALL HPAanalyze_1.10.0.zip && rm HPAanalyze_1.10.0.tar.gz HPAanalyze_1.10.0.zip
###
##############################################################################
##############################################################################
% Total % Received % Xferd Average Speed Time Time Time Current
Dload Upload Total Spent Left Speed
0 0 0 0 0 0 0 0 --:--:-- --:--:-- --:--:-- 0
16 5966k 16 962k 0 0 2123k 0 0:00:02 --:--:-- 0:00:02 2124k
91 5966k 91 5442k 0 0 3814k 0 0:00:01 0:00:01 --:--:-- 3813k
100 5966k 100 5966k 0 0 3889k 0 0:00:01 0:00:01 --:--:-- 3889k
install for i386
* installing *source* package 'HPAanalyze' ...
** using staged installation
** R
** data
*** moving datasets to lazyload DB
** inst
** byte-compile and prepare package for lazy loading
** help
*** installing help indices
converting help for package 'HPAanalyze'
finding HTML links ... done
hpaDownload html
hpaExport html
hpaListParam html
hpaVis html
hpaVisPatho html
hpaVisSubcell html
hpaVisTissue html
hpaXml html
hpaXmlAntibody html
hpaXmlGet html
hpaXmlProtClass html
hpaXmlTissueExpr html
hpaXmlTissueExprSum html
hpa_histology_data html
** building package indices
** installing vignettes
** testing if installed package can be loaded from temporary location
** testing if installed package can be loaded from final location
** testing if installed package keeps a record of temporary installation path
install for x64
* installing *source* package 'HPAanalyze' ...
** testing if installed package can be loaded
* MD5 sums
packaged installation of 'HPAanalyze' as HPAanalyze_1.10.0.zip
* DONE (HPAanalyze)
* installing to library 'C:/Users/biocbuild/bbs-3.13-bioc/R/library'
package 'HPAanalyze' successfully unpacked and MD5 sums checked