| Back to Multiple platform build/check report for BioC 3.13 |
|
This page was generated on 2021-10-15 15:06:08 -0400 (Fri, 15 Oct 2021).
|
To the developers/maintainers of the HPAStainR package: - Please allow up to 24 hours (and sometimes 48 hours) for your latest push to git@git.bioconductor.org:packages/HPAStainR.git to reflect on this report. See How and When does the builder pull? When will my changes propagate? here for more information. - Make sure to use the following settings in order to reproduce any error or warning you see on this page. |
| Package 875/2041 | Hostname | OS / Arch | INSTALL | BUILD | CHECK | BUILD BIN | ||||||||
| HPAStainR 1.2.1 (landing page) Tim O. Nieuwenhuis
| nebbiolo1 | Linux (Ubuntu 20.04.2 LTS) / x86_64 | OK | OK | OK | |||||||||
| tokay2 | Windows Server 2012 R2 Standard / x64 | OK | OK | OK | OK | |||||||||
| machv2 | macOS 10.14.6 Mojave / x86_64 | OK | OK | OK | OK | |||||||||
| Package: HPAStainR |
| Version: 1.2.1 |
| Command: C:\Users\biocbuild\bbs-3.13-bioc\R\bin\R.exe CMD check --force-multiarch --install=check:HPAStainR.install-out.txt --library=C:\Users\biocbuild\bbs-3.13-bioc\R\library --no-vignettes --timings HPAStainR_1.2.1.tar.gz |
| StartedAt: 2021-10-15 00:29:50 -0400 (Fri, 15 Oct 2021) |
| EndedAt: 2021-10-15 00:37:35 -0400 (Fri, 15 Oct 2021) |
| EllapsedTime: 465.0 seconds |
| RetCode: 0 |
| Status: OK |
| CheckDir: HPAStainR.Rcheck |
| Warnings: 0 |
##############################################################################
##############################################################################
###
### Running command:
###
### C:\Users\biocbuild\bbs-3.13-bioc\R\bin\R.exe CMD check --force-multiarch --install=check:HPAStainR.install-out.txt --library=C:\Users\biocbuild\bbs-3.13-bioc\R\library --no-vignettes --timings HPAStainR_1.2.1.tar.gz
###
##############################################################################
##############################################################################
* using log directory 'C:/Users/biocbuild/bbs-3.13-bioc/meat/HPAStainR.Rcheck'
* using R version 4.1.1 (2021-08-10)
* using platform: x86_64-w64-mingw32 (64-bit)
* using session charset: ISO8859-1
* using option '--no-vignettes'
* checking for file 'HPAStainR/DESCRIPTION' ... OK
* this is package 'HPAStainR' version '1.2.1'
* package encoding: UTF-8
* checking package namespace information ... OK
* checking package dependencies ... OK
* checking if this is a source package ... OK
* checking if there is a namespace ... OK
* checking for hidden files and directories ... OK
* checking for portable file names ... OK
* checking whether package 'HPAStainR' can be installed ... OK
* checking installed package size ... OK
* checking package directory ... OK
* checking 'build' directory ... OK
* checking DESCRIPTION meta-information ... OK
* checking top-level files ... OK
* checking for left-over files ... OK
* checking index information ... OK
* checking package subdirectories ... OK
* checking R files for non-ASCII characters ... OK
* checking R files for syntax errors ... OK
* loading checks for arch 'i386'
** checking whether the package can be loaded ... OK
** checking whether the package can be loaded with stated dependencies ... OK
** checking whether the package can be unloaded cleanly ... OK
** checking whether the namespace can be loaded with stated dependencies ... OK
** checking whether the namespace can be unloaded cleanly ... OK
* loading checks for arch 'x64'
** checking whether the package can be loaded ... OK
** checking whether the package can be loaded with stated dependencies ... OK
** checking whether the package can be unloaded cleanly ... OK
** checking whether the namespace can be loaded with stated dependencies ... OK
** checking whether the namespace can be unloaded cleanly ... OK
* checking dependencies in R code ... OK
* checking S3 generic/method consistency ... OK
* checking replacement functions ... OK
* checking foreign function calls ... OK
* checking R code for possible problems ... OK
* checking Rd files ... OK
* checking Rd metadata ... OK
* checking Rd cross-references ... OK
* checking for missing documentation entries ... OK
* checking for code/documentation mismatches ... OK
* checking Rd \usage sections ... OK
* checking Rd contents ... OK
* checking for unstated dependencies in examples ... OK
* checking files in 'vignettes' ... OK
* checking examples ...
** running examples for arch 'i386' ... OK
Examples with CPU (user + system) or elapsed time > 5s
user system elapsed
HPAstainR 9.47 1.04 11.69
HPA_data_downloader 5.39 0.96 9.30
hpa_summary_maker 4.81 0.53 7.42
shiny_HPAStainR 4.19 0.25 6.01
** running examples for arch 'x64' ... OK
Examples with CPU (user + system) or elapsed time > 5s
user system elapsed
HPAstainR 9.18 0.96 13.68
HPA_data_downloader 5.13 1.00 10.16
hpa_summary_maker 4.62 0.48 12.05
shiny_HPAStainR 3.96 0.49 9.95
* checking for unstated dependencies in 'tests' ... OK
* checking tests ...
** running tests for arch 'i386' ...
Running 'testthat.R'
OK
** running tests for arch 'x64' ...
Running 'testthat.R'
OK
* checking for unstated dependencies in vignettes ... OK
* checking package vignettes in 'inst/doc' ... OK
* checking running R code from vignettes ... SKIPPED
* checking re-building of vignette outputs ... SKIPPED
* checking PDF version of manual ... OK
* DONE
Status: OK
HPAStainR.Rcheck/00install.out
##############################################################################
##############################################################################
###
### Running command:
###
### C:\cygwin\bin\curl.exe -O http://155.52.207.165/BBS/3.13/bioc/src/contrib/HPAStainR_1.2.1.tar.gz && rm -rf HPAStainR.buildbin-libdir && mkdir HPAStainR.buildbin-libdir && C:\Users\biocbuild\bbs-3.13-bioc\R\bin\R.exe CMD INSTALL --merge-multiarch --build --library=HPAStainR.buildbin-libdir HPAStainR_1.2.1.tar.gz && C:\Users\biocbuild\bbs-3.13-bioc\R\bin\R.exe CMD INSTALL HPAStainR_1.2.1.zip && rm HPAStainR_1.2.1.tar.gz HPAStainR_1.2.1.zip
###
##############################################################################
##############################################################################
% Total % Received % Xferd Average Speed Time Time Time Current
Dload Upload Total Spent Left Speed
0 0 0 0 0 0 0 0 --:--:-- --:--:-- --:--:-- 0
100 99607 100 99607 0 0 508k 0 --:--:-- --:--:-- --:--:-- 511k
install for i386
* installing *source* package 'HPAStainR' ...
** using staged installation
** R
** byte-compile and prepare package for lazy loading
** help
*** installing help indices
converting help for package 'HPAStainR'
finding HTML links ... done
HPA_data_downloader html
HPAstainR html
hpa_summary_maker html
shiny_HPAStainR html
** building package indices
** installing vignettes
** testing if installed package can be loaded from temporary location
** testing if installed package can be loaded from final location
** testing if installed package keeps a record of temporary installation path
install for x64
* installing *source* package 'HPAStainR' ...
** testing if installed package can be loaded
* MD5 sums
packaged installation of 'HPAStainR' as HPAStainR_1.2.1.zip
* DONE (HPAStainR)
* installing to library 'C:/Users/biocbuild/bbs-3.13-bioc/R/library'
package 'HPAStainR' successfully unpacked and MD5 sums checked
|
HPAStainR.Rcheck/tests_i386/testthat.Rout
R version 4.1.1 (2021-08-10) -- "Kick Things"
Copyright (C) 2021 The R Foundation for Statistical Computing
Platform: i386-w64-mingw32/i386 (32-bit)
R is free software and comes with ABSOLUTELY NO WARRANTY.
You are welcome to redistribute it under certain conditions.
Type 'license()' or 'licence()' for distribution details.
R is a collaborative project with many contributors.
Type 'contributors()' for more information and
'citation()' on how to cite R or R packages in publications.
Type 'demo()' for some demos, 'help()' for on-line help, or
'help.start()' for an HTML browser interface to help.
Type 'q()' to quit R.
> library(testthat)
> library(HPAStainR)
Loading required package: dplyr
Attaching package: 'dplyr'
The following object is masked from 'package:testthat':
matches
The following objects are masked from 'package:stats':
filter, lag
The following objects are masked from 'package:base':
intersect, setdiff, setequal, union
Loading required package: tidyr
Attaching package: 'tidyr'
The following object is masked from 'package:testthat':
matches
>
> test_check("HPAStainR")
trying URL 'https://www.proteinatlas.org/download/normal_tissue.tsv.zip'
Content type 'application/zip' length 5110246 bytes (4.9 MB)
==================================================
downloaded 4.9 MB
trying URL 'https://www.proteinatlas.org/download/pathology.tsv.zip'
Content type 'application/zip' length 3565496 bytes (3.4 MB)
==================================================
downloaded 3.4 MB
trying URL 'https://www.proteinatlas.org/download/normal_tissue.tsv.zip'
Content type 'application/zip' length 5110246 bytes (4.9 MB)
==================================================
downloaded 4.9 MB
trying URL 'https://www.proteinatlas.org/download/pathology.tsv.zip'
Content type 'application/zip' length 3565496 bytes (3.4 MB)
==================================================
downloaded 3.4 MB
trying URL 'https://www.proteinatlas.org/download/normal_tissue.tsv.zip'
Content type 'application/zip' length 5110246 bytes (4.9 MB)
==================================================
downloaded 4.9 MB
trying URL 'https://www.proteinatlas.org/download/pathology.tsv.zip'
Content type 'application/zip' length 3565496 bytes (3.4 MB)
==================================================
downloaded 3.4 MB
trying URL 'https://www.proteinatlas.org/download/normal_tissue.tsv.zip'
Content type 'application/zip' length 5110246 bytes (4.9 MB)
==================================================
downloaded 4.9 MB
trying URL 'https://www.proteinatlas.org/download/pathology.tsv.zip'
Content type 'application/zip' length 3565496 bytes (3.4 MB)
==================================================
downloaded 3.4 MB
trying URL 'https://www.proteinatlas.org/download/normal_tissue.tsv.zip'
Content type 'application/zip' length 5110246 bytes (4.9 MB)
==================================================
downloaded 4.9 MB
trying URL 'https://www.proteinatlas.org/download/pathology.tsv.zip'
Content type 'application/zip' length 3565496 bytes (3.4 MB)
==================================================
downloaded 3.4 MB
trying URL 'https://www.proteinatlas.org/download/normal_tissue.tsv.zip'
Content type 'application/zip' length 5110246 bytes (4.9 MB)
==================================================
downloaded 4.9 MB
trying URL 'https://www.proteinatlas.org/download/pathology.tsv.zip'
Content type 'application/zip' length 3565496 bytes (3.4 MB)
==================================================
downloaded 3.4 MB
trying URL 'https://www.proteinatlas.org/download/normal_tissue.tsv.zip'
Content type 'application/zip' length 5110246 bytes (4.9 MB)
==================================================
downloaded 4.9 MB
trying URL 'https://www.proteinatlas.org/download/pathology.tsv.zip'
Content type 'application/zip' length 3565496 bytes (3.4 MB)
==================================================
downloaded 3.4 MB
trying URL 'https://www.proteinatlas.org/download/normal_tissue.tsv.zip'
Content type 'application/zip' length 5110246 bytes (4.9 MB)
==================================================
downloaded 4.9 MB
trying URL 'https://www.proteinatlas.org/download/pathology.tsv.zip'
Content type 'application/zip' length 3565496 bytes (3.4 MB)
==================================================
downloaded 3.4 MB
[ FAIL 0 | WARN 0 | SKIP 0 | PASS 9 ]
>
> proc.time()
user system elapsed
28.64 3.85 137.35
|
HPAStainR.Rcheck/tests_x64/testthat.Rout
R version 4.1.1 (2021-08-10) -- "Kick Things"
Copyright (C) 2021 The R Foundation for Statistical Computing
Platform: x86_64-w64-mingw32/x64 (64-bit)
R is free software and comes with ABSOLUTELY NO WARRANTY.
You are welcome to redistribute it under certain conditions.
Type 'license()' or 'licence()' for distribution details.
R is a collaborative project with many contributors.
Type 'contributors()' for more information and
'citation()' on how to cite R or R packages in publications.
Type 'demo()' for some demos, 'help()' for on-line help, or
'help.start()' for an HTML browser interface to help.
Type 'q()' to quit R.
> library(testthat)
> library(HPAStainR)
Loading required package: dplyr
Attaching package: 'dplyr'
The following object is masked from 'package:testthat':
matches
The following objects are masked from 'package:stats':
filter, lag
The following objects are masked from 'package:base':
intersect, setdiff, setequal, union
Loading required package: tidyr
Attaching package: 'tidyr'
The following object is masked from 'package:testthat':
matches
>
> test_check("HPAStainR")
trying URL 'https://www.proteinatlas.org/download/normal_tissue.tsv.zip'
Content type 'application/zip' length 5110246 bytes (4.9 MB)
==================================================
downloaded 4.9 MB
trying URL 'https://www.proteinatlas.org/download/pathology.tsv.zip'
Content type 'application/zip' length 3565496 bytes (3.4 MB)
==================================================
downloaded 3.4 MB
trying URL 'https://www.proteinatlas.org/download/normal_tissue.tsv.zip'
Content type 'application/zip' length 5110246 bytes (4.9 MB)
==================================================
downloaded 4.9 MB
trying URL 'https://www.proteinatlas.org/download/pathology.tsv.zip'
Content type 'application/zip' length 3565496 bytes (3.4 MB)
==================================================
downloaded 3.4 MB
trying URL 'https://www.proteinatlas.org/download/normal_tissue.tsv.zip'
Content type 'application/zip' length 5110246 bytes (4.9 MB)
==================================================
downloaded 4.9 MB
trying URL 'https://www.proteinatlas.org/download/pathology.tsv.zip'
Content type 'application/zip' length 3565496 bytes (3.4 MB)
==================================================
downloaded 3.4 MB
trying URL 'https://www.proteinatlas.org/download/normal_tissue.tsv.zip'
Content type 'application/zip' length 5110246 bytes (4.9 MB)
==================================================
downloaded 4.9 MB
trying URL 'https://www.proteinatlas.org/download/pathology.tsv.zip'
Content type 'application/zip' length 3565496 bytes (3.4 MB)
==================================================
downloaded 3.4 MB
trying URL 'https://www.proteinatlas.org/download/normal_tissue.tsv.zip'
Content type 'application/zip' length 5110246 bytes (4.9 MB)
==================================================
downloaded 4.9 MB
trying URL 'https://www.proteinatlas.org/download/pathology.tsv.zip'
Content type 'application/zip' length 3565496 bytes (3.4 MB)
==================================================
downloaded 3.4 MB
trying URL 'https://www.proteinatlas.org/download/normal_tissue.tsv.zip'
Content type 'application/zip' length 5110246 bytes (4.9 MB)
==================================================
downloaded 4.9 MB
trying URL 'https://www.proteinatlas.org/download/pathology.tsv.zip'
Content type 'application/zip' length 3565496 bytes (3.4 MB)
==================================================
downloaded 3.4 MB
trying URL 'https://www.proteinatlas.org/download/normal_tissue.tsv.zip'
Content type 'application/zip' length 5110246 bytes (4.9 MB)
==================================================
downloaded 4.9 MB
trying URL 'https://www.proteinatlas.org/download/pathology.tsv.zip'
Content type 'application/zip' length 3565496 bytes (3.4 MB)
==================================================
downloaded 3.4 MB
trying URL 'https://www.proteinatlas.org/download/normal_tissue.tsv.zip'
Content type 'application/zip' length 5110246 bytes (4.9 MB)
==================================================
downloaded 4.9 MB
trying URL 'https://www.proteinatlas.org/download/pathology.tsv.zip'
Content type 'application/zip' length 3565496 bytes (3.4 MB)
==================================================
downloaded 3.4 MB
[ FAIL 0 | WARN 0 | SKIP 0 | PASS 9 ]
>
> proc.time()
user system elapsed
26.35 4.84 182.81
|
|
HPAStainR.Rcheck/examples_i386/HPAStainR-Ex.timings
|
HPAStainR.Rcheck/examples_x64/HPAStainR-Ex.timings
|