| Back to Multiple platform build/check report for BioC 3.13 |
|
This page was generated on 2021-10-15 15:06:08 -0400 (Fri, 15 Oct 2021).
|
To the developers/maintainers of the HIPPO package: - Please allow up to 24 hours (and sometimes 48 hours) for your latest push to git@git.bioconductor.org:packages/HIPPO.git to reflect on this report. See How and When does the builder pull? When will my changes propagate? here for more information. - Make sure to use the following settings in order to reproduce any error or warning you see on this page. |
| Package 866/2041 | Hostname | OS / Arch | INSTALL | BUILD | CHECK | BUILD BIN | ||||||||
| HIPPO 1.4.0 (landing page) Tae Kim
| nebbiolo1 | Linux (Ubuntu 20.04.2 LTS) / x86_64 | OK | OK | OK | |||||||||
| tokay2 | Windows Server 2012 R2 Standard / x64 | OK | OK | OK | OK | |||||||||
| machv2 | macOS 10.14.6 Mojave / x86_64 | OK | OK | OK | OK | |||||||||
| Package: HIPPO |
| Version: 1.4.0 |
| Command: C:\cygwin\bin\curl.exe -O http://155.52.207.165/BBS/3.13/bioc/src/contrib/HIPPO_1.4.0.tar.gz && rm -rf HIPPO.buildbin-libdir && mkdir HIPPO.buildbin-libdir && C:\Users\biocbuild\bbs-3.13-bioc\R\bin\R.exe CMD INSTALL --merge-multiarch --build --library=HIPPO.buildbin-libdir HIPPO_1.4.0.tar.gz && C:\Users\biocbuild\bbs-3.13-bioc\R\bin\R.exe CMD INSTALL HIPPO_1.4.0.zip && rm HIPPO_1.4.0.tar.gz HIPPO_1.4.0.zip |
| StartedAt: 2021-10-14 08:57:26 -0400 (Thu, 14 Oct 2021) |
| EndedAt: 2021-10-14 08:58:02 -0400 (Thu, 14 Oct 2021) |
| EllapsedTime: 36.1 seconds |
| RetCode: 0 |
| Status: OK |
##############################################################################
##############################################################################
###
### Running command:
###
### C:\cygwin\bin\curl.exe -O http://155.52.207.165/BBS/3.13/bioc/src/contrib/HIPPO_1.4.0.tar.gz && rm -rf HIPPO.buildbin-libdir && mkdir HIPPO.buildbin-libdir && C:\Users\biocbuild\bbs-3.13-bioc\R\bin\R.exe CMD INSTALL --merge-multiarch --build --library=HIPPO.buildbin-libdir HIPPO_1.4.0.tar.gz && C:\Users\biocbuild\bbs-3.13-bioc\R\bin\R.exe CMD INSTALL HIPPO_1.4.0.zip && rm HIPPO_1.4.0.tar.gz HIPPO_1.4.0.zip
###
##############################################################################
##############################################################################
% Total % Received % Xferd Average Speed Time Time Time Current
Dload Upload Total Spent Left Speed
0 0 0 0 0 0 0 0 --:--:-- --:--:-- --:--:-- 0
100 466k 100 466k 0 0 980k 0 --:--:-- --:--:-- --:--:-- 983k
install for i386
* installing *source* package 'HIPPO' ...
** using staged installation
** R
** data
*** moving datasets to lazyload DB
** byte-compile and prepare package for lazy loading
** help
*** installing help indices
converting help for package 'HIPPO'
finding HTML links ... done
ensg_hgnc html
get_data_from_sce html
get_hippo html
get_hippo_diffexp html
hippo html
hippo_diagnostic_plot html
hippo_diffexp html
hippo_dimension_reduction html
hippo_feature_heatmap html
hippo_pca_plot html
hippo_tsne_plot html
hippo_umap_plot html
nb_prob_zero html
pipe html
pois_prob_zero html
preprocess_heterogeneous html
preprocess_homogeneous html
toydata html
zero_proportion_plot html
zinb_prob_zero html
** building package indices
** installing vignettes
** testing if installed package can be loaded from temporary location
** testing if installed package can be loaded from final location
** testing if installed package keeps a record of temporary installation path
install for x64
* installing *source* package 'HIPPO' ...
** testing if installed package can be loaded
* MD5 sums
packaged installation of 'HIPPO' as HIPPO_1.4.0.zip
* DONE (HIPPO)
* installing to library 'C:/Users/biocbuild/bbs-3.13-bioc/R/library'
package 'HIPPO' successfully unpacked and MD5 sums checked