| Back to Multiple platform build/check report for BioC 3.13 |
|
This page was generated on 2021-10-15 15:06:07 -0400 (Fri, 15 Oct 2021).
|
To the developers/maintainers of the HELP package: - Please allow up to 24 hours (and sometimes 48 hours) for your latest push to git@git.bioconductor.org:packages/HELP.git to reflect on this report. See How and When does the builder pull? When will my changes propagate? here for more information. - Make sure to use the following settings in order to reproduce any error or warning you see on this page. |
| Package 850/2041 | Hostname | OS / Arch | INSTALL | BUILD | CHECK | BUILD BIN | ||||||||
| HELP 1.50.0 (landing page) Reid F. Thompson
| nebbiolo1 | Linux (Ubuntu 20.04.2 LTS) / x86_64 | OK | OK | OK | |||||||||
| tokay2 | Windows Server 2012 R2 Standard / x64 | OK | OK | OK | OK | |||||||||
| machv2 | macOS 10.14.6 Mojave / x86_64 | OK | OK | OK | OK | |||||||||
| Package: HELP |
| Version: 1.50.0 |
| Command: C:\cygwin\bin\curl.exe -O http://155.52.207.165/BBS/3.13/bioc/src/contrib/HELP_1.50.0.tar.gz && rm -rf HELP.buildbin-libdir && mkdir HELP.buildbin-libdir && C:\Users\biocbuild\bbs-3.13-bioc\R\bin\R.exe CMD INSTALL --merge-multiarch --build --library=HELP.buildbin-libdir HELP_1.50.0.tar.gz && C:\Users\biocbuild\bbs-3.13-bioc\R\bin\R.exe CMD INSTALL HELP_1.50.0.zip && rm HELP_1.50.0.tar.gz HELP_1.50.0.zip |
| StartedAt: 2021-10-14 07:29:29 -0400 (Thu, 14 Oct 2021) |
| EndedAt: 2021-10-14 07:30:33 -0400 (Thu, 14 Oct 2021) |
| EllapsedTime: 64.1 seconds |
| RetCode: 0 |
| Status: OK |
##############################################################################
##############################################################################
###
### Running command:
###
### C:\cygwin\bin\curl.exe -O http://155.52.207.165/BBS/3.13/bioc/src/contrib/HELP_1.50.0.tar.gz && rm -rf HELP.buildbin-libdir && mkdir HELP.buildbin-libdir && C:\Users\biocbuild\bbs-3.13-bioc\R\bin\R.exe CMD INSTALL --merge-multiarch --build --library=HELP.buildbin-libdir HELP_1.50.0.tar.gz && C:\Users\biocbuild\bbs-3.13-bioc\R\bin\R.exe CMD INSTALL HELP_1.50.0.zip && rm HELP_1.50.0.tar.gz HELP_1.50.0.zip
###
##############################################################################
##############################################################################
% Total % Received % Xferd Average Speed Time Time Time Current
Dload Upload Total Spent Left Speed
0 0 0 0 0 0 0 0 --:--:-- --:--:-- --:--:-- 0
100 282k 100 282k 0 0 832k 0 --:--:-- --:--:-- --:--:-- 836k
install for i386
* installing *source* package 'HELP' ...
** using staged installation
** R
** data
** demo
** inst
** byte-compile and prepare package for lazy loading
** help
*** installing help indices
converting help for package 'HELP'
finding HTML links ... done
base.stacking.thermodynamics html
calcGC-methods html
calcGC html
calcPrototype-methods html
calcPrototype html
calcTm-methods html
calcTm html
combineData-methods html
combineData html
createWiggle-methods html
createWiggle html
exprs2-methods html
exprs2 html
fuzzyMatches-methods html
fuzzyMatches html
getFeatures-methods html
getFeatures html
getSamples-methods html
getSamples html
plotBins-methods html
plotBins html
plotChip-methods html
plotChip html
plotFeature-methods html
plotFeature html
plotPairs-methods html
plotPairs html
quantileNormalize-methods html
quantileNormalize html
readDesign-methods html
readDesign html
readPairs-methods html
readPairs html
readSampleKey html
** building package indices
** installing vignettes
** testing if installed package can be loaded from temporary location
** testing if installed package can be loaded from final location
** testing if installed package keeps a record of temporary installation path
install for x64
* installing *source* package 'HELP' ...
** testing if installed package can be loaded
* MD5 sums
packaged installation of 'HELP' as HELP_1.50.0.zip
* DONE (HELP)
* installing to library 'C:/Users/biocbuild/bbs-3.13-bioc/R/library'
package 'HELP' successfully unpacked and MD5 sums checked