| Back to Multiple platform build/check report for BioC 3.13 |
|
This page was generated on 2021-10-15 15:06:06 -0400 (Fri, 15 Oct 2021).
|
To the developers/maintainers of the GladiaTOX package: - Please allow up to 24 hours (and sometimes 48 hours) for your latest push to git@git.bioconductor.org:packages/GladiaTOX.git to reflect on this report. See How and When does the builder pull? When will my changes propagate? here for more information. - Make sure to use the following settings in order to reproduce any error or warning you see on this page. |
| Package 773/2041 | Hostname | OS / Arch | INSTALL | BUILD | CHECK | BUILD BIN | ||||||||
| GladiaTOX 1.8.0 (landing page) PMP S.A. R Support
| nebbiolo1 | Linux (Ubuntu 20.04.2 LTS) / x86_64 | OK | OK | OK | |||||||||
| tokay2 | Windows Server 2012 R2 Standard / x64 | OK | OK | OK | OK | |||||||||
| machv2 | macOS 10.14.6 Mojave / x86_64 | OK | OK | OK | OK | |||||||||
| Package: GladiaTOX |
| Version: 1.8.0 |
| Command: C:\cygwin\bin\curl.exe -O http://155.52.207.165/BBS/3.13/bioc/src/contrib/GladiaTOX_1.8.0.tar.gz && rm -rf GladiaTOX.buildbin-libdir && mkdir GladiaTOX.buildbin-libdir && C:\Users\biocbuild\bbs-3.13-bioc\R\bin\R.exe CMD INSTALL --merge-multiarch --build --library=GladiaTOX.buildbin-libdir GladiaTOX_1.8.0.tar.gz && C:\Users\biocbuild\bbs-3.13-bioc\R\bin\R.exe CMD INSTALL GladiaTOX_1.8.0.zip && rm GladiaTOX_1.8.0.tar.gz GladiaTOX_1.8.0.zip |
| StartedAt: 2021-10-14 09:29:09 -0400 (Thu, 14 Oct 2021) |
| EndedAt: 2021-10-14 09:30:16 -0400 (Thu, 14 Oct 2021) |
| EllapsedTime: 66.3 seconds |
| RetCode: 0 |
| Status: OK |
##############################################################################
##############################################################################
###
### Running command:
###
### C:\cygwin\bin\curl.exe -O http://155.52.207.165/BBS/3.13/bioc/src/contrib/GladiaTOX_1.8.0.tar.gz && rm -rf GladiaTOX.buildbin-libdir && mkdir GladiaTOX.buildbin-libdir && C:\Users\biocbuild\bbs-3.13-bioc\R\bin\R.exe CMD INSTALL --merge-multiarch --build --library=GladiaTOX.buildbin-libdir GladiaTOX_1.8.0.tar.gz && C:\Users\biocbuild\bbs-3.13-bioc\R\bin\R.exe CMD INSTALL GladiaTOX_1.8.0.zip && rm GladiaTOX_1.8.0.tar.gz GladiaTOX_1.8.0.zip
###
##############################################################################
##############################################################################
% Total % Received % Xferd Average Speed Time Time Time Current
Dload Upload Total Spent Left Speed
0 0 0 0 0 0 0 0 --:--:-- --:--:-- --:--:-- 0
43 2074k 43 892k 0 0 1785k 0 0:00:01 --:--:-- 0:00:01 1784k
100 2074k 100 2074k 0 0 2606k 0 --:--:-- --:--:-- --:--:-- 2606k
install for i386
* installing *source* package 'GladiaTOX' ...
** using staged installation
** R
** inst
** byte-compile and prepare package for lazy loading
** help
*** installing help indices
converting help for package 'GladiaTOX'
finding HTML links ... done
MC2_Methods html
MC3_Methods html
MC5_Methods html
MC6_Methods html
Models html
SC1_Methods html
SC2_Methods html
assay_funcs html
assignDefaultMthds html
blineShift html
buildAssayTab html
config_funcs html
deleteStudy html
exportResultForToxpiGUI html
exportResultTable html
flareFunc html
glComputeToxInd html
glPlotPie html
glPlotPieLogo html
glPlotPosCtrl html
glPlotStat html
glPlotToxInd html
gtoxAICProb html
gtoxAddModel html
gtoxAppend html
gtoxCalcVmad html
gtoxCascade html
gtoxCode2CASN html
gtoxDelete html
gtoxFit html
gtoxImportThermoDB html
gtoxListFlds html
gtoxLoadApid html
gtoxLoadChem html
gtoxLoadClib html
gtoxLoadData html
finding level-2 HTML links ... done
gtoxLoadUnit html
gtoxLoadVehicle html
gtoxLoadVmad html
gtoxLoadWaid html
gtoxMakeAeidPlts html
gtoxPlotErrBar html
gtoxPlotFitc html
gtoxPlotFits html
gtoxPlotM4ID html
gtoxPlotPie html
gtoxPlotPieLgnd html
gtoxPlotPlate html
gtoxPlotWin html
gtoxPrepOtpt html
gtoxReport html
gtoxRun html
gtoxSetWllq html
gtoxSubsetChid html
gtoxWriteData html
hill_utils html
interlaceFunc html
is.odd html
loadAnnot html
lu html
lw html
mc1 html
mc2 html
mc3 html
mc4 html
mc5 html
mc6 html
mthd_funcs html
prepareDatForDB html
query_funcs html
registerMthd html
rgstr_funcs html
sc1 html
sc2 html
sink_reset html
** building package indices
** installing vignettes
** testing if installed package can be loaded from temporary location
** testing if installed package can be loaded from final location
** testing if installed package keeps a record of temporary installation path
install for x64
* installing *source* package 'GladiaTOX' ...
** testing if installed package can be loaded
* MD5 sums
packaged installation of 'GladiaTOX' as GladiaTOX_1.8.0.zip
* DONE (GladiaTOX)
* installing to library 'C:/Users/biocbuild/bbs-3.13-bioc/R/library'
package 'GladiaTOX' successfully unpacked and MD5 sums checked