| Back to Multiple platform build/check report for BioC 3.13 |
|
This page was generated on 2021-10-15 15:06:05 -0400 (Fri, 15 Oct 2021).
|
To the developers/maintainers of the GeneOverlap package: - Please allow up to 24 hours (and sometimes 48 hours) for your latest push to git@git.bioconductor.org:packages/GeneOverlap.git to reflect on this report. See How and When does the builder pull? When will my changes propagate? here for more information. - Make sure to use the following settings in order to reproduce any error or warning you see on this page. |
| Package 719/2041 | Hostname | OS / Arch | INSTALL | BUILD | CHECK | BUILD BIN | ||||||||
| GeneOverlap 1.28.0 (landing page) António Miguel de Jesus Domingues, Max-Planck Institute for Cell Biology and Genetics
| nebbiolo1 | Linux (Ubuntu 20.04.2 LTS) / x86_64 | OK | OK | OK | |||||||||
| tokay2 | Windows Server 2012 R2 Standard / x64 | OK | OK | OK | OK | |||||||||
| machv2 | macOS 10.14.6 Mojave / x86_64 | OK | OK | OK | OK | |||||||||
| Package: GeneOverlap |
| Version: 1.28.0 |
| Command: C:\cygwin\bin\curl.exe -O http://155.52.207.165/BBS/3.13/bioc/src/contrib/GeneOverlap_1.28.0.tar.gz && rm -rf GeneOverlap.buildbin-libdir && mkdir GeneOverlap.buildbin-libdir && C:\Users\biocbuild\bbs-3.13-bioc\R\bin\R.exe CMD INSTALL --merge-multiarch --build --library=GeneOverlap.buildbin-libdir GeneOverlap_1.28.0.tar.gz && C:\Users\biocbuild\bbs-3.13-bioc\R\bin\R.exe CMD INSTALL GeneOverlap_1.28.0.zip && rm GeneOverlap_1.28.0.tar.gz GeneOverlap_1.28.0.zip |
| StartedAt: 2021-10-14 07:03:51 -0400 (Thu, 14 Oct 2021) |
| EndedAt: 2021-10-14 07:04:37 -0400 (Thu, 14 Oct 2021) |
| EllapsedTime: 46.3 seconds |
| RetCode: 0 |
| Status: OK |
##############################################################################
##############################################################################
###
### Running command:
###
### C:\cygwin\bin\curl.exe -O http://155.52.207.165/BBS/3.13/bioc/src/contrib/GeneOverlap_1.28.0.tar.gz && rm -rf GeneOverlap.buildbin-libdir && mkdir GeneOverlap.buildbin-libdir && C:\Users\biocbuild\bbs-3.13-bioc\R\bin\R.exe CMD INSTALL --merge-multiarch --build --library=GeneOverlap.buildbin-libdir GeneOverlap_1.28.0.tar.gz && C:\Users\biocbuild\bbs-3.13-bioc\R\bin\R.exe CMD INSTALL GeneOverlap_1.28.0.zip && rm GeneOverlap_1.28.0.tar.gz GeneOverlap_1.28.0.zip
###
##############################################################################
##############################################################################
% Total % Received % Xferd Average Speed Time Time Time Current
Dload Upload Total Spent Left Speed
0 0 0 0 0 0 0 0 --:--:-- --:--:-- --:--:-- 0
27 163k 27 45689 0 0 291k 0 --:--:-- --:--:-- --:--:-- 291k
100 163k 100 163k 0 0 720k 0 --:--:-- --:--:-- --:--:-- 719k
install for i386
* installing *source* package 'GeneOverlap' ...
** using staged installation
Warning in .write_description(db, file.path(outDir, "DESCRIPTION")) :
Unknown encoding with non-ASCII data: converting to ASCII
** R
** data
** inst
** byte-compile and prepare package for lazy loading
** help
*** installing help indices
converting help for package 'GeneOverlap'
finding HTML links ... done
GeneOverlap-package html
GeneOverlap html
GeneOverlapMatrix html
drawHeatmap html
getGenomeSize html
getList html
getReadonly html
getReadonlyMatrix html
gs.RNASeq html
hESC.ChIPSeq.list html
hESC.RNASeq.list html
newGOM html
newGeneOverlap html
testGeneOverlap html
** building package indices
** installing vignettes
** testing if installed package can be loaded from temporary location
** testing if installed package can be loaded from final location
** testing if installed package keeps a record of temporary installation path
install for x64
* installing *source* package 'GeneOverlap' ...
** testing if installed package can be loaded
* MD5 sums
packaged installation of 'GeneOverlap' as GeneOverlap_1.28.0.zip
* DONE (GeneOverlap)
* installing to library 'C:/Users/biocbuild/bbs-3.13-bioc/R/library'
package 'GeneOverlap' successfully unpacked and MD5 sums checked