| Back to Multiple platform build/check report for BioC 3.13 | 
 | 
This page was generated on 2021-10-15 15:06:07 -0400 (Fri, 15 Oct 2021).
| To the developers/maintainers of the GSEABenchmarkeR package: - Please allow up to 24 hours (and sometimes 48 hours) for your latest push to git@git.bioconductor.org:packages/GSEABenchmarkeR.git to reflect on this report. See How and When does the builder pull? When will my changes propagate? here for more information. - Make sure to use the following settings in order to reproduce any error or warning you see on this page. | 
| Package 820/2041 | Hostname | OS / Arch | INSTALL | BUILD | CHECK | BUILD BIN | ||||||||
| GSEABenchmarkeR 1.12.1  (landing page) Ludwig Geistlinger 
 | nebbiolo1 | Linux (Ubuntu 20.04.2 LTS) / x86_64 | OK | OK | OK |  | ||||||||
| tokay2 | Windows Server 2012 R2 Standard / x64 | OK | OK | OK | OK |  | ||||||||
| machv2 | macOS 10.14.6 Mojave / x86_64 | OK | OK | OK | OK |  | ||||||||
| Package: GSEABenchmarkeR | 
| Version: 1.12.1 | 
| Command: C:\Users\biocbuild\bbs-3.13-bioc\R\bin\R.exe CMD check --force-multiarch --install=check:GSEABenchmarkeR.install-out.txt --library=C:\Users\biocbuild\bbs-3.13-bioc\R\library --no-vignettes --timings GSEABenchmarkeR_1.12.1.tar.gz | 
| StartedAt: 2021-10-15 00:09:04 -0400 (Fri, 15 Oct 2021) | 
| EndedAt: 2021-10-15 00:16:04 -0400 (Fri, 15 Oct 2021) | 
| EllapsedTime: 419.9 seconds | 
| RetCode: 0 | 
| Status: OK | 
| CheckDir: GSEABenchmarkeR.Rcheck | 
| Warnings: 0 | 
##############################################################################
##############################################################################
###
### Running command:
###
###   C:\Users\biocbuild\bbs-3.13-bioc\R\bin\R.exe CMD check --force-multiarch --install=check:GSEABenchmarkeR.install-out.txt --library=C:\Users\biocbuild\bbs-3.13-bioc\R\library --no-vignettes --timings GSEABenchmarkeR_1.12.1.tar.gz
###
##############################################################################
##############################################################################
* using log directory 'C:/Users/biocbuild/bbs-3.13-bioc/meat/GSEABenchmarkeR.Rcheck'
* using R version 4.1.1 (2021-08-10)
* using platform: x86_64-w64-mingw32 (64-bit)
* using session charset: ISO8859-1
* using option '--no-vignettes'
* checking for file 'GSEABenchmarkeR/DESCRIPTION' ... OK
* checking extension type ... Package
* this is package 'GSEABenchmarkeR' version '1.12.1'
* package encoding: UTF-8
* checking package namespace information ... OK
* checking package dependencies ... OK
* checking if this is a source package ... OK
* checking if there is a namespace ... OK
* checking for hidden files and directories ... OK
* checking for portable file names ... OK
* checking whether package 'GSEABenchmarkeR' can be installed ... OK
* checking installed package size ... OK
* checking package directory ... OK
* checking 'build' directory ... OK
* checking DESCRIPTION meta-information ... OK
* checking top-level files ... OK
* checking for left-over files ... OK
* checking index information ... OK
* checking package subdirectories ... OK
* checking R files for non-ASCII characters ... OK
* checking R files for syntax errors ... OK
* loading checks for arch 'i386'
** checking whether the package can be loaded ... OK
** checking whether the package can be loaded with stated dependencies ... OK
** checking whether the package can be unloaded cleanly ... OK
** checking whether the namespace can be loaded with stated dependencies ... OK
** checking whether the namespace can be unloaded cleanly ... OK
* loading checks for arch 'x64'
** checking whether the package can be loaded ... OK
** checking whether the package can be loaded with stated dependencies ... OK
** checking whether the package can be unloaded cleanly ... OK
** checking whether the namespace can be loaded with stated dependencies ... OK
** checking whether the namespace can be unloaded cleanly ... OK
* checking dependencies in R code ... OK
* checking S3 generic/method consistency ... OK
* checking replacement functions ... OK
* checking foreign function calls ... OK
* checking R code for possible problems ... NOTE
evalRelevance: no visible binding for global variable 'REL.SCORE'
Undefined global functions or variables:
  REL.SCORE
* checking Rd files ... OK
* checking Rd metadata ... OK
* checking Rd cross-references ... OK
* checking for missing documentation entries ... OK
* checking for code/documentation mismatches ... OK
* checking Rd \usage sections ... OK
* checking Rd contents ... OK
* checking for unstated dependencies in examples ... OK
* checking files in 'vignettes' ... OK
* checking examples ...
** running examples for arch 'i386' ... OK
Examples with CPU (user + system) or elapsed time > 5s
                user system elapsed
loadEData      31.79   3.73   38.03
evalTypeIError 21.89   0.45   22.50
runEA          13.51   0.24   17.26
evalRandomGS    9.14   0.50   12.86
maPreproc       4.33   0.55    5.92
cacheResource   3.69   0.72    5.09
** running examples for arch 'x64' ... OK
Examples with CPU (user + system) or elapsed time > 5s
                user system elapsed
loadEData      28.38   3.67   40.72
evalTypeIError 30.75   0.37   32.21
runEA          15.31   0.19   15.95
evalRandomGS    7.72   0.29    8.19
maPreproc       3.86   0.85    5.35
* checking for unstated dependencies in vignettes ... OK
* checking package vignettes in 'inst/doc' ... OK
* checking running R code from vignettes ... SKIPPED
* checking re-building of vignette outputs ... SKIPPED
* checking PDF version of manual ... OK
* DONE
Status: 1 NOTE
See
  'C:/Users/biocbuild/bbs-3.13-bioc/meat/GSEABenchmarkeR.Rcheck/00check.log'
for details.
GSEABenchmarkeR.Rcheck/00install.out
##############################################################################
##############################################################################
###
### Running command:
###
###   C:\cygwin\bin\curl.exe -O http://155.52.207.165/BBS/3.13/bioc/src/contrib/GSEABenchmarkeR_1.12.1.tar.gz && rm -rf GSEABenchmarkeR.buildbin-libdir && mkdir GSEABenchmarkeR.buildbin-libdir && C:\Users\biocbuild\bbs-3.13-bioc\R\bin\R.exe CMD INSTALL --merge-multiarch --build --library=GSEABenchmarkeR.buildbin-libdir GSEABenchmarkeR_1.12.1.tar.gz && C:\Users\biocbuild\bbs-3.13-bioc\R\bin\R.exe CMD INSTALL GSEABenchmarkeR_1.12.1.zip && rm GSEABenchmarkeR_1.12.1.tar.gz GSEABenchmarkeR_1.12.1.zip
###
##############################################################################
##############################################################################
  % Total    % Received % Xferd  Average Speed   Time    Time     Time  Current
                                 Dload  Upload   Total   Spent    Left  Speed
  0     0    0     0    0     0      0      0 --:--:-- --:--:-- --:--:--     0
100  298k  100  298k    0     0  1289k      0 --:--:-- --:--:-- --:--:-- 1294k
install for i386
* installing *source* package 'GSEABenchmarkeR' ...
** using staged installation
** R
** inst
** byte-compile and prepare package for lazy loading
** help
*** installing help indices
  converting help for package 'GSEABenchmarkeR'
    finding HTML links ... done
    bpPlot                                  html  
    cacheResource                           html  
    finding level-2 HTML links ... done
    evalNrSigSets                           html  
    evalRandomGS                            html  
    evalRelevance                           html  
    evalTypeIError                          html  
    loadEData                               html  
    maPreproc                               html  
    readDataId2diseaseCodeMap               html  
    readResults                             html  
    runDE                                   html  
    runEA                                   html  
** building package indices
** installing vignettes
** testing if installed package can be loaded from temporary location
** testing if installed package can be loaded from final location
** testing if installed package keeps a record of temporary installation path
install for x64
* installing *source* package 'GSEABenchmarkeR' ...
** testing if installed package can be loaded
* MD5 sums
packaged installation of 'GSEABenchmarkeR' as GSEABenchmarkeR_1.12.1.zip
* DONE (GSEABenchmarkeR)
* installing to library 'C:/Users/biocbuild/bbs-3.13-bioc/R/library'
package 'GSEABenchmarkeR' successfully unpacked and MD5 sums checked
| GSEABenchmarkeR.Rcheck/examples_i386/GSEABenchmarkeR-Ex.timings 
 | GSEABenchmarkeR.Rcheck/examples_x64/GSEABenchmarkeR-Ex.timings 
 |