| Back to Multiple platform build/check report for BioC 3.13 |
|
This page was generated on 2021-10-15 15:06:07 -0400 (Fri, 15 Oct 2021).
|
To the developers/maintainers of the GSALightning package: - Please allow up to 24 hours (and sometimes 48 hours) for your latest push to git@git.bioconductor.org:packages/GSALightning.git to reflect on this report. See How and When does the builder pull? When will my changes propagate? here for more information. - Make sure to use the following settings in order to reproduce any error or warning you see on this page. |
| Package 815/2041 | Hostname | OS / Arch | INSTALL | BUILD | CHECK | BUILD BIN | ||||||||
| GSALightning 1.20.0 (landing page) Billy Heung Wing Chang
| nebbiolo1 | Linux (Ubuntu 20.04.2 LTS) / x86_64 | OK | OK | OK | |||||||||
| tokay2 | Windows Server 2012 R2 Standard / x64 | OK | OK | OK | OK | |||||||||
| machv2 | macOS 10.14.6 Mojave / x86_64 | OK | OK | OK | OK | |||||||||
| Package: GSALightning |
| Version: 1.20.0 |
| Command: C:\cygwin\bin\curl.exe -O http://155.52.207.165/BBS/3.13/bioc/src/contrib/GSALightning_1.20.0.tar.gz && rm -rf GSALightning.buildbin-libdir && mkdir GSALightning.buildbin-libdir && C:\Users\biocbuild\bbs-3.13-bioc\R\bin\R.exe CMD INSTALL --merge-multiarch --build --library=GSALightning.buildbin-libdir GSALightning_1.20.0.tar.gz && C:\Users\biocbuild\bbs-3.13-bioc\R\bin\R.exe CMD INSTALL GSALightning_1.20.0.zip && rm GSALightning_1.20.0.tar.gz GSALightning_1.20.0.zip |
| StartedAt: 2021-10-14 07:00:17 -0400 (Thu, 14 Oct 2021) |
| EndedAt: 2021-10-14 07:01:19 -0400 (Thu, 14 Oct 2021) |
| EllapsedTime: 62.1 seconds |
| RetCode: 0 |
| Status: OK |
##############################################################################
##############################################################################
###
### Running command:
###
### C:\cygwin\bin\curl.exe -O http://155.52.207.165/BBS/3.13/bioc/src/contrib/GSALightning_1.20.0.tar.gz && rm -rf GSALightning.buildbin-libdir && mkdir GSALightning.buildbin-libdir && C:\Users\biocbuild\bbs-3.13-bioc\R\bin\R.exe CMD INSTALL --merge-multiarch --build --library=GSALightning.buildbin-libdir GSALightning_1.20.0.tar.gz && C:\Users\biocbuild\bbs-3.13-bioc\R\bin\R.exe CMD INSTALL GSALightning_1.20.0.zip && rm GSALightning_1.20.0.tar.gz GSALightning_1.20.0.zip
###
##############################################################################
##############################################################################
% Total % Received % Xferd Average Speed Time Time Time Current
Dload Upload Total Spent Left Speed
0 0 0 0 0 0 0 0 --:--:-- --:--:-- --:--:-- 0
5 4013k 5 221k 0 0 723k 0 0:00:05 --:--:-- 0:00:05 723k
100 4013k 100 4013k 0 0 5858k 0 --:--:-- --:--:-- --:--:-- 5859k
install for i386
* installing *source* package 'GSALightning' ...
** using staged installation
** R
** data
** inst
** byte-compile and prepare package for lazy loading
** help
*** installing help indices
converting help for package 'GSALightning'
finding HTML links ... done
GSALight html
GSALightning-package html
expression html
permTestLight html
sampleInfo html
targetGenes html
wilcoxTest html
** building package indices
** installing vignettes
** testing if installed package can be loaded from temporary location
** testing if installed package can be loaded from final location
** testing if installed package keeps a record of temporary installation path
install for x64
* installing *source* package 'GSALightning' ...
** testing if installed package can be loaded
* MD5 sums
packaged installation of 'GSALightning' as GSALightning_1.20.0.zip
* DONE (GSALightning)
* installing to library 'C:/Users/biocbuild/bbs-3.13-bioc/R/library'
package 'GSALightning' successfully unpacked and MD5 sums checked