| Back to Multiple platform build/check report for BioC 3.13 | 
 | 
This page was generated on 2021-10-15 15:06:06 -0400 (Fri, 15 Oct 2021).
| To the developers/maintainers of the GMRP package: - Please allow up to 24 hours (and sometimes 48 hours) for your latest push to git@git.bioconductor.org:packages/GMRP.git to reflect on this report. See How and When does the builder pull? When will my changes propagate? here for more information. - Make sure to use the following settings in order to reproduce any error or warning you see on this page. | 
| Package 783/2041 | Hostname | OS / Arch | INSTALL | BUILD | CHECK | BUILD BIN | ||||||||
| GMRP 1.20.0  (landing page) Yuan-De Tan 
 | nebbiolo1 | Linux (Ubuntu 20.04.2 LTS) / x86_64 | OK | OK | WARNINGS |  | ||||||||
| tokay2 | Windows Server 2012 R2 Standard / x64 | OK | OK | WARNINGS | OK |  | ||||||||
| machv2 | macOS 10.14.6 Mojave / x86_64 | OK | OK | WARNINGS | OK |  | ||||||||
| Package: GMRP | 
| Version: 1.20.0 | 
| Command: C:\cygwin\bin\curl.exe -O http://155.52.207.165/BBS/3.13/bioc/src/contrib/GMRP_1.20.0.tar.gz && rm -rf GMRP.buildbin-libdir && mkdir GMRP.buildbin-libdir && C:\Users\biocbuild\bbs-3.13-bioc\R\bin\R.exe CMD INSTALL --merge-multiarch --build --library=GMRP.buildbin-libdir GMRP_1.20.0.tar.gz && C:\Users\biocbuild\bbs-3.13-bioc\R\bin\R.exe CMD INSTALL GMRP_1.20.0.zip && rm GMRP_1.20.0.tar.gz GMRP_1.20.0.zip | 
| StartedAt: 2021-10-14 07:43:47 -0400 (Thu, 14 Oct 2021) | 
| EndedAt: 2021-10-14 07:44:43 -0400 (Thu, 14 Oct 2021) | 
| EllapsedTime: 56.4 seconds | 
| RetCode: 0 | 
| Status: OK | 
##############################################################################
##############################################################################
###
### Running command:
###
###   C:\cygwin\bin\curl.exe -O http://155.52.207.165/BBS/3.13/bioc/src/contrib/GMRP_1.20.0.tar.gz && rm -rf GMRP.buildbin-libdir && mkdir GMRP.buildbin-libdir && C:\Users\biocbuild\bbs-3.13-bioc\R\bin\R.exe CMD INSTALL --merge-multiarch --build --library=GMRP.buildbin-libdir GMRP_1.20.0.tar.gz && C:\Users\biocbuild\bbs-3.13-bioc\R\bin\R.exe CMD INSTALL GMRP_1.20.0.zip && rm GMRP_1.20.0.tar.gz GMRP_1.20.0.zip
###
##############################################################################
##############################################################################
  % Total    % Received % Xferd  Average Speed   Time    Time     Time  Current
                                 Dload  Upload   Total   Spent    Left  Speed
  0     0    0     0    0     0      0      0 --:--:-- --:--:-- --:--:--     0
  0     0    0     0    0     0      0      0 --:--:-- --:--:-- --:--:--     0
100  375k  100  375k    0     0  1414k      0 --:--:-- --:--:-- --:--:-- 1416k
install for i386
* installing *source* package 'GMRP' ...
** using staged installation
** R
** data
** inst
** byte-compile and prepare package for lazy loading
Warning: replacing previous import 'grDevices::windows' by 'GenomicRanges::windows' when loading 'GMRP'
** help
*** installing help indices
  converting help for package 'GMRP'
    finding HTML links ... done
    GMRP-package                            html  
    SNP358.data                             html  
    SNP368annot.data                        html  
    beta.data                               html  
    cad.data                                html  
    chrp                                    html  
    fmerge                                  html  
    lpd.data                                html  
    mktable                                 html  
    path                                    html  
    pathdiagram                             html  
    pathdiagram2                            html  
    snpPositAnnot                           html  
    ucscannot                               html  
** building package indices
** installing vignettes
   'GMRP.Rnw' 
** testing if installed package can be loaded from temporary location
Warning: replacing previous import 'grDevices::windows' by 'GenomicRanges::windows' when loading 'GMRP'
Warning: Package 'GMRP' is deprecated and will be removed from Bioconductor
  version 3.7
** testing if installed package can be loaded from final location
Warning: replacing previous import 'grDevices::windows' by 'GenomicRanges::windows' when loading 'GMRP'
Warning: Package 'GMRP' is deprecated and will be removed from Bioconductor
  version 3.7
** testing if installed package keeps a record of temporary installation path
install for x64
* installing *source* package 'GMRP' ...
** testing if installed package can be loaded
Warning: replacing previous import 'grDevices::windows' by 'GenomicRanges::windows' when loading 'GMRP'
Warning: Package 'GMRP' is deprecated and will be removed from Bioconductor
  version 3.7
* MD5 sums
packaged installation of 'GMRP' as GMRP_1.20.0.zip
* DONE (GMRP)
* installing to library 'C:/Users/biocbuild/bbs-3.13-bioc/R/library'
package 'GMRP' successfully unpacked and MD5 sums checked