| Back to Multiple platform build/check report for BioC 3.13 |
|
This page was generated on 2021-10-15 15:06:06 -0400 (Fri, 15 Oct 2021).
|
To the developers/maintainers of the GEOfastq package: - Please allow up to 24 hours (and sometimes 48 hours) for your latest push to git@git.bioconductor.org:packages/GEOfastq.git to reflect on this report. See How and When does the builder pull? When will my changes propagate? here for more information. - Make sure to use the following settings in order to reproduce any error or warning you see on this page. |
| Package 754/2041 | Hostname | OS / Arch | INSTALL | BUILD | CHECK | BUILD BIN | ||||||||
| GEOfastq 1.0.0 (landing page) Alex Pickering
| nebbiolo1 | Linux (Ubuntu 20.04.2 LTS) / x86_64 | OK | OK | OK | |||||||||
| tokay2 | Windows Server 2012 R2 Standard / x64 | OK | OK | OK | OK | |||||||||
| machv2 | macOS 10.14.6 Mojave / x86_64 | OK | OK | OK | OK | |||||||||
| Package: GEOfastq |
| Version: 1.0.0 |
| Command: rm -rf GEOfastq.buildbin-libdir && mkdir GEOfastq.buildbin-libdir && C:\Users\biocbuild\bbs-3.13-bioc\R\bin\R.exe CMD INSTALL --merge-multiarch --build --library=GEOfastq.buildbin-libdir GEOfastq_1.0.0.tar.gz |
| StartedAt: 2021-10-15 09:34:27 -0400 (Fri, 15 Oct 2021) |
| EndedAt: 2021-10-15 09:36:00 -0400 (Fri, 15 Oct 2021) |
| EllapsedTime: 92.6 seconds |
| RetCode: 0 |
| Status: OK |
| PackageFile: GEOfastq_1.0.0.zip |
| PackageFileSize: 49.43 KiB |
##############################################################################
##############################################################################
###
### Running command:
###
### rm -rf GEOfastq.buildbin-libdir && mkdir GEOfastq.buildbin-libdir && C:\Users\biocbuild\bbs-3.13-bioc\R\bin\R.exe CMD INSTALL --merge-multiarch --build --library=GEOfastq.buildbin-libdir GEOfastq_1.0.0.tar.gz
###
##############################################################################
##############################################################################
install for i386
* installing *source* package 'GEOfastq' ...
** using staged installation
** R
** inst
** byte-compile and prepare package for lazy loading
** help
*** installing help indices
converting help for package 'GEOfastq'
finding HTML links ... done
ascpR html
crawl_gse html
crawl_gsms html
extract_gsms html
get_dldir html
get_ebi_fastqs html
get_fastqs html
** building package indices
** installing vignettes
** testing if installed package can be loaded from temporary location
** testing if installed package can be loaded from final location
** testing if installed package keeps a record of temporary installation path
install for x64
* installing *source* package 'GEOfastq' ...
** testing if installed package can be loaded
* MD5 sums
packaged installation of 'GEOfastq' as GEOfastq_1.0.0.zip
* DONE (GEOfastq)