| Back to Multiple platform build/check report for BioC 3.13 |
|
This page was generated on 2021-10-15 15:06:05 -0400 (Fri, 15 Oct 2021).
|
To the developers/maintainers of the GEM package: - Please allow up to 24 hours (and sometimes 48 hours) for your latest push to git@git.bioconductor.org:packages/GEM.git to reflect on this report. See How and When does the builder pull? When will my changes propagate? here for more information. - Make sure to use the following settings in order to reproduce any error or warning you see on this page. |
| Package 703/2041 | Hostname | OS / Arch | INSTALL | BUILD | CHECK | BUILD BIN | ||||||||
| GEM 1.18.0 (landing page) Hong Pan
| nebbiolo1 | Linux (Ubuntu 20.04.2 LTS) / x86_64 | OK | OK | OK | |||||||||
| tokay2 | Windows Server 2012 R2 Standard / x64 | OK | OK | OK | OK | |||||||||
| machv2 | macOS 10.14.6 Mojave / x86_64 | OK | OK | OK | OK | |||||||||
| Package: GEM |
| Version: 1.18.0 |
| Command: rm -rf GEM.buildbin-libdir && mkdir GEM.buildbin-libdir && C:\Users\biocbuild\bbs-3.13-bioc\R\bin\R.exe CMD INSTALL --merge-multiarch --build --library=GEM.buildbin-libdir GEM_1.18.0.tar.gz |
| StartedAt: 2021-10-15 09:27:41 -0400 (Fri, 15 Oct 2021) |
| EndedAt: 2021-10-15 09:28:57 -0400 (Fri, 15 Oct 2021) |
| EllapsedTime: 76.4 seconds |
| RetCode: 0 |
| Status: OK |
| PackageFile: GEM_1.18.0.zip |
| PackageFileSize: 580 KiB |
##############################################################################
##############################################################################
###
### Running command:
###
### rm -rf GEM.buildbin-libdir && mkdir GEM.buildbin-libdir && C:\Users\biocbuild\bbs-3.13-bioc\R\bin\R.exe CMD INSTALL --merge-multiarch --build --library=GEM.buildbin-libdir GEM_1.18.0.tar.gz
###
##############################################################################
##############################################################################
install for i386
* installing *source* package 'GEM' ...
** using staged installation
** R
** inst
** byte-compile and prepare package for lazy loading
** help
*** installing help indices
converting help for package 'GEM'
finding HTML links ... done
GEM-package html
GEM_Emodel html
GEM_GUI html
GEM_GWASmodel html
GEM_Gmodel html
GEM_GxEmodel html
SlicedData-class html
REDIRECT:topic Previous alias or file overwritten by alias: C:/Users/biocbuild/bbs-3.13-bioc/meat/GEM.buildbin-libdir/00LOCK-GEM/00new/GEM/help/NCOL+2CSlicedData-method.html
REDIRECT:topic Previous alias or file overwritten by alias: C:/Users/biocbuild/bbs-3.13-bioc/meat/GEM.buildbin-libdir/00LOCK-GEM/00new/GEM/help/NROW+2CSlicedData-method.html
** building package indices
** installing vignettes
** testing if installed package can be loaded from temporary location
** testing if installed package can be loaded from final location
** testing if installed package keeps a record of temporary installation path
install for x64
* installing *source* package 'GEM' ...
** testing if installed package can be loaded
* MD5 sums
packaged installation of 'GEM' as GEM_1.18.0.zip
* DONE (GEM)