| Back to Multiple platform build/check report for BioC 3.13 |
|
This page was generated on 2021-10-15 15:06:05 -0400 (Fri, 15 Oct 2021).
|
To the developers/maintainers of the GDCRNATools package: - Please allow up to 24 hours (and sometimes 48 hours) for your latest push to git@git.bioconductor.org:packages/GDCRNATools.git to reflect on this report. See How and When does the builder pull? When will my changes propagate? here for more information. - Make sure to use the following settings in order to reproduce any error or warning you see on this page. |
| Package 700/2041 | Hostname | OS / Arch | INSTALL | BUILD | CHECK | BUILD BIN | ||||||||
| GDCRNATools 1.13.1 (landing page) Ruidong Li
| nebbiolo1 | Linux (Ubuntu 20.04.2 LTS) / x86_64 | OK | OK | OK | |||||||||
| tokay2 | Windows Server 2012 R2 Standard / x64 | OK | OK | OK | OK | |||||||||
| machv2 | macOS 10.14.6 Mojave / x86_64 | OK | OK | OK | OK | |||||||||
| Package: GDCRNATools |
| Version: 1.13.1 |
| Command: C:\cygwin\bin\curl.exe -O http://155.52.207.165/BBS/3.13/bioc/src/contrib/GDCRNATools_1.13.1.tar.gz && rm -rf GDCRNATools.buildbin-libdir && mkdir GDCRNATools.buildbin-libdir && C:\Users\biocbuild\bbs-3.13-bioc\R\bin\R.exe CMD INSTALL --merge-multiarch --build --library=GDCRNATools.buildbin-libdir GDCRNATools_1.13.1.tar.gz && C:\Users\biocbuild\bbs-3.13-bioc\R\bin\R.exe CMD INSTALL GDCRNATools_1.13.1.zip && rm GDCRNATools_1.13.1.tar.gz GDCRNATools_1.13.1.zip |
| StartedAt: 2021-10-14 11:08:05 -0400 (Thu, 14 Oct 2021) |
| EndedAt: 2021-10-14 11:09:34 -0400 (Thu, 14 Oct 2021) |
| EllapsedTime: 88.4 seconds |
| RetCode: 0 |
| Status: OK |
##############################################################################
##############################################################################
###
### Running command:
###
### C:\cygwin\bin\curl.exe -O http://155.52.207.165/BBS/3.13/bioc/src/contrib/GDCRNATools_1.13.1.tar.gz && rm -rf GDCRNATools.buildbin-libdir && mkdir GDCRNATools.buildbin-libdir && C:\Users\biocbuild\bbs-3.13-bioc\R\bin\R.exe CMD INSTALL --merge-multiarch --build --library=GDCRNATools.buildbin-libdir GDCRNATools_1.13.1.tar.gz && C:\Users\biocbuild\bbs-3.13-bioc\R\bin\R.exe CMD INSTALL GDCRNATools_1.13.1.zip && rm GDCRNATools_1.13.1.tar.gz GDCRNATools_1.13.1.zip
###
##############################################################################
##############################################################################
% Total % Received % Xferd Average Speed Time Time Time Current
Dload Upload Total Spent Left Speed
0 0 0 0 0 0 0 0 --:--:-- --:--:-- --:--:-- 0
20 3963k 20 814k 0 0 1535k 0 0:00:02 --:--:-- 0:00:02 1534k
94 3963k 94 3760k 0 0 2480k 0 0:00:01 0:00:01 --:--:-- 2480k
100 3963k 100 3963k 0 0 2538k 0 0:00:01 0:00:01 --:--:-- 2539k
install for i386
* installing *source* package 'GDCRNATools' ...
** using staged installation
** R
** data
** inst
** byte-compile and prepare package for lazy loading
** help
*** installing help indices
converting help for package 'GDCRNATools'
finding HTML links ... done
DEGAll html
GDCRNATools-package html
enrichOutput html
gdcBarPlot html
gdcCEAnalysis html
gdcClinicalDownload html
gdcClinicalMerge html
gdcCorPlot html
gdcDEAnalysis html
gdcDEReport html
gdcEnrichAnalysis html
gdcEnrichPlot html
gdcExportNetwork html
gdcFilterDuplicate html
gdcFilterSampleType html
gdcHeatmap html
gdcKMPlot html
gdcMatchSamples html
gdcParseMetadata html
gdcRNADownload html
gdcRNAMerge html
gdcSurvivalAnalysis html
gdcVolcanoPlot html
gdcVoomNormalization html
lncTarget html
mirCounts html
pcTarget html
rnaCounts html
shinyCorPlot html
shinyKMPlot html
shinyPathview html
** building package indices
** installing vignettes
** testing if installed package can be loaded from temporary location
** testing if installed package can be loaded from final location
** testing if installed package keeps a record of temporary installation path
install for x64
* installing *source* package 'GDCRNATools' ...
** testing if installed package can be loaded
* MD5 sums
packaged installation of 'GDCRNATools' as GDCRNATools_1.13.1.zip
* DONE (GDCRNATools)
* installing to library 'C:/Users/biocbuild/bbs-3.13-bioc/R/library'
package 'GDCRNATools' successfully unpacked and MD5 sums checked