| Back to Multiple platform build/check report for BioC 3.13 |
|
This page was generated on 2021-10-15 15:06:05 -0400 (Fri, 15 Oct 2021).
|
To the developers/maintainers of the FScanR package: - Please allow up to 24 hours (and sometimes 48 hours) for your latest push to git@git.bioconductor.org:packages/FScanR.git to reflect on this report. See How and When does the builder pull? When will my changes propagate? here for more information. - Make sure to use the following settings in order to reproduce any error or warning you see on this page. |
| Package 679/2041 | Hostname | OS / Arch | INSTALL | BUILD | CHECK | BUILD BIN | ||||||||
| FScanR 1.2.0 (landing page) Xiao Chen
| nebbiolo1 | Linux (Ubuntu 20.04.2 LTS) / x86_64 | OK | OK | OK | |||||||||
| tokay2 | Windows Server 2012 R2 Standard / x64 | OK | OK | OK | OK | |||||||||
| machv2 | macOS 10.14.6 Mojave / x86_64 | OK | OK | OK | OK | |||||||||
| Package: FScanR |
| Version: 1.2.0 |
| Command: rm -rf FScanR.buildbin-libdir && mkdir FScanR.buildbin-libdir && C:\Users\biocbuild\bbs-3.13-bioc\R\bin\R.exe CMD INSTALL --merge-multiarch --build --library=FScanR.buildbin-libdir FScanR_1.2.0.tar.gz |
| StartedAt: 2021-10-15 09:24:21 -0400 (Fri, 15 Oct 2021) |
| EndedAt: 2021-10-15 09:25:35 -0400 (Fri, 15 Oct 2021) |
| EllapsedTime: 73.3 seconds |
| RetCode: 0 |
| Status: OK |
| PackageFile: FScanR_1.2.0.zip |
| PackageFileSize: 917.4 KiB |
##############################################################################
##############################################################################
###
### Running command:
###
### rm -rf FScanR.buildbin-libdir && mkdir FScanR.buildbin-libdir && C:\Users\biocbuild\bbs-3.13-bioc\R\bin\R.exe CMD INSTALL --merge-multiarch --build --library=FScanR.buildbin-libdir FScanR_1.2.0.tar.gz
###
##############################################################################
##############################################################################
install for i386
* installing *source* package 'FScanR' ...
** using staged installation
** R
** inst
** byte-compile and prepare package for lazy loading
** help
*** installing help indices
converting help for package 'FScanR'
finding HTML links ... done
FScanR html
** building package indices
** installing vignettes
** testing if installed package can be loaded from temporary location
** testing if installed package can be loaded from final location
** testing if installed package keeps a record of temporary installation path
install for x64
* installing *source* package 'FScanR' ...
** testing if installed package can be loaded
* MD5 sums
packaged installation of 'FScanR' as FScanR_1.2.0.zip
* DONE (FScanR)